BEGIN:VCALENDAR
VERSION:2.0
PRODID:-//Tarnowskie Centrum Informacji - ECPv6.13.2.1//NONSGML v1.0//EN
CALSCALE:GREGORIAN
METHOD:PUBLISH
X-WR-CALNAME:Tarnowskie Centrum Informacji
X-ORIGINAL-URL:https://www.it.tarnow.pl
X-WR-CALDESC:Wydarzenia z
REFRESH-INTERVAL;VALUE=DURATION:PT1H
X-Robots-Tag:noindex
X-PUBLISHED-TTL:PT1H
BEGIN:VTIMEZONE
TZID:Europe/Warsaw
BEGIN:DAYLIGHT
TZOFFSETFROM:+0100
TZOFFSETTO:+0200
TZNAME:CEST
DTSTART:20260329T010000
END:DAYLIGHT
BEGIN:STANDARD
TZOFFSETFROM:+0200
TZOFFSETTO:+0100
TZNAME:CET
DTSTART:20261025T010000
END:STANDARD
END:VTIMEZONE
BEGIN:VEVENT
DTSTART;TZID=Europe/Warsaw:20260504T120000
DTEND;TZID=Europe/Warsaw:20260504T200000
DTSTAMP:20260423T221841
CREATED:20260422T072209Z
LAST-MODIFIED:20260422T072209Z
UID:10043945-1777896000-1777924800@www.it.tarnow.pl
SUMMARY:"Portrety" - wystawa fotografii Macieja Jerzego Koby
DESCRIPTION:Szczegóły \n\n	\n 10.04 – 10.05.2026 \n\n\n\n	\n korytarz\, przy sali baletowej \n\n\nBilety \n\n	\n wstęp wolny \n\n	\nWernisaż i oprowadzanie: 10 kwietnia\, godz. 17:30 \n\n\nWystawa jest dostępna w holu na parterze. \nWystawa portretów Jerzego Macieja Koby pokazuje artystę\, który traktuje fotografię nie jako szybki zapis wizerunku\, lecz jako świadomie budowaną relację między światłem\, osobowością modela i kompozycją obrazu. 
URL:https://www.it.tarnow.pl/wydarzenie/portrety-wystawa-fotografii-macieja-jerzego-koby/2026-05-04/
LOCATION:Centrum Sztuki Mościce
CATEGORIES:wystawy i wernisaże
ATTACH;FMTTYPE=image/jpeg:https://www.it.tarnow.pl/wp-content/uploads/2026/04/KOBA-internet-69cbac2ce1b55.jpg
END:VEVENT
BEGIN:VEVENT
DTSTART;TZID=Europe/Warsaw:20260505T120000
DTEND;TZID=Europe/Warsaw:20260505T200000
DTSTAMP:20260423T221841
CREATED:20260422T072209Z
LAST-MODIFIED:20260422T072209Z
UID:10043946-1777982400-1778011200@www.it.tarnow.pl
SUMMARY:"Portrety" - wystawa fotografii Macieja Jerzego Koby
DESCRIPTION:Szczegóły \n\n	\n 10.04 – 10.05.2026 \n\n\n\n	\n korytarz\, przy sali baletowej \n\n\nBilety \n\n	\n wstęp wolny \n\n	\nWernisaż i oprowadzanie: 10 kwietnia\, godz. 17:30 \n\n\nWystawa jest dostępna w holu na parterze. \nWystawa portretów Jerzego Macieja Koby pokazuje artystę\, który traktuje fotografię nie jako szybki zapis wizerunku\, lecz jako świadomie budowaną relację między światłem\, osobowością modela i kompozycją obrazu. 
URL:https://www.it.tarnow.pl/wydarzenie/portrety-wystawa-fotografii-macieja-jerzego-koby/2026-05-05/
LOCATION:Centrum Sztuki Mościce
CATEGORIES:wystawy i wernisaże
ATTACH;FMTTYPE=image/jpeg:https://www.it.tarnow.pl/wp-content/uploads/2026/04/KOBA-internet-69cbac2ce1b55.jpg
END:VEVENT
BEGIN:VEVENT
DTSTART;TZID=Europe/Warsaw:20260506T120000
DTEND;TZID=Europe/Warsaw:20260506T200000
DTSTAMP:20260423T221841
CREATED:20260422T072209Z
LAST-MODIFIED:20260422T072209Z
UID:10043947-1778068800-1778097600@www.it.tarnow.pl
SUMMARY:"Portrety" - wystawa fotografii Macieja Jerzego Koby
DESCRIPTION:Szczegóły \n\n	\n 10.04 – 10.05.2026 \n\n\n\n	\n korytarz\, przy sali baletowej \n\n\nBilety \n\n	\n wstęp wolny \n\n	\nWernisaż i oprowadzanie: 10 kwietnia\, godz. 17:30 \n\n\nWystawa jest dostępna w holu na parterze. \nWystawa portretów Jerzego Macieja Koby pokazuje artystę\, który traktuje fotografię nie jako szybki zapis wizerunku\, lecz jako świadomie budowaną relację między światłem\, osobowością modela i kompozycją obrazu. 
URL:https://www.it.tarnow.pl/wydarzenie/portrety-wystawa-fotografii-macieja-jerzego-koby/2026-05-06/
LOCATION:Centrum Sztuki Mościce
CATEGORIES:wystawy i wernisaże
ATTACH;FMTTYPE=image/jpeg:https://www.it.tarnow.pl/wp-content/uploads/2026/04/KOBA-internet-69cbac2ce1b55.jpg
END:VEVENT
BEGIN:VEVENT
DTSTART;TZID=Europe/Warsaw:20260507T120000
DTEND;TZID=Europe/Warsaw:20260507T200000
DTSTAMP:20260423T221841
CREATED:20260422T072209Z
LAST-MODIFIED:20260422T072209Z
UID:10043948-1778155200-1778184000@www.it.tarnow.pl
SUMMARY:"Portrety" - wystawa fotografii Macieja Jerzego Koby
DESCRIPTION:Szczegóły \n\n	\n 10.04 – 10.05.2026 \n\n\n\n	\n korytarz\, przy sali baletowej \n\n\nBilety \n\n	\n wstęp wolny \n\n	\nWernisaż i oprowadzanie: 10 kwietnia\, godz. 17:30 \n\n\nWystawa jest dostępna w holu na parterze. \nWystawa portretów Jerzego Macieja Koby pokazuje artystę\, który traktuje fotografię nie jako szybki zapis wizerunku\, lecz jako świadomie budowaną relację między światłem\, osobowością modela i kompozycją obrazu. 
URL:https://www.it.tarnow.pl/wydarzenie/portrety-wystawa-fotografii-macieja-jerzego-koby/2026-05-07/
LOCATION:Centrum Sztuki Mościce
CATEGORIES:wystawy i wernisaże
ATTACH;FMTTYPE=image/jpeg:https://www.it.tarnow.pl/wp-content/uploads/2026/04/KOBA-internet-69cbac2ce1b55.jpg
END:VEVENT
BEGIN:VEVENT
DTSTART;TZID=Europe/Warsaw:20260508T120000
DTEND;TZID=Europe/Warsaw:20260508T200000
DTSTAMP:20260423T221841
CREATED:20260422T072209Z
LAST-MODIFIED:20260422T072209Z
UID:10043949-1778241600-1778270400@www.it.tarnow.pl
SUMMARY:"Portrety" - wystawa fotografii Macieja Jerzego Koby
DESCRIPTION:Szczegóły \n\n	\n 10.04 – 10.05.2026 \n\n\n\n	\n korytarz\, przy sali baletowej \n\n\nBilety \n\n	\n wstęp wolny \n\n	\nWernisaż i oprowadzanie: 10 kwietnia\, godz. 17:30 \n\n\nWystawa jest dostępna w holu na parterze. \nWystawa portretów Jerzego Macieja Koby pokazuje artystę\, który traktuje fotografię nie jako szybki zapis wizerunku\, lecz jako świadomie budowaną relację między światłem\, osobowością modela i kompozycją obrazu. 
URL:https://www.it.tarnow.pl/wydarzenie/portrety-wystawa-fotografii-macieja-jerzego-koby/2026-05-08/
LOCATION:Centrum Sztuki Mościce
CATEGORIES:wystawy i wernisaże
ATTACH;FMTTYPE=image/jpeg:https://www.it.tarnow.pl/wp-content/uploads/2026/04/KOBA-internet-69cbac2ce1b55.jpg
END:VEVENT
BEGIN:VEVENT
DTSTART;TZID=Europe/Warsaw:20260509T120000
DTEND;TZID=Europe/Warsaw:20260509T200000
DTSTAMP:20260423T221841
CREATED:20260422T072209Z
LAST-MODIFIED:20260422T072209Z
UID:10043950-1778328000-1778356800@www.it.tarnow.pl
SUMMARY:"Portrety" - wystawa fotografii Macieja Jerzego Koby
DESCRIPTION:Szczegóły \n\n	\n 10.04 – 10.05.2026 \n\n\n\n	\n korytarz\, przy sali baletowej \n\n\nBilety \n\n	\n wstęp wolny \n\n	\nWernisaż i oprowadzanie: 10 kwietnia\, godz. 17:30 \n\n\nWystawa jest dostępna w holu na parterze. \nWystawa portretów Jerzego Macieja Koby pokazuje artystę\, który traktuje fotografię nie jako szybki zapis wizerunku\, lecz jako świadomie budowaną relację między światłem\, osobowością modela i kompozycją obrazu. 
URL:https://www.it.tarnow.pl/wydarzenie/portrety-wystawa-fotografii-macieja-jerzego-koby/2026-05-09/
LOCATION:Centrum Sztuki Mościce
CATEGORIES:wystawy i wernisaże
ATTACH;FMTTYPE=image/jpeg:https://www.it.tarnow.pl/wp-content/uploads/2026/04/KOBA-internet-69cbac2ce1b55.jpg
END:VEVENT
BEGIN:VEVENT
DTSTART;TZID=Europe/Warsaw:20260510T120000
DTEND;TZID=Europe/Warsaw:20260510T200000
DTSTAMP:20260423T221841
CREATED:20260422T072209Z
LAST-MODIFIED:20260422T072209Z
UID:10043951-1778414400-1778443200@www.it.tarnow.pl
SUMMARY:"Portrety" - wystawa fotografii Macieja Jerzego Koby
DESCRIPTION:Szczegóły \n\n	\n 10.04 – 10.05.2026 \n\n\n\n	\n korytarz\, przy sali baletowej \n\n\nBilety \n\n	\n wstęp wolny \n\n	\nWernisaż i oprowadzanie: 10 kwietnia\, godz. 17:30 \n\n\nWystawa jest dostępna w holu na parterze. \nWystawa portretów Jerzego Macieja Koby pokazuje artystę\, który traktuje fotografię nie jako szybki zapis wizerunku\, lecz jako świadomie budowaną relację między światłem\, osobowością modela i kompozycją obrazu. 
URL:https://www.it.tarnow.pl/wydarzenie/portrety-wystawa-fotografii-macieja-jerzego-koby/2026-05-10/
LOCATION:Centrum Sztuki Mościce
CATEGORIES:wystawy i wernisaże
ATTACH;FMTTYPE=image/jpeg:https://www.it.tarnow.pl/wp-content/uploads/2026/04/KOBA-internet-69cbac2ce1b55.jpg
END:VEVENT
END:VCALENDAR