BEGIN:VCALENDAR
VERSION:2.0
PRODID:-//Tarnowskie Centrum Informacji - ECPv6.13.2.1//NONSGML v1.0//EN
CALSCALE:GREGORIAN
METHOD:PUBLISH
X-ORIGINAL-URL:https://www.it.tarnow.pl
X-WR-CALDESC:Wydarzenia z
REFRESH-INTERVAL;VALUE=DURATION:PT1H
X-Robots-Tag:noindex
X-PUBLISHED-TTL:PT1H
BEGIN:VTIMEZONE
TZID:Europe/Warsaw
BEGIN:DAYLIGHT
TZOFFSETFROM:+0100
TZOFFSETTO:+0200
TZNAME:CEST
DTSTART:20260329T010000
END:DAYLIGHT
BEGIN:STANDARD
TZOFFSETFROM:+0200
TZOFFSETTO:+0100
TZNAME:CET
DTSTART:20261025T010000
END:STANDARD
END:VTIMEZONE
BEGIN:VEVENT
DTSTART;TZID=Europe/Warsaw:20260906T090000
DTEND;TZID=Europe/Warsaw:20260906T170000
DTSTAMP:20260422T013643
CREATED:20260417T094411Z
LAST-MODIFIED:20260417T094411Z
UID:10043751-1788685200-1788714000@www.it.tarnow.pl
SUMMARY:Muzeum Historii Tarnowa i Regionu – ekspozycja stała
DESCRIPTION:Przygotowana w zabytkowych wnętrzach ekspozycja wprowadza zwiedzających w barwną i ciekawą historię miasta i regionu. Gospodarzem i przewodnikiem po dziejach Tarnowa jest kataryniarz\, wygrywający na swym instrumencie dawno niesłyszaną melodię. Podążając ścieżką\, wyznaczoną przez zawierającą liczne ciekawostki perforowaną taśmę katarynki\, można trafić do kolejnych pomieszczeń\, gdzie znalazły się najciekawsze i najcenniejsze obiekty ze zbiorów tarnowskiego Muzeum. \n\n\nGodziny otwarcia\n\nPoniedziałek nieczynne\nWtorek 9.00 – 15.00\nŚroda 9.00 – 15.00\nCzwartek 9.00 – 15.00\nPiątek 9.00 – 17.00\nSobota 10.00-15.00 (od 1 maja do 30 września)\nNiedziela 10.00 – 15.00 (od 1 maja do 30 września)
URL:https://www.it.tarnow.pl/wydarzenie/muzeum-historii-tarnowa-i-regionu-ekspozycja-stala-2/2026-09-06/
LOCATION:Muzeum Historii Tarnowa i Regionu\, Rynek 20-21\, Tarnów\, malopolskie\, 33-100
CATEGORIES:wystawy i wernisaże
ATTACH;FMTTYPE=image/jpeg:https://www.it.tarnow.pl/wp-content/uploads/2026/04/kataryniarz2.jpg
END:VEVENT
BEGIN:VEVENT
DTSTART;TZID=Europe/Warsaw:20260908T090000
DTEND;TZID=Europe/Warsaw:20260908T170000
DTSTAMP:20260422T013643
CREATED:20260417T094411Z
LAST-MODIFIED:20260417T094411Z
UID:10043752-1788858000-1788886800@www.it.tarnow.pl
SUMMARY:Muzeum Historii Tarnowa i Regionu – ekspozycja stała
DESCRIPTION:Przygotowana w zabytkowych wnętrzach ekspozycja wprowadza zwiedzających w barwną i ciekawą historię miasta i regionu. Gospodarzem i przewodnikiem po dziejach Tarnowa jest kataryniarz\, wygrywający na swym instrumencie dawno niesłyszaną melodię. Podążając ścieżką\, wyznaczoną przez zawierającą liczne ciekawostki perforowaną taśmę katarynki\, można trafić do kolejnych pomieszczeń\, gdzie znalazły się najciekawsze i najcenniejsze obiekty ze zbiorów tarnowskiego Muzeum. \n\n\nGodziny otwarcia\n\nPoniedziałek nieczynne\nWtorek 9.00 – 15.00\nŚroda 9.00 – 15.00\nCzwartek 9.00 – 15.00\nPiątek 9.00 – 17.00\nSobota 10.00-15.00 (od 1 maja do 30 września)\nNiedziela 10.00 – 15.00 (od 1 maja do 30 września)
URL:https://www.it.tarnow.pl/wydarzenie/muzeum-historii-tarnowa-i-regionu-ekspozycja-stala-2/2026-09-08/
LOCATION:Muzeum Historii Tarnowa i Regionu\, Rynek 20-21\, Tarnów\, malopolskie\, 33-100
CATEGORIES:wystawy i wernisaże
ATTACH;FMTTYPE=image/jpeg:https://www.it.tarnow.pl/wp-content/uploads/2026/04/kataryniarz2.jpg
END:VEVENT
BEGIN:VEVENT
DTSTART;TZID=Europe/Warsaw:20260909T090000
DTEND;TZID=Europe/Warsaw:20260909T170000
DTSTAMP:20260422T013643
CREATED:20260417T094411Z
LAST-MODIFIED:20260417T094411Z
UID:10043753-1788944400-1788973200@www.it.tarnow.pl
SUMMARY:Muzeum Historii Tarnowa i Regionu – ekspozycja stała
DESCRIPTION:Przygotowana w zabytkowych wnętrzach ekspozycja wprowadza zwiedzających w barwną i ciekawą historię miasta i regionu. Gospodarzem i przewodnikiem po dziejach Tarnowa jest kataryniarz\, wygrywający na swym instrumencie dawno niesłyszaną melodię. Podążając ścieżką\, wyznaczoną przez zawierającą liczne ciekawostki perforowaną taśmę katarynki\, można trafić do kolejnych pomieszczeń\, gdzie znalazły się najciekawsze i najcenniejsze obiekty ze zbiorów tarnowskiego Muzeum. \n\n\nGodziny otwarcia\n\nPoniedziałek nieczynne\nWtorek 9.00 – 15.00\nŚroda 9.00 – 15.00\nCzwartek 9.00 – 15.00\nPiątek 9.00 – 17.00\nSobota 10.00-15.00 (od 1 maja do 30 września)\nNiedziela 10.00 – 15.00 (od 1 maja do 30 września)
URL:https://www.it.tarnow.pl/wydarzenie/muzeum-historii-tarnowa-i-regionu-ekspozycja-stala-2/2026-09-09/
LOCATION:Muzeum Historii Tarnowa i Regionu\, Rynek 20-21\, Tarnów\, malopolskie\, 33-100
CATEGORIES:wystawy i wernisaże
ATTACH;FMTTYPE=image/jpeg:https://www.it.tarnow.pl/wp-content/uploads/2026/04/kataryniarz2.jpg
END:VEVENT
BEGIN:VEVENT
DTSTART;TZID=Europe/Warsaw:20260910T090000
DTEND;TZID=Europe/Warsaw:20260910T170000
DTSTAMP:20260422T013643
CREATED:20260417T094411Z
LAST-MODIFIED:20260417T094411Z
UID:10043754-1789030800-1789059600@www.it.tarnow.pl
SUMMARY:Muzeum Historii Tarnowa i Regionu – ekspozycja stała
DESCRIPTION:Przygotowana w zabytkowych wnętrzach ekspozycja wprowadza zwiedzających w barwną i ciekawą historię miasta i regionu. Gospodarzem i przewodnikiem po dziejach Tarnowa jest kataryniarz\, wygrywający na swym instrumencie dawno niesłyszaną melodię. Podążając ścieżką\, wyznaczoną przez zawierającą liczne ciekawostki perforowaną taśmę katarynki\, można trafić do kolejnych pomieszczeń\, gdzie znalazły się najciekawsze i najcenniejsze obiekty ze zbiorów tarnowskiego Muzeum. \n\n\nGodziny otwarcia\n\nPoniedziałek nieczynne\nWtorek 9.00 – 15.00\nŚroda 9.00 – 15.00\nCzwartek 9.00 – 15.00\nPiątek 9.00 – 17.00\nSobota 10.00-15.00 (od 1 maja do 30 września)\nNiedziela 10.00 – 15.00 (od 1 maja do 30 września)
URL:https://www.it.tarnow.pl/wydarzenie/muzeum-historii-tarnowa-i-regionu-ekspozycja-stala-2/2026-09-10/
LOCATION:Muzeum Historii Tarnowa i Regionu\, Rynek 20-21\, Tarnów\, malopolskie\, 33-100
CATEGORIES:wystawy i wernisaże
ATTACH;FMTTYPE=image/jpeg:https://www.it.tarnow.pl/wp-content/uploads/2026/04/kataryniarz2.jpg
END:VEVENT
BEGIN:VEVENT
DTSTART;TZID=Europe/Warsaw:20260911T090000
DTEND;TZID=Europe/Warsaw:20260911T170000
DTSTAMP:20260422T013643
CREATED:20260417T094411Z
LAST-MODIFIED:20260417T094411Z
UID:10043755-1789117200-1789146000@www.it.tarnow.pl
SUMMARY:Muzeum Historii Tarnowa i Regionu – ekspozycja stała
DESCRIPTION:Przygotowana w zabytkowych wnętrzach ekspozycja wprowadza zwiedzających w barwną i ciekawą historię miasta i regionu. Gospodarzem i przewodnikiem po dziejach Tarnowa jest kataryniarz\, wygrywający na swym instrumencie dawno niesłyszaną melodię. Podążając ścieżką\, wyznaczoną przez zawierającą liczne ciekawostki perforowaną taśmę katarynki\, można trafić do kolejnych pomieszczeń\, gdzie znalazły się najciekawsze i najcenniejsze obiekty ze zbiorów tarnowskiego Muzeum. \n\n\nGodziny otwarcia\n\nPoniedziałek nieczynne\nWtorek 9.00 – 15.00\nŚroda 9.00 – 15.00\nCzwartek 9.00 – 15.00\nPiątek 9.00 – 17.00\nSobota 10.00-15.00 (od 1 maja do 30 września)\nNiedziela 10.00 – 15.00 (od 1 maja do 30 września)
URL:https://www.it.tarnow.pl/wydarzenie/muzeum-historii-tarnowa-i-regionu-ekspozycja-stala-2/2026-09-11/
LOCATION:Muzeum Historii Tarnowa i Regionu\, Rynek 20-21\, Tarnów\, malopolskie\, 33-100
CATEGORIES:wystawy i wernisaże
ATTACH;FMTTYPE=image/jpeg:https://www.it.tarnow.pl/wp-content/uploads/2026/04/kataryniarz2.jpg
END:VEVENT
BEGIN:VEVENT
DTSTART;TZID=Europe/Warsaw:20260912T090000
DTEND;TZID=Europe/Warsaw:20260912T170000
DTSTAMP:20260422T013643
CREATED:20260417T094411Z
LAST-MODIFIED:20260417T094411Z
UID:10043756-1789203600-1789232400@www.it.tarnow.pl
SUMMARY:Muzeum Historii Tarnowa i Regionu – ekspozycja stała
DESCRIPTION:Przygotowana w zabytkowych wnętrzach ekspozycja wprowadza zwiedzających w barwną i ciekawą historię miasta i regionu. Gospodarzem i przewodnikiem po dziejach Tarnowa jest kataryniarz\, wygrywający na swym instrumencie dawno niesłyszaną melodię. Podążając ścieżką\, wyznaczoną przez zawierającą liczne ciekawostki perforowaną taśmę katarynki\, można trafić do kolejnych pomieszczeń\, gdzie znalazły się najciekawsze i najcenniejsze obiekty ze zbiorów tarnowskiego Muzeum. \n\n\nGodziny otwarcia\n\nPoniedziałek nieczynne\nWtorek 9.00 – 15.00\nŚroda 9.00 – 15.00\nCzwartek 9.00 – 15.00\nPiątek 9.00 – 17.00\nSobota 10.00-15.00 (od 1 maja do 30 września)\nNiedziela 10.00 – 15.00 (od 1 maja do 30 września)
URL:https://www.it.tarnow.pl/wydarzenie/muzeum-historii-tarnowa-i-regionu-ekspozycja-stala-2/2026-09-12/
LOCATION:Muzeum Historii Tarnowa i Regionu\, Rynek 20-21\, Tarnów\, malopolskie\, 33-100
CATEGORIES:wystawy i wernisaże
ATTACH;FMTTYPE=image/jpeg:https://www.it.tarnow.pl/wp-content/uploads/2026/04/kataryniarz2.jpg
END:VEVENT
BEGIN:VEVENT
DTSTART;TZID=Europe/Warsaw:20260913T090000
DTEND;TZID=Europe/Warsaw:20260913T170000
DTSTAMP:20260422T013643
CREATED:20260417T094411Z
LAST-MODIFIED:20260417T094411Z
UID:10043757-1789290000-1789318800@www.it.tarnow.pl
SUMMARY:Muzeum Historii Tarnowa i Regionu – ekspozycja stała
DESCRIPTION:Przygotowana w zabytkowych wnętrzach ekspozycja wprowadza zwiedzających w barwną i ciekawą historię miasta i regionu. Gospodarzem i przewodnikiem po dziejach Tarnowa jest kataryniarz\, wygrywający na swym instrumencie dawno niesłyszaną melodię. Podążając ścieżką\, wyznaczoną przez zawierającą liczne ciekawostki perforowaną taśmę katarynki\, można trafić do kolejnych pomieszczeń\, gdzie znalazły się najciekawsze i najcenniejsze obiekty ze zbiorów tarnowskiego Muzeum. \n\n\nGodziny otwarcia\n\nPoniedziałek nieczynne\nWtorek 9.00 – 15.00\nŚroda 9.00 – 15.00\nCzwartek 9.00 – 15.00\nPiątek 9.00 – 17.00\nSobota 10.00-15.00 (od 1 maja do 30 września)\nNiedziela 10.00 – 15.00 (od 1 maja do 30 września)
URL:https://www.it.tarnow.pl/wydarzenie/muzeum-historii-tarnowa-i-regionu-ekspozycja-stala-2/2026-09-13/
LOCATION:Muzeum Historii Tarnowa i Regionu\, Rynek 20-21\, Tarnów\, malopolskie\, 33-100
CATEGORIES:wystawy i wernisaże
ATTACH;FMTTYPE=image/jpeg:https://www.it.tarnow.pl/wp-content/uploads/2026/04/kataryniarz2.jpg
END:VEVENT
BEGIN:VEVENT
DTSTART;TZID=Europe/Warsaw:20260915T090000
DTEND;TZID=Europe/Warsaw:20260915T170000
DTSTAMP:20260422T013643
CREATED:20260417T094411Z
LAST-MODIFIED:20260417T094411Z
UID:10043758-1789462800-1789491600@www.it.tarnow.pl
SUMMARY:Muzeum Historii Tarnowa i Regionu – ekspozycja stała
DESCRIPTION:Przygotowana w zabytkowych wnętrzach ekspozycja wprowadza zwiedzających w barwną i ciekawą historię miasta i regionu. Gospodarzem i przewodnikiem po dziejach Tarnowa jest kataryniarz\, wygrywający na swym instrumencie dawno niesłyszaną melodię. Podążając ścieżką\, wyznaczoną przez zawierającą liczne ciekawostki perforowaną taśmę katarynki\, można trafić do kolejnych pomieszczeń\, gdzie znalazły się najciekawsze i najcenniejsze obiekty ze zbiorów tarnowskiego Muzeum. \n\n\nGodziny otwarcia\n\nPoniedziałek nieczynne\nWtorek 9.00 – 15.00\nŚroda 9.00 – 15.00\nCzwartek 9.00 – 15.00\nPiątek 9.00 – 17.00\nSobota 10.00-15.00 (od 1 maja do 30 września)\nNiedziela 10.00 – 15.00 (od 1 maja do 30 września)
URL:https://www.it.tarnow.pl/wydarzenie/muzeum-historii-tarnowa-i-regionu-ekspozycja-stala-2/2026-09-15/
LOCATION:Muzeum Historii Tarnowa i Regionu\, Rynek 20-21\, Tarnów\, malopolskie\, 33-100
CATEGORIES:wystawy i wernisaże
ATTACH;FMTTYPE=image/jpeg:https://www.it.tarnow.pl/wp-content/uploads/2026/04/kataryniarz2.jpg
END:VEVENT
BEGIN:VEVENT
DTSTART;TZID=Europe/Warsaw:20260916T090000
DTEND;TZID=Europe/Warsaw:20260916T170000
DTSTAMP:20260422T013643
CREATED:20260417T094411Z
LAST-MODIFIED:20260417T094411Z
UID:10043759-1789549200-1789578000@www.it.tarnow.pl
SUMMARY:Muzeum Historii Tarnowa i Regionu – ekspozycja stała
DESCRIPTION:Przygotowana w zabytkowych wnętrzach ekspozycja wprowadza zwiedzających w barwną i ciekawą historię miasta i regionu. Gospodarzem i przewodnikiem po dziejach Tarnowa jest kataryniarz\, wygrywający na swym instrumencie dawno niesłyszaną melodię. Podążając ścieżką\, wyznaczoną przez zawierającą liczne ciekawostki perforowaną taśmę katarynki\, można trafić do kolejnych pomieszczeń\, gdzie znalazły się najciekawsze i najcenniejsze obiekty ze zbiorów tarnowskiego Muzeum. \n\n\nGodziny otwarcia\n\nPoniedziałek nieczynne\nWtorek 9.00 – 15.00\nŚroda 9.00 – 15.00\nCzwartek 9.00 – 15.00\nPiątek 9.00 – 17.00\nSobota 10.00-15.00 (od 1 maja do 30 września)\nNiedziela 10.00 – 15.00 (od 1 maja do 30 września)
URL:https://www.it.tarnow.pl/wydarzenie/muzeum-historii-tarnowa-i-regionu-ekspozycja-stala-2/2026-09-16/
LOCATION:Muzeum Historii Tarnowa i Regionu\, Rynek 20-21\, Tarnów\, malopolskie\, 33-100
CATEGORIES:wystawy i wernisaże
ATTACH;FMTTYPE=image/jpeg:https://www.it.tarnow.pl/wp-content/uploads/2026/04/kataryniarz2.jpg
END:VEVENT
BEGIN:VEVENT
DTSTART;TZID=Europe/Warsaw:20260917T090000
DTEND;TZID=Europe/Warsaw:20260917T170000
DTSTAMP:20260422T013643
CREATED:20260417T094411Z
LAST-MODIFIED:20260417T094411Z
UID:10043760-1789635600-1789664400@www.it.tarnow.pl
SUMMARY:Muzeum Historii Tarnowa i Regionu – ekspozycja stała
DESCRIPTION:Przygotowana w zabytkowych wnętrzach ekspozycja wprowadza zwiedzających w barwną i ciekawą historię miasta i regionu. Gospodarzem i przewodnikiem po dziejach Tarnowa jest kataryniarz\, wygrywający na swym instrumencie dawno niesłyszaną melodię. Podążając ścieżką\, wyznaczoną przez zawierającą liczne ciekawostki perforowaną taśmę katarynki\, można trafić do kolejnych pomieszczeń\, gdzie znalazły się najciekawsze i najcenniejsze obiekty ze zbiorów tarnowskiego Muzeum. \n\n\nGodziny otwarcia\n\nPoniedziałek nieczynne\nWtorek 9.00 – 15.00\nŚroda 9.00 – 15.00\nCzwartek 9.00 – 15.00\nPiątek 9.00 – 17.00\nSobota 10.00-15.00 (od 1 maja do 30 września)\nNiedziela 10.00 – 15.00 (od 1 maja do 30 września)
URL:https://www.it.tarnow.pl/wydarzenie/muzeum-historii-tarnowa-i-regionu-ekspozycja-stala-2/2026-09-17/
LOCATION:Muzeum Historii Tarnowa i Regionu\, Rynek 20-21\, Tarnów\, malopolskie\, 33-100
CATEGORIES:wystawy i wernisaże
ATTACH;FMTTYPE=image/jpeg:https://www.it.tarnow.pl/wp-content/uploads/2026/04/kataryniarz2.jpg
END:VEVENT
BEGIN:VEVENT
DTSTART;TZID=Europe/Warsaw:20260918T090000
DTEND;TZID=Europe/Warsaw:20260918T170000
DTSTAMP:20260422T013643
CREATED:20260417T094411Z
LAST-MODIFIED:20260417T094411Z
UID:10043761-1789722000-1789750800@www.it.tarnow.pl
SUMMARY:Muzeum Historii Tarnowa i Regionu – ekspozycja stała
DESCRIPTION:Przygotowana w zabytkowych wnętrzach ekspozycja wprowadza zwiedzających w barwną i ciekawą historię miasta i regionu. Gospodarzem i przewodnikiem po dziejach Tarnowa jest kataryniarz\, wygrywający na swym instrumencie dawno niesłyszaną melodię. Podążając ścieżką\, wyznaczoną przez zawierającą liczne ciekawostki perforowaną taśmę katarynki\, można trafić do kolejnych pomieszczeń\, gdzie znalazły się najciekawsze i najcenniejsze obiekty ze zbiorów tarnowskiego Muzeum. \n\n\nGodziny otwarcia\n\nPoniedziałek nieczynne\nWtorek 9.00 – 15.00\nŚroda 9.00 – 15.00\nCzwartek 9.00 – 15.00\nPiątek 9.00 – 17.00\nSobota 10.00-15.00 (od 1 maja do 30 września)\nNiedziela 10.00 – 15.00 (od 1 maja do 30 września)
URL:https://www.it.tarnow.pl/wydarzenie/muzeum-historii-tarnowa-i-regionu-ekspozycja-stala-2/2026-09-18/
LOCATION:Muzeum Historii Tarnowa i Regionu\, Rynek 20-21\, Tarnów\, malopolskie\, 33-100
CATEGORIES:wystawy i wernisaże
ATTACH;FMTTYPE=image/jpeg:https://www.it.tarnow.pl/wp-content/uploads/2026/04/kataryniarz2.jpg
END:VEVENT
BEGIN:VEVENT
DTSTART;TZID=Europe/Warsaw:20260919T090000
DTEND;TZID=Europe/Warsaw:20260919T170000
DTSTAMP:20260422T013643
CREATED:20260417T094411Z
LAST-MODIFIED:20260417T094411Z
UID:10043762-1789808400-1789837200@www.it.tarnow.pl
SUMMARY:Muzeum Historii Tarnowa i Regionu – ekspozycja stała
DESCRIPTION:Przygotowana w zabytkowych wnętrzach ekspozycja wprowadza zwiedzających w barwną i ciekawą historię miasta i regionu. Gospodarzem i przewodnikiem po dziejach Tarnowa jest kataryniarz\, wygrywający na swym instrumencie dawno niesłyszaną melodię. Podążając ścieżką\, wyznaczoną przez zawierającą liczne ciekawostki perforowaną taśmę katarynki\, można trafić do kolejnych pomieszczeń\, gdzie znalazły się najciekawsze i najcenniejsze obiekty ze zbiorów tarnowskiego Muzeum. \n\n\nGodziny otwarcia\n\nPoniedziałek nieczynne\nWtorek 9.00 – 15.00\nŚroda 9.00 – 15.00\nCzwartek 9.00 – 15.00\nPiątek 9.00 – 17.00\nSobota 10.00-15.00 (od 1 maja do 30 września)\nNiedziela 10.00 – 15.00 (od 1 maja do 30 września)
URL:https://www.it.tarnow.pl/wydarzenie/muzeum-historii-tarnowa-i-regionu-ekspozycja-stala-2/2026-09-19/
LOCATION:Muzeum Historii Tarnowa i Regionu\, Rynek 20-21\, Tarnów\, malopolskie\, 33-100
CATEGORIES:wystawy i wernisaże
ATTACH;FMTTYPE=image/jpeg:https://www.it.tarnow.pl/wp-content/uploads/2026/04/kataryniarz2.jpg
END:VEVENT
BEGIN:VEVENT
DTSTART;TZID=Europe/Warsaw:20260920T090000
DTEND;TZID=Europe/Warsaw:20260920T170000
DTSTAMP:20260422T013643
CREATED:20260417T094411Z
LAST-MODIFIED:20260417T094411Z
UID:10043763-1789894800-1789923600@www.it.tarnow.pl
SUMMARY:Muzeum Historii Tarnowa i Regionu – ekspozycja stała
DESCRIPTION:Przygotowana w zabytkowych wnętrzach ekspozycja wprowadza zwiedzających w barwną i ciekawą historię miasta i regionu. Gospodarzem i przewodnikiem po dziejach Tarnowa jest kataryniarz\, wygrywający na swym instrumencie dawno niesłyszaną melodię. Podążając ścieżką\, wyznaczoną przez zawierającą liczne ciekawostki perforowaną taśmę katarynki\, można trafić do kolejnych pomieszczeń\, gdzie znalazły się najciekawsze i najcenniejsze obiekty ze zbiorów tarnowskiego Muzeum. \n\n\nGodziny otwarcia\n\nPoniedziałek nieczynne\nWtorek 9.00 – 15.00\nŚroda 9.00 – 15.00\nCzwartek 9.00 – 15.00\nPiątek 9.00 – 17.00\nSobota 10.00-15.00 (od 1 maja do 30 września)\nNiedziela 10.00 – 15.00 (od 1 maja do 30 września)
URL:https://www.it.tarnow.pl/wydarzenie/muzeum-historii-tarnowa-i-regionu-ekspozycja-stala-2/2026-09-20/
LOCATION:Muzeum Historii Tarnowa i Regionu\, Rynek 20-21\, Tarnów\, malopolskie\, 33-100
CATEGORIES:wystawy i wernisaże
ATTACH;FMTTYPE=image/jpeg:https://www.it.tarnow.pl/wp-content/uploads/2026/04/kataryniarz2.jpg
END:VEVENT
BEGIN:VEVENT
DTSTART;TZID=Europe/Warsaw:20260922T090000
DTEND;TZID=Europe/Warsaw:20260922T170000
DTSTAMP:20260422T013643
CREATED:20260417T094411Z
LAST-MODIFIED:20260417T094411Z
UID:10043764-1790067600-1790096400@www.it.tarnow.pl
SUMMARY:Muzeum Historii Tarnowa i Regionu – ekspozycja stała
DESCRIPTION:Przygotowana w zabytkowych wnętrzach ekspozycja wprowadza zwiedzających w barwną i ciekawą historię miasta i regionu. Gospodarzem i przewodnikiem po dziejach Tarnowa jest kataryniarz\, wygrywający na swym instrumencie dawno niesłyszaną melodię. Podążając ścieżką\, wyznaczoną przez zawierającą liczne ciekawostki perforowaną taśmę katarynki\, można trafić do kolejnych pomieszczeń\, gdzie znalazły się najciekawsze i najcenniejsze obiekty ze zbiorów tarnowskiego Muzeum. \n\n\nGodziny otwarcia\n\nPoniedziałek nieczynne\nWtorek 9.00 – 15.00\nŚroda 9.00 – 15.00\nCzwartek 9.00 – 15.00\nPiątek 9.00 – 17.00\nSobota 10.00-15.00 (od 1 maja do 30 września)\nNiedziela 10.00 – 15.00 (od 1 maja do 30 września)
URL:https://www.it.tarnow.pl/wydarzenie/muzeum-historii-tarnowa-i-regionu-ekspozycja-stala-2/2026-09-22/
LOCATION:Muzeum Historii Tarnowa i Regionu\, Rynek 20-21\, Tarnów\, malopolskie\, 33-100
CATEGORIES:wystawy i wernisaże
ATTACH;FMTTYPE=image/jpeg:https://www.it.tarnow.pl/wp-content/uploads/2026/04/kataryniarz2.jpg
END:VEVENT
BEGIN:VEVENT
DTSTART;TZID=Europe/Warsaw:20260923T090000
DTEND;TZID=Europe/Warsaw:20260923T170000
DTSTAMP:20260422T013643
CREATED:20260417T094411Z
LAST-MODIFIED:20260417T094411Z
UID:10043765-1790154000-1790182800@www.it.tarnow.pl
SUMMARY:Muzeum Historii Tarnowa i Regionu – ekspozycja stała
DESCRIPTION:Przygotowana w zabytkowych wnętrzach ekspozycja wprowadza zwiedzających w barwną i ciekawą historię miasta i regionu. Gospodarzem i przewodnikiem po dziejach Tarnowa jest kataryniarz\, wygrywający na swym instrumencie dawno niesłyszaną melodię. Podążając ścieżką\, wyznaczoną przez zawierającą liczne ciekawostki perforowaną taśmę katarynki\, można trafić do kolejnych pomieszczeń\, gdzie znalazły się najciekawsze i najcenniejsze obiekty ze zbiorów tarnowskiego Muzeum. \n\n\nGodziny otwarcia\n\nPoniedziałek nieczynne\nWtorek 9.00 – 15.00\nŚroda 9.00 – 15.00\nCzwartek 9.00 – 15.00\nPiątek 9.00 – 17.00\nSobota 10.00-15.00 (od 1 maja do 30 września)\nNiedziela 10.00 – 15.00 (od 1 maja do 30 września)
URL:https://www.it.tarnow.pl/wydarzenie/muzeum-historii-tarnowa-i-regionu-ekspozycja-stala-2/2026-09-23/
LOCATION:Muzeum Historii Tarnowa i Regionu\, Rynek 20-21\, Tarnów\, malopolskie\, 33-100
CATEGORIES:wystawy i wernisaże
ATTACH;FMTTYPE=image/jpeg:https://www.it.tarnow.pl/wp-content/uploads/2026/04/kataryniarz2.jpg
END:VEVENT
BEGIN:VEVENT
DTSTART;TZID=Europe/Warsaw:20260924T090000
DTEND;TZID=Europe/Warsaw:20260924T170000
DTSTAMP:20260422T013643
CREATED:20260417T094411Z
LAST-MODIFIED:20260417T094411Z
UID:10043766-1790240400-1790269200@www.it.tarnow.pl
SUMMARY:Muzeum Historii Tarnowa i Regionu – ekspozycja stała
DESCRIPTION:Przygotowana w zabytkowych wnętrzach ekspozycja wprowadza zwiedzających w barwną i ciekawą historię miasta i regionu. Gospodarzem i przewodnikiem po dziejach Tarnowa jest kataryniarz\, wygrywający na swym instrumencie dawno niesłyszaną melodię. Podążając ścieżką\, wyznaczoną przez zawierającą liczne ciekawostki perforowaną taśmę katarynki\, można trafić do kolejnych pomieszczeń\, gdzie znalazły się najciekawsze i najcenniejsze obiekty ze zbiorów tarnowskiego Muzeum. \n\n\nGodziny otwarcia\n\nPoniedziałek nieczynne\nWtorek 9.00 – 15.00\nŚroda 9.00 – 15.00\nCzwartek 9.00 – 15.00\nPiątek 9.00 – 17.00\nSobota 10.00-15.00 (od 1 maja do 30 września)\nNiedziela 10.00 – 15.00 (od 1 maja do 30 września)
URL:https://www.it.tarnow.pl/wydarzenie/muzeum-historii-tarnowa-i-regionu-ekspozycja-stala-2/2026-09-24/
LOCATION:Muzeum Historii Tarnowa i Regionu\, Rynek 20-21\, Tarnów\, malopolskie\, 33-100
CATEGORIES:wystawy i wernisaże
ATTACH;FMTTYPE=image/jpeg:https://www.it.tarnow.pl/wp-content/uploads/2026/04/kataryniarz2.jpg
END:VEVENT
BEGIN:VEVENT
DTSTART;TZID=Europe/Warsaw:20260925T090000
DTEND;TZID=Europe/Warsaw:20260925T170000
DTSTAMP:20260422T013643
CREATED:20260417T094411Z
LAST-MODIFIED:20260417T094411Z
UID:10043767-1790326800-1790355600@www.it.tarnow.pl
SUMMARY:Muzeum Historii Tarnowa i Regionu – ekspozycja stała
DESCRIPTION:Przygotowana w zabytkowych wnętrzach ekspozycja wprowadza zwiedzających w barwną i ciekawą historię miasta i regionu. Gospodarzem i przewodnikiem po dziejach Tarnowa jest kataryniarz\, wygrywający na swym instrumencie dawno niesłyszaną melodię. Podążając ścieżką\, wyznaczoną przez zawierającą liczne ciekawostki perforowaną taśmę katarynki\, można trafić do kolejnych pomieszczeń\, gdzie znalazły się najciekawsze i najcenniejsze obiekty ze zbiorów tarnowskiego Muzeum. \n\n\nGodziny otwarcia\n\nPoniedziałek nieczynne\nWtorek 9.00 – 15.00\nŚroda 9.00 – 15.00\nCzwartek 9.00 – 15.00\nPiątek 9.00 – 17.00\nSobota 10.00-15.00 (od 1 maja do 30 września)\nNiedziela 10.00 – 15.00 (od 1 maja do 30 września)
URL:https://www.it.tarnow.pl/wydarzenie/muzeum-historii-tarnowa-i-regionu-ekspozycja-stala-2/2026-09-25/
LOCATION:Muzeum Historii Tarnowa i Regionu\, Rynek 20-21\, Tarnów\, malopolskie\, 33-100
CATEGORIES:wystawy i wernisaże
ATTACH;FMTTYPE=image/jpeg:https://www.it.tarnow.pl/wp-content/uploads/2026/04/kataryniarz2.jpg
END:VEVENT
BEGIN:VEVENT
DTSTART;TZID=Europe/Warsaw:20260926T090000
DTEND;TZID=Europe/Warsaw:20260926T170000
DTSTAMP:20260422T013643
CREATED:20260417T094411Z
LAST-MODIFIED:20260417T094411Z
UID:10043768-1790413200-1790442000@www.it.tarnow.pl
SUMMARY:Muzeum Historii Tarnowa i Regionu – ekspozycja stała
DESCRIPTION:Przygotowana w zabytkowych wnętrzach ekspozycja wprowadza zwiedzających w barwną i ciekawą historię miasta i regionu. Gospodarzem i przewodnikiem po dziejach Tarnowa jest kataryniarz\, wygrywający na swym instrumencie dawno niesłyszaną melodię. Podążając ścieżką\, wyznaczoną przez zawierającą liczne ciekawostki perforowaną taśmę katarynki\, można trafić do kolejnych pomieszczeń\, gdzie znalazły się najciekawsze i najcenniejsze obiekty ze zbiorów tarnowskiego Muzeum. \n\n\nGodziny otwarcia\n\nPoniedziałek nieczynne\nWtorek 9.00 – 15.00\nŚroda 9.00 – 15.00\nCzwartek 9.00 – 15.00\nPiątek 9.00 – 17.00\nSobota 10.00-15.00 (od 1 maja do 30 września)\nNiedziela 10.00 – 15.00 (od 1 maja do 30 września)
URL:https://www.it.tarnow.pl/wydarzenie/muzeum-historii-tarnowa-i-regionu-ekspozycja-stala-2/2026-09-26/
LOCATION:Muzeum Historii Tarnowa i Regionu\, Rynek 20-21\, Tarnów\, malopolskie\, 33-100
CATEGORIES:wystawy i wernisaże
ATTACH;FMTTYPE=image/jpeg:https://www.it.tarnow.pl/wp-content/uploads/2026/04/kataryniarz2.jpg
END:VEVENT
BEGIN:VEVENT
DTSTART;TZID=Europe/Warsaw:20260927T090000
DTEND;TZID=Europe/Warsaw:20260927T170000
DTSTAMP:20260422T013643
CREATED:20260417T094411Z
LAST-MODIFIED:20260417T094411Z
UID:10043769-1790499600-1790528400@www.it.tarnow.pl
SUMMARY:Muzeum Historii Tarnowa i Regionu – ekspozycja stała
DESCRIPTION:Przygotowana w zabytkowych wnętrzach ekspozycja wprowadza zwiedzających w barwną i ciekawą historię miasta i regionu. Gospodarzem i przewodnikiem po dziejach Tarnowa jest kataryniarz\, wygrywający na swym instrumencie dawno niesłyszaną melodię. Podążając ścieżką\, wyznaczoną przez zawierającą liczne ciekawostki perforowaną taśmę katarynki\, można trafić do kolejnych pomieszczeń\, gdzie znalazły się najciekawsze i najcenniejsze obiekty ze zbiorów tarnowskiego Muzeum. \n\n\nGodziny otwarcia\n\nPoniedziałek nieczynne\nWtorek 9.00 – 15.00\nŚroda 9.00 – 15.00\nCzwartek 9.00 – 15.00\nPiątek 9.00 – 17.00\nSobota 10.00-15.00 (od 1 maja do 30 września)\nNiedziela 10.00 – 15.00 (od 1 maja do 30 września)
URL:https://www.it.tarnow.pl/wydarzenie/muzeum-historii-tarnowa-i-regionu-ekspozycja-stala-2/2026-09-27/
LOCATION:Muzeum Historii Tarnowa i Regionu\, Rynek 20-21\, Tarnów\, malopolskie\, 33-100
CATEGORIES:wystawy i wernisaże
ATTACH;FMTTYPE=image/jpeg:https://www.it.tarnow.pl/wp-content/uploads/2026/04/kataryniarz2.jpg
END:VEVENT
BEGIN:VEVENT
DTSTART;TZID=Europe/Warsaw:20260929T090000
DTEND;TZID=Europe/Warsaw:20260929T170000
DTSTAMP:20260422T013643
CREATED:20260417T094411Z
LAST-MODIFIED:20260417T094411Z
UID:10043770-1790672400-1790701200@www.it.tarnow.pl
SUMMARY:Muzeum Historii Tarnowa i Regionu – ekspozycja stała
DESCRIPTION:Przygotowana w zabytkowych wnętrzach ekspozycja wprowadza zwiedzających w barwną i ciekawą historię miasta i regionu. Gospodarzem i przewodnikiem po dziejach Tarnowa jest kataryniarz\, wygrywający na swym instrumencie dawno niesłyszaną melodię. Podążając ścieżką\, wyznaczoną przez zawierającą liczne ciekawostki perforowaną taśmę katarynki\, można trafić do kolejnych pomieszczeń\, gdzie znalazły się najciekawsze i najcenniejsze obiekty ze zbiorów tarnowskiego Muzeum. \n\n\nGodziny otwarcia\n\nPoniedziałek nieczynne\nWtorek 9.00 – 15.00\nŚroda 9.00 – 15.00\nCzwartek 9.00 – 15.00\nPiątek 9.00 – 17.00\nSobota 10.00-15.00 (od 1 maja do 30 września)\nNiedziela 10.00 – 15.00 (od 1 maja do 30 września)
URL:https://www.it.tarnow.pl/wydarzenie/muzeum-historii-tarnowa-i-regionu-ekspozycja-stala-2/2026-09-29/
LOCATION:Muzeum Historii Tarnowa i Regionu\, Rynek 20-21\, Tarnów\, malopolskie\, 33-100
CATEGORIES:wystawy i wernisaże
ATTACH;FMTTYPE=image/jpeg:https://www.it.tarnow.pl/wp-content/uploads/2026/04/kataryniarz2.jpg
END:VEVENT
BEGIN:VEVENT
DTSTART;TZID=Europe/Warsaw:20260930T090000
DTEND;TZID=Europe/Warsaw:20260930T170000
DTSTAMP:20260422T013643
CREATED:20260417T094411Z
LAST-MODIFIED:20260417T094411Z
UID:10043771-1790758800-1790787600@www.it.tarnow.pl
SUMMARY:Muzeum Historii Tarnowa i Regionu – ekspozycja stała
DESCRIPTION:Przygotowana w zabytkowych wnętrzach ekspozycja wprowadza zwiedzających w barwną i ciekawą historię miasta i regionu. Gospodarzem i przewodnikiem po dziejach Tarnowa jest kataryniarz\, wygrywający na swym instrumencie dawno niesłyszaną melodię. Podążając ścieżką\, wyznaczoną przez zawierającą liczne ciekawostki perforowaną taśmę katarynki\, można trafić do kolejnych pomieszczeń\, gdzie znalazły się najciekawsze i najcenniejsze obiekty ze zbiorów tarnowskiego Muzeum. \n\n\nGodziny otwarcia\n\nPoniedziałek nieczynne\nWtorek 9.00 – 15.00\nŚroda 9.00 – 15.00\nCzwartek 9.00 – 15.00\nPiątek 9.00 – 17.00\nSobota 10.00-15.00 (od 1 maja do 30 września)\nNiedziela 10.00 – 15.00 (od 1 maja do 30 września)
URL:https://www.it.tarnow.pl/wydarzenie/muzeum-historii-tarnowa-i-regionu-ekspozycja-stala-2/2026-09-30/
LOCATION:Muzeum Historii Tarnowa i Regionu\, Rynek 20-21\, Tarnów\, malopolskie\, 33-100
CATEGORIES:wystawy i wernisaże
ATTACH;FMTTYPE=image/jpeg:https://www.it.tarnow.pl/wp-content/uploads/2026/04/kataryniarz2.jpg
END:VEVENT
END:VCALENDAR