BEGIN:VCALENDAR
VERSION:2.0
PRODID:-//Tarnowskie Centrum Informacji - ECPv6.13.2.1//NONSGML v1.0//EN
CALSCALE:GREGORIAN
METHOD:PUBLISH
X-WR-CALNAME:Tarnowskie Centrum Informacji
X-ORIGINAL-URL:https://www.it.tarnow.pl
X-WR-CALDESC:Wydarzenia z
REFRESH-INTERVAL;VALUE=DURATION:PT1H
X-Robots-Tag:noindex
X-PUBLISHED-TTL:PT1H
BEGIN:VTIMEZONE
TZID:Europe/Warsaw
BEGIN:DAYLIGHT
TZOFFSETFROM:+0100
TZOFFSETTO:+0200
TZNAME:CEST
DTSTART:20260329T010000
END:DAYLIGHT
BEGIN:STANDARD
TZOFFSETFROM:+0200
TZOFFSETTO:+0100
TZNAME:CET
DTSTART:20261025T010000
END:STANDARD
END:VTIMEZONE
BEGIN:VEVENT
DTSTART;TZID=Europe/Warsaw:20260422T090000
DTEND;TZID=Europe/Warsaw:20260422T170000
DTSTAMP:20260422T082724
CREATED:20260417T084620Z
LAST-MODIFIED:20260421T104921Z
UID:10043823-1776848400-1776877200@www.it.tarnow.pl
SUMMARY:„Rozmowy przy stole” – wystawa prac Szymona Pikusy w Teatrze Solskiego
DESCRIPTION:Ekspozycja będzie dostępna do 27 kwietnia 2026 w godzinach pracy instytucji. \nWystawa stanowi artystyczną refleksję nad tym\, co rozgrywa się w sferze myśli\, słów i emocji. W swoich pracach Szymon podejmuje próbę uchwycenia momentów ciszy\, skupienia oraz napięcia między gestem twórczym a materiałem. Różnorodne techniki – malarstwo\, rysunek i kolaż – stają się narzędziami dialogu pozostawiającymi odmienne ślady. W efekcie powstaje wielowarstwowa opowieść o poszukiwaniu odpowiedzi\, o samym procesie twórczym oraz o rozmowach\, które często prowadzimy sami ze sobą.
URL:https://www.it.tarnow.pl/wydarzenie/rozmowy-przy-stole-wystawa-prac-szymona-pikusy-w-teatrze-solskiego/2026-04-22/
LOCATION:Teatr im. L.Solskiego\, Mickiewicza 4\, Tarnów\, małopolskie\, 33-100\, Polska
CATEGORIES:wystawy i wernisaże
GEO:50.0159214;20.987504
X-APPLE-STRUCTURED-LOCATION;VALUE=URI;X-ADDRESS=Teatr im. L.Solskiego Mickiewicza 4 Tarnów małopolskie 33-100 Polska;X-APPLE-RADIUS=500;X-TITLE=Mickiewicza 4:geo:20.987504,50.0159214
END:VEVENT
BEGIN:VEVENT
DTSTART;TZID=Europe/Warsaw:20260423T090000
DTEND;TZID=Europe/Warsaw:20260423T170000
DTSTAMP:20260422T082724
CREATED:20260417T084620Z
LAST-MODIFIED:20260421T104921Z
UID:10043824-1776934800-1776963600@www.it.tarnow.pl
SUMMARY:„Rozmowy przy stole” – wystawa prac Szymona Pikusy w Teatrze Solskiego
DESCRIPTION:Ekspozycja będzie dostępna do 27 kwietnia 2026 w godzinach pracy instytucji. \nWystawa stanowi artystyczną refleksję nad tym\, co rozgrywa się w sferze myśli\, słów i emocji. W swoich pracach Szymon podejmuje próbę uchwycenia momentów ciszy\, skupienia oraz napięcia między gestem twórczym a materiałem. Różnorodne techniki – malarstwo\, rysunek i kolaż – stają się narzędziami dialogu pozostawiającymi odmienne ślady. W efekcie powstaje wielowarstwowa opowieść o poszukiwaniu odpowiedzi\, o samym procesie twórczym oraz o rozmowach\, które często prowadzimy sami ze sobą.
URL:https://www.it.tarnow.pl/wydarzenie/rozmowy-przy-stole-wystawa-prac-szymona-pikusy-w-teatrze-solskiego/2026-04-23/
LOCATION:Teatr im. L.Solskiego\, Mickiewicza 4\, Tarnów\, małopolskie\, 33-100\, Polska
CATEGORIES:wystawy i wernisaże
GEO:50.0159214;20.987504
X-APPLE-STRUCTURED-LOCATION;VALUE=URI;X-ADDRESS=Teatr im. L.Solskiego Mickiewicza 4 Tarnów małopolskie 33-100 Polska;X-APPLE-RADIUS=500;X-TITLE=Mickiewicza 4:geo:20.987504,50.0159214
END:VEVENT
BEGIN:VEVENT
DTSTART;TZID=Europe/Warsaw:20260424T090000
DTEND;TZID=Europe/Warsaw:20260424T170000
DTSTAMP:20260422T082724
CREATED:20260417T084620Z
LAST-MODIFIED:20260421T104921Z
UID:10043825-1777021200-1777050000@www.it.tarnow.pl
SUMMARY:„Rozmowy przy stole” – wystawa prac Szymona Pikusy w Teatrze Solskiego
DESCRIPTION:Ekspozycja będzie dostępna do 27 kwietnia 2026 w godzinach pracy instytucji. \nWystawa stanowi artystyczną refleksję nad tym\, co rozgrywa się w sferze myśli\, słów i emocji. W swoich pracach Szymon podejmuje próbę uchwycenia momentów ciszy\, skupienia oraz napięcia między gestem twórczym a materiałem. Różnorodne techniki – malarstwo\, rysunek i kolaż – stają się narzędziami dialogu pozostawiającymi odmienne ślady. W efekcie powstaje wielowarstwowa opowieść o poszukiwaniu odpowiedzi\, o samym procesie twórczym oraz o rozmowach\, które często prowadzimy sami ze sobą.
URL:https://www.it.tarnow.pl/wydarzenie/rozmowy-przy-stole-wystawa-prac-szymona-pikusy-w-teatrze-solskiego/2026-04-24/
LOCATION:Teatr im. L.Solskiego\, Mickiewicza 4\, Tarnów\, małopolskie\, 33-100\, Polska
CATEGORIES:wystawy i wernisaże
GEO:50.0159214;20.987504
X-APPLE-STRUCTURED-LOCATION;VALUE=URI;X-ADDRESS=Teatr im. L.Solskiego Mickiewicza 4 Tarnów małopolskie 33-100 Polska;X-APPLE-RADIUS=500;X-TITLE=Mickiewicza 4:geo:20.987504,50.0159214
END:VEVENT
BEGIN:VEVENT
DTSTART;TZID=Europe/Warsaw:20260425T090000
DTEND;TZID=Europe/Warsaw:20260425T170000
DTSTAMP:20260422T082724
CREATED:20260417T084620Z
LAST-MODIFIED:20260421T104921Z
UID:10043826-1777107600-1777136400@www.it.tarnow.pl
SUMMARY:„Rozmowy przy stole” – wystawa prac Szymona Pikusy w Teatrze Solskiego
DESCRIPTION:Ekspozycja będzie dostępna do 27 kwietnia 2026 w godzinach pracy instytucji. \nWystawa stanowi artystyczną refleksję nad tym\, co rozgrywa się w sferze myśli\, słów i emocji. W swoich pracach Szymon podejmuje próbę uchwycenia momentów ciszy\, skupienia oraz napięcia między gestem twórczym a materiałem. Różnorodne techniki – malarstwo\, rysunek i kolaż – stają się narzędziami dialogu pozostawiającymi odmienne ślady. W efekcie powstaje wielowarstwowa opowieść o poszukiwaniu odpowiedzi\, o samym procesie twórczym oraz o rozmowach\, które często prowadzimy sami ze sobą.
URL:https://www.it.tarnow.pl/wydarzenie/rozmowy-przy-stole-wystawa-prac-szymona-pikusy-w-teatrze-solskiego/2026-04-25/
LOCATION:Teatr im. L.Solskiego\, Mickiewicza 4\, Tarnów\, małopolskie\, 33-100\, Polska
CATEGORIES:wystawy i wernisaże
GEO:50.0159214;20.987504
X-APPLE-STRUCTURED-LOCATION;VALUE=URI;X-ADDRESS=Teatr im. L.Solskiego Mickiewicza 4 Tarnów małopolskie 33-100 Polska;X-APPLE-RADIUS=500;X-TITLE=Mickiewicza 4:geo:20.987504,50.0159214
END:VEVENT
BEGIN:VEVENT
DTSTART;TZID=Europe/Warsaw:20260426T090000
DTEND;TZID=Europe/Warsaw:20260426T170000
DTSTAMP:20260422T082724
CREATED:20260417T084620Z
LAST-MODIFIED:20260421T104921Z
UID:10043827-1777194000-1777222800@www.it.tarnow.pl
SUMMARY:„Rozmowy przy stole” – wystawa prac Szymona Pikusy w Teatrze Solskiego
DESCRIPTION:Ekspozycja będzie dostępna do 27 kwietnia 2026 w godzinach pracy instytucji. \nWystawa stanowi artystyczną refleksję nad tym\, co rozgrywa się w sferze myśli\, słów i emocji. W swoich pracach Szymon podejmuje próbę uchwycenia momentów ciszy\, skupienia oraz napięcia między gestem twórczym a materiałem. Różnorodne techniki – malarstwo\, rysunek i kolaż – stają się narzędziami dialogu pozostawiającymi odmienne ślady. W efekcie powstaje wielowarstwowa opowieść o poszukiwaniu odpowiedzi\, o samym procesie twórczym oraz o rozmowach\, które często prowadzimy sami ze sobą.
URL:https://www.it.tarnow.pl/wydarzenie/rozmowy-przy-stole-wystawa-prac-szymona-pikusy-w-teatrze-solskiego/2026-04-26/
LOCATION:Teatr im. L.Solskiego\, Mickiewicza 4\, Tarnów\, małopolskie\, 33-100\, Polska
CATEGORIES:wystawy i wernisaże
GEO:50.0159214;20.987504
X-APPLE-STRUCTURED-LOCATION;VALUE=URI;X-ADDRESS=Teatr im. L.Solskiego Mickiewicza 4 Tarnów małopolskie 33-100 Polska;X-APPLE-RADIUS=500;X-TITLE=Mickiewicza 4:geo:20.987504,50.0159214
END:VEVENT
BEGIN:VEVENT
DTSTART;TZID=Europe/Warsaw:20260427T090000
DTEND;TZID=Europe/Warsaw:20260427T170000
DTSTAMP:20260422T082724
CREATED:20260417T084620Z
LAST-MODIFIED:20260421T104921Z
UID:10043828-1777280400-1777309200@www.it.tarnow.pl
SUMMARY:„Rozmowy przy stole” – wystawa prac Szymona Pikusy w Teatrze Solskiego
DESCRIPTION:Ekspozycja będzie dostępna do 27 kwietnia 2026 w godzinach pracy instytucji. \nWystawa stanowi artystyczną refleksję nad tym\, co rozgrywa się w sferze myśli\, słów i emocji. W swoich pracach Szymon podejmuje próbę uchwycenia momentów ciszy\, skupienia oraz napięcia między gestem twórczym a materiałem. Różnorodne techniki – malarstwo\, rysunek i kolaż – stają się narzędziami dialogu pozostawiającymi odmienne ślady. W efekcie powstaje wielowarstwowa opowieść o poszukiwaniu odpowiedzi\, o samym procesie twórczym oraz o rozmowach\, które często prowadzimy sami ze sobą.
URL:https://www.it.tarnow.pl/wydarzenie/rozmowy-przy-stole-wystawa-prac-szymona-pikusy-w-teatrze-solskiego/2026-04-27/
LOCATION:Teatr im. L.Solskiego\, Mickiewicza 4\, Tarnów\, małopolskie\, 33-100\, Polska
CATEGORIES:wystawy i wernisaże
GEO:50.0159214;20.987504
X-APPLE-STRUCTURED-LOCATION;VALUE=URI;X-ADDRESS=Teatr im. L.Solskiego Mickiewicza 4 Tarnów małopolskie 33-100 Polska;X-APPLE-RADIUS=500;X-TITLE=Mickiewicza 4:geo:20.987504,50.0159214
END:VEVENT
END:VCALENDAR