BEGIN:VCALENDAR
VERSION:2.0
PRODID:-//Tarnowskie Centrum Informacji - ECPv6.13.2.1//NONSGML v1.0//EN
CALSCALE:GREGORIAN
METHOD:PUBLISH
X-WR-CALNAME:Tarnowskie Centrum Informacji
X-ORIGINAL-URL:https://www.it.tarnow.pl
X-WR-CALDESC:Wydarzenia z
REFRESH-INTERVAL;VALUE=DURATION:PT1H
X-Robots-Tag:noindex
X-PUBLISHED-TTL:PT1H
BEGIN:VTIMEZONE
TZID:Europe/Warsaw
BEGIN:DAYLIGHT
TZOFFSETFROM:+0100
TZOFFSETTO:+0200
TZNAME:CEST
DTSTART:20260329T010000
END:DAYLIGHT
BEGIN:STANDARD
TZOFFSETFROM:+0200
TZOFFSETTO:+0100
TZNAME:CET
DTSTART:20261025T010000
END:STANDARD
END:VTIMEZONE
BEGIN:VEVENT
DTSTART;TZID=Europe/Warsaw:20260417T090000
DTEND;TZID=Europe/Warsaw:20260427T170000
DTSTAMP:20260420T050442
CREATED:20260417T084620Z
LAST-MODIFIED:20260417T084620Z
UID:10043506-1776416400-1777309200@www.it.tarnow.pl
SUMMARY:„Rozmowy przy stole” – wystawa prac Szymona Pikusy w Teatrze Solskiego
DESCRIPTION:Ekspozycja będzie dostępna do 27 kwietnia 2026 w godzinach pracy instytucji. \nWystawa stanowi artystyczną refleksję nad tym\, co rozgrywa się w sferze myśli\, słów i emocji. W swoich pracach Szymon podejmuje próbę uchwycenia momentów ciszy\, skupienia oraz napięcia między gestem twórczym a materiałem. Różnorodne techniki – malarstwo\, rysunek i kolaż – stają się narzędziami dialogu pozostawiającymi odmienne ślady. W efekcie powstaje wielowarstwowa opowieść o poszukiwaniu odpowiedzi\, o samym procesie twórczym oraz o rozmowach\, które często prowadzimy sami ze sobą.
URL:https://www.it.tarnow.pl/wydarzenie/rozmowy-przy-stole-wystawa-prac-szymona-pikusy-w-teatrze-solskiego/
LOCATION:Teatr im. L.Solskiego\, Mickiewicza 4\, Tarnów\, małopolskie\, 33-100\, Polska
CATEGORIES:wystawy i wernisaże
GEO:50.0159214;20.987504
X-APPLE-STRUCTURED-LOCATION;VALUE=URI;X-ADDRESS=Teatr im. L.Solskiego Mickiewicza 4 Tarnów małopolskie 33-100 Polska;X-APPLE-RADIUS=500;X-TITLE=Mickiewicza 4:geo:20.987504,50.0159214
END:VEVENT
BEGIN:VEVENT
DTSTART;TZID=Europe/Warsaw:20260420T080000
DTEND;TZID=Europe/Warsaw:20260420T150000
DTSTAMP:20260420T050442
CREATED:20250918T093236Z
LAST-MODIFIED:20250918T094247Z
UID:10039459-1776672000-1776697200@www.it.tarnow.pl
SUMMARY:Stała wystawa fragmentów „Panoramy Siedmiogrodzkiej”
DESCRIPTION:W Galerii „Panorama” umiejscowionej w budynku tarnowskiego dworca kolejowego prezentowana jest wystawa stała poświęcona „Panoramie Siedmiogrodzkiej” autorstwa Jana Styki oraz zespołu malarzy pracujących pod jego kierownictwem. Obraz uwiecznia zdobycie Sybina przez Węgrów pod dowództwem generała Józefa Bema\, 11 marca 1849 roku. Został on stworzony w 1897 roku na zamówienie Węgrów\, w celu uczczenia zbliżającej się 50-tej rocznicy węgierskiego powstania przeciwko Austriakom w latach 1848-49. \n\n\nGodziny otwarcia\n\nPoniedziałek 8.00 – 15.00\nWtorek 8.00 – 15.00\nŚroda 8.00 – 15.00\nCzwarte k8.00 – 15.00\nPiątek 8.00 – 15.00\nSobota nieczynne\nNiedziela 10.00 – 14.00 (od 1 października do 30 kwietnia)\n\n  \n 
URL:https://www.it.tarnow.pl/wydarzenie/stala-wystawa-fragmentow-panoramy-siedmiogrodzkiej-2/2026-04-20/
LOCATION:Galeria „Panorama” – Oddział  Muzeum Ziemi Tarnowskiej\, Plac Dworcowy 4\, Tarnów\, małopolskie\, 33-156
CATEGORIES:wystawy i wernisaże
ATTACH;FMTTYPE=image/jpeg:https://www.it.tarnow.pl/wp-content/uploads/2025/03/baner2-650x288-1.jpg
GEO:50.0057629;20.9744639
X-APPLE-STRUCTURED-LOCATION;VALUE=URI;X-ADDRESS=Galeria „Panorama” – Oddział  Muzeum Ziemi Tarnowskiej Plac Dworcowy 4 Tarnów małopolskie 33-156;X-APPLE-RADIUS=500;X-TITLE=Plac Dworcowy 4:geo:20.9744639,50.0057629
END:VEVENT
BEGIN:VEVENT
DTSTART;TZID=Europe/Warsaw:20260420T180000
DTEND;TZID=Europe/Warsaw:20260420T190000
DTSTAMP:20260420T050442
CREATED:20260401T114408Z
LAST-MODIFIED:20260401T114408Z
UID:10043408-1776708000-1776711600@www.it.tarnow.pl
SUMMARY:Kwietniowe wydarzenia w Osiedlowym Domu Kultury Westerplatte
DESCRIPTION:Harmonogram zaplanowanych wydarzeń:  \n1 kwietnia\, godz. 18:00 Otwarcie wystawy Igora Szymczyka w ramach projektu Zwolnieni z teorii \n\n W dniach 4-6 kwietnia odpoczywamy i zajadamy się jajkami i sałatkami ze świątecznego stołu \n\n8 kwietnia (środa)\, godz. 16:30 Szur! Trzask! Plask! Zajęcia sensoplastyczne dla dzieci do lat 3.  | warsztaty płatne: 40 zł\, zapisy\n\n10 kwietnia(piątek)\, 19:00 Planszówki Młodzieżówki | Nocne spotkanie  | wstęp wolny \n\n11 kwietnia (sobota)\, 10:00-15:00 Pięć przemian w 5 godzin – warsztaty zdrowego żywienia dla zajętych | warsztaty płatne: 250 zł\, zapisy \n\n13-27 kwietnia\, 10:00-18:00 WYSTAWA – „Kochany Tato… Zbrodnia Katyńska z perspektywy rodzin” | wstęp wolny\, dzięki uprzejmości Muzeum Tradycji Niepodległościowych w Łodzi \n\n15 kwietnia (środa) 10:00 Uroczystości katyńskie w 86. rocznicę | wstęp wolny\, akademia przygotowana przez uczniów ZSOT im. Szczepanika\n\n16 kwietnia (czwartek) 10:00 II Bieg pamięci „Katyń… 1940. Biegamy\, bo pamiętamy” | wstęp wolny\, zapisy: www.kepasport.pl \n\n17 kwietnia (piątek)\, 9:00 Poczytanki rysowanki dla przedszkolaków 5-6 lat | spotkanie darmowe\, zapisy\n\n18 kwietnia (sobota)\, 17:00 W starym kinie | Koncert zespołu STOLAT | wstęp wolny\n\n21 kwietnia (wtorek)\, 18:00 Rozmowy o historii: „Post mortem. Historia Zofii Dwornik” | Słuchowisko  | wstęp wolny\, gość specjalny Sebastian Adamkiewicz\n\n24 kwietnia (piątek)\, 16:00 Mały Domek – miejsce spotkań dla młodzieży | wstęp wolny\, przestrzeń społecznej kreacji!\n\n24 kwietnia (piątek)\, 16:30-18:30 Słuchanki układanki | Rodzinne spotkanie i wymiana puzzli  | wstęp wolny \n\n26 kwietnia (niedziela)\, 15:00 – 18:00 Warsztaty białego śpiewu | Pieśni wiosenne | wstęp płatny: 40 zł\, zapisy \n\n28 kwietnia (wtorek)\, 8:00-12:00 Oddaj krew! Ruchomy punkt krwiodawstwa na Westerplatte | pakiet energetyczny\, dwa dni wolnego\, i ratowanie czyjegoś życia
URL:https://www.it.tarnow.pl/wydarzenie/kwietniowe-wydarzenia-w-osiedlowym-domu-kultury-westerplatte/2026-04-20/
LOCATION:Osiedlowy Dom Kultury ul. Westerplatte 8 a\, Tarnów\, małopolskie\, Polska
CATEGORIES:warsztaty
ATTACH;FMTTYPE=image/jpeg:https://www.it.tarnow.pl/wp-content/uploads/2026/04/656017140_949222118066434_2979611986943620587_n.jpg
GEO:50.0121011;20.9858407
END:VEVENT
BEGIN:VEVENT
DTSTART;TZID=Europe/Warsaw:20260420T180000
DTEND;TZID=Europe/Warsaw:20260420T190000
DTSTAMP:20260420T050442
CREATED:20260409T144138Z
LAST-MODIFIED:20260409T144138Z
UID:10043478-1776708000-1776711600@www.it.tarnow.pl
SUMMARY:"Estrada Młodych" - Koncerty dyplomowe uczniów Zespołu Szkół Muzycznych
DESCRIPTION:Od piątku 10 kwietnia do czwartku 23 kwietnia w sali koncertowej Zespołu Szkół Muzycznych przy ul. Lippóczy’ego 4 w Tarnowie słuchać będzie można koncertów dyplomowych uczniów ZSM. Wstęp wolny. \nHarmonogram koncertów: \n\n	10 kwietnia (piątek) godz. 17:00 – Natalia Ożóg (skrzypce)\n	20 kwietnia (poniedziałek) godz. 18:00 – Mikołaj Sikora (gitara)\n	21 kwietnia (wtorek) godz. 18:00 – Natalia Chrobak (flet)\n	22 kwietnia (środa) godz. 17:00 – Emilia Górowska (pianino)\n	23 kwietnia (czwartek) godz. 17:00 – Tomasz Kochan (perkusja)\n	23 kwietnia (czwartek) godz. 18:00 – Filip Sikora (perkusja)\n\nNiektórym młodym artystom towarzyszyć będą nauczyciele Zespołu Szkół Muzycznych\, pianiści: Ewelina Panocha\, Aleksandra Sadowska i Waldemar Różański. \nKoncerty dyplomowe odbywać będą się w ramach projektu „Estrada Młodych” realizowanego we współpracy z Centrum Paderewskiego w Kąśnej Dolnej.
URL:https://www.it.tarnow.pl/wydarzenie/estrada-mlodych-koncerty-dyplomowe-uczniow-zespolu-szkol-muzycznych/2026-04-20/
LOCATION:Sala Koncertowa Zespołu Szkół Muzycznych\, ul. Lippóczy’ego 4\, Tarnów\, 33-100
CATEGORIES:muzyka
ATTACH;FMTTYPE=image/jpeg:https://www.it.tarnow.pl/wp-content/uploads/2026/04/estrada-mlodych-koncerty.jpg
END:VEVENT
END:VCALENDAR