BEGIN:VCALENDAR
VERSION:2.0
PRODID:-//Tarnowskie Centrum Informacji - ECPv6.13.2.1//NONSGML v1.0//EN
CALSCALE:GREGORIAN
METHOD:PUBLISH
X-WR-CALNAME:Tarnowskie Centrum Informacji
X-ORIGINAL-URL:https://www.it.tarnow.pl
X-WR-CALDESC:Wydarzenia z
REFRESH-INTERVAL;VALUE=DURATION:PT1H
X-Robots-Tag:noindex
X-PUBLISHED-TTL:PT1H
BEGIN:VTIMEZONE
TZID:Europe/Warsaw
BEGIN:DAYLIGHT
TZOFFSETFROM:+0100
TZOFFSETTO:+0200
TZNAME:CEST
DTSTART:20260329T010000
END:DAYLIGHT
BEGIN:STANDARD
TZOFFSETFROM:+0200
TZOFFSETTO:+0100
TZNAME:CET
DTSTART:20261025T010000
END:STANDARD
END:VTIMEZONE
BEGIN:VEVENT
DTSTART;VALUE=DATE:20260328
DTEND;VALUE=DATE:20260329
DTSTAMP:20260420T063412
CREATED:20260304T072046Z
LAST-MODIFIED:20260330T061904Z
UID:10042890-1774656000-1774742399@www.it.tarnow.pl
SUMMARY:Tarnów Spartan Race
DESCRIPTION:W 2026 roku Spartan zawita do zupełnie nowej lokalizacji – do bieguna ciepła Polski\, czyli Tarnowa! Już 28 marca czeka na Was wyjątkowe wydarzenie\, które połączy w sobie miejskie klimaty\, naturę i historię. Na uczestników czeka dystans Super – 10 km i 25 przeszkód\, Sprint – 5 km i 20 przeszkód\, a także Spartan Kids dla najmłodszych wojowników. Tarnów to miasto o niezwykłym charakterze – ciepłe\, pełne słońca i energii\, a jednocześnie otoczone pagórkami i malowniczymi krajobrazami. Trasa poprowadzi Was przez urokliwe zakątki miasta\, wzniesienia\, a także w okolice starych ruin zamków\, które dodadzą biegowi niepowtarzalnego klimatu. Będzie pot\, błoto\, górki\, miasto i historia – wszystko to\, co sprawia\, że Spartan to coś więcej niż tylko bieg. Tarnów stanie się kolejną areną dla Spartan gotowych na każde wyzwanie. Przyjedź\, poczuj ducha Spartana i pokaż\, że jesteś gotowy na wszystko!
URL:https://www.it.tarnow.pl/wydarzenie/tarnow-spartan-race/2026-03-28/
LOCATION:Park Biegowy Marcinka\, Tarnów\, małopolskie\, 33-100\, Polska
CATEGORIES:sport
ATTACH;FMTTYPE=image/jpeg:https://www.it.tarnow.pl/wp-content/uploads/2026/03/645974778_1371183825052922_5713979756861554688_n.jpg
GEO:50.0121011;20.9858407
END:VEVENT
BEGIN:VEVENT
DTSTART;TZID=Europe/Warsaw:20260328T090000
DTEND;TZID=Europe/Warsaw:20260328T130000
DTSTAMP:20260420T063412
CREATED:20260315T102319Z
LAST-MODIFIED:20260315T102319Z
UID:10043252-1774688400-1774702800@www.it.tarnow.pl
SUMMARY:„Wyrywane demencji – mojej mamie” Emilia Gawron.” - wystawa czasowa Urszuli Gawron-Leśniar
DESCRIPTION:Prezentowane prace zostały opracowane przez Tarnowiankę\, artystkę Urszulę Gawron-Leśniar i stanowią poruszającą opowieść o pamięci\, relacji matki i córki oraz o próbie zatrzymania tego\, co stopniowo znika. \n\nWernisaż wystawy czasowej „Wyrywane demencji – mojej mamie Emilia Gawron” odbędzie się 17 marca 2026 r.\, o godz 17:00 w Muzeum Diecezjalnym w Tarnowie. Wydarzenie uświetni oprawą muzyczną: Mikołaj Skórka – gitara.\n\nWystawa będzie czynna do 26 kwietnia 2026 r.\n\n\n\nZapraszamy do wspólnego spotkania ze sztuką\, która dotyka spraw najdelikatniejszych – pamięci\, miłości i przemijania.
URL:https://www.it.tarnow.pl/wydarzenie/wyrywane-demencji-mojej-mamie-emilia-gawron-wystawa-czasowa-urszuli-gawron-lesniar/2026-03-28/
LOCATION:Muzeum Diecezjalne\, Pl. Katedralny 6\, Tarnów\, małopolskie\, 33-100\, Polska
CATEGORIES:wystawy i wernisaże
ATTACH;FMTTYPE=image/jpeg:https://www.it.tarnow.pl/wp-content/uploads/2026/03/plakat-wyrywanie-demencji.jpg
GEO:50.0135975;20.9874165
X-APPLE-STRUCTURED-LOCATION;VALUE=URI;X-ADDRESS=Muzeum Diecezjalne Pl. Katedralny 6 Tarnów małopolskie 33-100 Polska;X-APPLE-RADIUS=500;X-TITLE=Pl. Katedralny 6:geo:20.9874165,50.0135975
END:VEVENT
BEGIN:VEVENT
DTSTART;TZID=Europe/Warsaw:20260328T090000
DTEND;TZID=Europe/Warsaw:20260328T150000
DTSTAMP:20260420T063412
CREATED:20251215T102348Z
LAST-MODIFIED:20251215T134026Z
UID:10041735-1774688400-1774710000@www.it.tarnow.pl
SUMMARY:Wystawa „Kwiaty i pejzaże” Marii Wójcickiej-Kaczmarek
DESCRIPTION:Od poniedziałku\, 8 grudnia w filii nr 8 Miejskiej Biblioteki Publicznej w Tarnowie przy ul. Traugutta 1 oglądać można wystawę malarstwa „Kwiaty i pejzaże” Marii Wójcickiej-Kaczmarek. \nJest ona rodowitą mościczanką o korzeniach kresowych. Ukończyła Liceum Sztuk Plastycznych w Tarnowie i pracowała jako dekoratorka wnętrz\, plastyk miejski\, florystka oraz pracownica rekwizytorni Teatru im. Ludwika Solskiego w Tarnowie. \nNajwiększą jej miłością jest przyroda i to ona stanowi największe wyzwanie malarskie artystki. Jak sama mówi: – Tak szczęście\, jak i piękno są tylko chwilą (…) Cud natury nie jest do opowiedzenia najlepszym słowem. \nIstnieje możliwość zakupu prezentowanych prac. Ekspozycja dostępna będzie do zwiedzania do 31 marca w godzinach pracy Biblioteki.
URL:https://www.it.tarnow.pl/wydarzenie/wystawa-kwiaty-i-pejzaze-marii-wojcickiej-kaczmarek-3-2/2026-03-28/
LOCATION:MBP\, Filia 8\, ul. Traugutta 1\, Tarnów\, małopolskie\, 33-100\, Polska
CATEGORIES:wystawy i wernisaże
ATTACH;FMTTYPE=image/jpeg:https://www.it.tarnow.pl/wp-content/uploads/2025/12/wojcicka.jpg
GEO:50.009833;20.92706
X-APPLE-STRUCTURED-LOCATION;VALUE=URI;X-ADDRESS=MBP Filia 8 ul. Traugutta 1 Tarnów małopolskie 33-100 Polska;X-APPLE-RADIUS=500;X-TITLE=ul. Traugutta 1:geo:20.92706,50.009833
END:VEVENT
BEGIN:VEVENT
DTSTART;TZID=Europe/Warsaw:20260328T090000
DTEND;TZID=Europe/Warsaw:20260328T150000
DTSTAMP:20260420T063412
CREATED:20260303T143616Z
LAST-MODIFIED:20260303T143616Z
UID:10042887-1774688400-1774710000@www.it.tarnow.pl
SUMMARY:Wystawa fotografii Marka Janickiego
DESCRIPTION:W dniu 6 marca o godz. 16.30 w filii nr 9 Miejskiej Biblioteki Publicznej przy ul. Krzyskiej 116 rozpocznie się wernisaż wystawy fotografii Marka Janickiego „Z książką wśród natury”. Wystawa czynna jest do wtorku\, 31 marca.
URL:https://www.it.tarnow.pl/wydarzenie/wystawa-fotografii-marka-janickiego/2026-03-28/
LOCATION:FILIA NR 9 MBP\, ul. Krzyska 116\, Tarnów\, małopolskie\, Polska
CATEGORIES:wystawy i wernisaże
ATTACH;FMTTYPE=image/jpeg:https://www.it.tarnow.pl/wp-content/uploads/2026/03/janicki.jpg
GEO:50.043661;20.9924189
X-APPLE-STRUCTURED-LOCATION;VALUE=URI;X-ADDRESS=FILIA NR 9 MBP ul. Krzyska 116 Tarnów małopolskie Polska;X-APPLE-RADIUS=500;X-TITLE=ul. Krzyska 116:geo:20.9924189,50.043661
END:VEVENT
BEGIN:VEVENT
DTSTART;TZID=Europe/Warsaw:20260328T100000
DTEND;TZID=Europe/Warsaw:20260328T123000
DTSTAMP:20260420T063412
CREATED:20260227T132804Z
LAST-MODIFIED:20260227T132804Z
UID:10042845-1774692000-1774701000@www.it.tarnow.pl
SUMMARY:35. Regionalny Konkurs na Pisankę Ludową i Plastykę Obrzędową związaną z okresem Wielkanocy
DESCRIPTION:Zapraszamy na 35. Regionalny Konkurs na Pisankę Ludową i Plastykę Obrzędową! \nDyrektor Muzeum Ziemi Tarnowskiej Kazimierz Kurczab oraz Dyrektor Małopolskie Centrum Kultury „Sokół” Andrzej Zarych serdecznie zapraszają do udziału w wyjątkowym\, jubileuszowym 35. Regionalnym Konkursie na Pisankę Ludową i Plastykę Obrzędową związaną z okresem Wielkanocy. \nKonkurs odbędzie się w dniach 23–28 marca 2026 r. w salach wystawienniczych Muzeum Etnograficznego w Tarnowie (oddział Muzeum Ziemi Tarnowskiej) przy ul. Krakowskiej 10. \nWystawa prac będzie czynna w dniach 25–27 marca 2026 r. \nKiermasz Wielkanocny odbędzie się w sobotę 28 marca 2026 r.\, przed uroczystym ogłoszeniem wyników\, które nastąpi o godz. 12:00. \nW ubiegłym roku w konkursie wzięło udział ponad 200 uczestników z całego regionu – mamy nadzieję\, że tegoroczna edycja będzie cieszyć się jeszcze większym zainteresowaniem i ponownie zgromadzi twórców oraz miłośników tradycji ludowej. \nSerdecznie zapraszamy do udziału oraz odwiedzenia wystawy i kiermaszu!
URL:https://www.it.tarnow.pl/wydarzenie/35-regionalny-konkurs-na-pisanke-ludowa-i-plastyke-obrzedowa-zwiazana-z-okresem-wielkanocy/2026-03-28/
LOCATION:Muzeum Etnograficzne\, ul. Krakowska 10\, Tarnów\, małopolskie\, 33-100
CATEGORIES:wydarzenia specjalne
ATTACH;FMTTYPE=image/png:https://www.it.tarnow.pl/wp-content/uploads/2026/02/plakat_pisanki2026_0-scaled.png
ORGANIZER;CN="Muzeum Ziemi Tarnowskiej":MAILTO:rynek@muzeum.tarnow.pl
GEO:50.010841;20.983289
X-APPLE-STRUCTURED-LOCATION;VALUE=URI;X-ADDRESS=Muzeum Etnograficzne ul. Krakowska 10 Tarnów małopolskie 33-100;X-APPLE-RADIUS=500;X-TITLE=ul. Krakowska 10:geo:20.983289,50.010841
END:VEVENT
BEGIN:VEVENT
DTSTART;TZID=Europe/Warsaw:20260328T100000
DTEND;TZID=Europe/Warsaw:20260328T170000
DTSTAMP:20260420T063412
CREATED:20260311T105735Z
LAST-MODIFIED:20260311T105735Z
UID:10043052-1774692000-1774717200@www.it.tarnow.pl
SUMMARY:Smaki Regionu - Tarnowski Jarmark Wielkanocny
DESCRIPTION:Informacje z plakatu: \nDołącz do nas w przedświątecznym klimacie\, aby odkryć smaki i tradycje naszego regionu. \nCo przygotowaliśmy? \n\n	Regionalne przysmaki i tradycyjne potrawy\n	Stroiki  i dekoracje wielkanocne\n	Wyroby spożywcze od lokalnych producentów\n	Degustację świątecznych specjałów\n\nWspólnie z nami tę tradycję tworzą regionalne winnice\, rzemieślnicze octy oraz mistrzowie wyrobów z drewna i rękodzieła. Poznaj jakość od Kół Gospodyń Wiejskich i lokalnych producentów wędlin oraz pieczywa. Całość dopełni sportowa energia Spartan Race Tarnów\, tworząc wyjątkową atmosferę świątecznego spotkania.
URL:https://www.it.tarnow.pl/wydarzenie/smaki-regionu-tarnowski-jarmark-wielkanocny/
LOCATION:Rynek\, Tarnów\, małopolskie\, 33-100\, Polska
CATEGORIES:imprezy plenerowe
ATTACH;FMTTYPE=image/png:https://www.it.tarnow.pl/wp-content/uploads/2026/03/jarmark.png
ORGANIZER;CN="Unit37":MAILTO:unit@unit37.pl
GEO:50.0121011;20.9858407
END:VEVENT
BEGIN:VEVENT
DTSTART;TZID=Europe/Warsaw:20260328T100000
DTEND;TZID=Europe/Warsaw:20260328T170000
DTSTAMP:20260420T063412
CREATED:20260312T131530Z
LAST-MODIFIED:20260312T131530Z
UID:10043217-1774692000-1774717200@www.it.tarnow.pl
SUMMARY:"Rozważania nad istotą czasu" - wystawa fotografii
DESCRIPTION:Od soboty\, 14 marca do piątku\, 3 kwietnia\, w Galerii Tarnowskiego Centrum Kultury (Rynek 5) oglądać będzie można wystawę fotografii Marka Kucharczyka „Rozważania nad istotą czasu”. \nFotograf z Lublina po raz kolejny zaprezentuje swoje prace tarnowskiej publiczności\, tym razem podejmując próbę odzwierciedlenia w fotografii zróżnicowanej i wieloaspektowej natury czasu. Jego fotografie oglądać będzie od poniedziałku do piątku w godz. 10:00-18:00\, a w soboty od godz. 10:00 do 17:00. Bilety wstępu: 7 złotych (normalny) i 5 złotych (ulgowy).
URL:https://www.it.tarnow.pl/wydarzenie/rozwazania-nad-istota-czasu-wystawa-fotografii/2026-03-28/
LOCATION:Galeria TCK\, Rynek 5\, Tarnów\, małopolskie\, 33-100\, Poland
CATEGORIES:wystawy i wernisaże
ATTACH;FMTTYPE=image/jpeg:https://www.it.tarnow.pl/wp-content/uploads/2026/03/kucharczyk.jpeg
END:VEVENT
BEGIN:VEVENT
DTSTART;TZID=Europe/Warsaw:20260328T100000
DTEND;TZID=Europe/Warsaw:20260328T180000
DTSTAMP:20260420T063412
CREATED:20260327T115751Z
LAST-MODIFIED:20260327T115751Z
UID:10043373-1774692000-1774720800@www.it.tarnow.pl
SUMMARY:Giełdy Biżuterii\, Minerałów i Skamieniałości Natura i Sztuka
DESCRIPTION:Chcesz się poczuć młodziej na wiosnę? Przyjdź na Giełdę Minerałów\, Skamieniałości i Biżuterii w Tarnowie 28-29 marca 2026r. (sb-nd). W towarzystwie skamieniałości roślin i zwierząt mających kilkaset milionów lat poczujesz się jak osesek. Zapraszamy kolekcjonerów i ciekawych świata do klubu „Gwiazda” ul. Kopernika7\, w godz. 10-18.
URL:https://www.it.tarnow.pl/wydarzenie/gieldy-bizuterii-mineralow-i-skamienialosci-natura-i-sztuka/2026-03-28/
LOCATION:Klub Gwiazda\, ul. Kopernika 7\, Tarnów\, małopolskie\, 33-100\, Polska
CATEGORIES:wydarzenia specjalne
ATTACH;FMTTYPE=image/jpeg:https://www.it.tarnow.pl/wp-content/uploads/2026/03/643945110_953596473852605_4405795477275938105_n.jpg
GEO:50.0140509;20.9831383
X-APPLE-STRUCTURED-LOCATION;VALUE=URI;X-ADDRESS=Klub Gwiazda ul. Kopernika 7 Tarnów małopolskie 33-100 Polska;X-APPLE-RADIUS=500;X-TITLE=ul. Kopernika 7:geo:20.9831383,50.0140509
END:VEVENT
BEGIN:VEVENT
DTSTART;TZID=Europe/Warsaw:20260328T110000
DTEND;TZID=Europe/Warsaw:20260328T160000
DTSTAMP:20260420T063412
CREATED:20260302T121716Z
LAST-MODIFIED:20260302T121716Z
UID:10042864-1774695600-1774713600@www.it.tarnow.pl
SUMMARY:Kinga Birecka – malarstwo i medaliony
DESCRIPTION:5 marca w Galerii Stowarzyszenia Tarnowskich Artystów Plastyków Arteka przy ul. Wałowej 16 będzie miał miejsce wernisaż wystawy „Malarstwo i medaliony” Kingi Bireckiej. Początek o godz. 18. \nKinga Birecka jest absolwentką Liceum Plastycznego w Tarnowie. Ukończyła z wyróżnieniem studia malarskie na LSAD Limerick Institute of Technology w Irlandii z tytułem Bachelor of Arts (Hons). Prowadzi zajęcia plastyczne w Dąbrowskim Domu Kultury. \nWystawę oglądać będzie można do soboty\, 28 marca.
URL:https://www.it.tarnow.pl/wydarzenie/kinga-birecka-malarstwo-i-medaliony/2026-03-28/
LOCATION:Galeria Arteka\, Wałowa 16\, Tarnów\, Małopolska\, 33-100\, Polska
CATEGORIES:wystawy i wernisaże
ATTACH;FMTTYPE=image/jpeg:https://www.it.tarnow.pl/wp-content/uploads/2026/03/W_30-KINGA-BIRECKA-ZAPROSZENIE.jpg
END:VEVENT
BEGIN:VEVENT
DTSTART;TZID=Europe/Warsaw:20260328T200000
DTEND;TZID=Europe/Warsaw:20260328T220000
DTSTAMP:20260420T063413
CREATED:20260206T132444Z
LAST-MODIFIED:20260206T132444Z
UID:10042711-1774728000-1774735200@www.it.tarnow.pl
SUMMARY:O.S.T.R. x ELDO - koncert w Piwnicy "Przepraszam"
DESCRIPTION:Jeden wieczór. Dwa koncerty. W sobotę 28 marca 2026 r.\, od godz. 20:00 w Piwnicy 'Przepraszam” rozpocznie się koncert O.S.T.R. i ELDO. Jest to druga Część Trasy Koncertowej – Trasa Specjalna vol. II\nSprzedaż biletów wyłącznie na https://www.ebilet.pl/muzyka/hip-hop-rap/ostr
URL:https://www.it.tarnow.pl/wydarzenie/o-s-t-r-x-eldo-koncert-w-piwnicy-przepraszam/
LOCATION:Piwnica „Przepraszam”\, Krakowska 2\, Tarnów\, małopolskie\, 33-100
CATEGORIES:koncert
ATTACH;FMTTYPE=image/jpeg:https://www.it.tarnow.pl/wp-content/uploads/2026/02/os.t.r.-i-eldo-koncert.jpg
GEO:50.012155;20.9887799
X-APPLE-STRUCTURED-LOCATION;VALUE=URI;X-ADDRESS=Piwnica „Przepraszam” Krakowska 2 Tarnów małopolskie 33-100;X-APPLE-RADIUS=500;X-TITLE=Krakowska 2:geo:20.9887799,50.012155
END:VEVENT
END:VCALENDAR