BEGIN:VCALENDAR
VERSION:2.0
PRODID:-//Tarnowskie Centrum Informacji - ECPv6.13.2.1//NONSGML v1.0//EN
CALSCALE:GREGORIAN
METHOD:PUBLISH
X-ORIGINAL-URL:https://www.it.tarnow.pl
X-WR-CALDESC:Wydarzenia z
REFRESH-INTERVAL;VALUE=DURATION:PT1H
X-Robots-Tag:noindex
X-PUBLISHED-TTL:PT1H
BEGIN:VTIMEZONE
TZID:Europe/Warsaw
BEGIN:DAYLIGHT
TZOFFSETFROM:+0100
TZOFFSETTO:+0200
TZNAME:CEST
DTSTART:20260329T010000
END:DAYLIGHT
BEGIN:STANDARD
TZOFFSETFROM:+0200
TZOFFSETTO:+0100
TZNAME:CET
DTSTART:20261025T010000
END:STANDARD
END:VTIMEZONE
BEGIN:VEVENT
DTSTART;VALUE=DATE:20260228
DTEND;VALUE=DATE:20260301
DTSTAMP:20260419T223233
CREATED:20260122T152044Z
LAST-MODIFIED:20260122T152044Z
UID:10042260-1772236800-1772323199@www.it.tarnow.pl
SUMMARY:"Zagłada Żydów europejskich" - wystawa plenerowa
DESCRIPTION:W poniedziałek\, 26 stycznia o godz. 10:00\, w podcieniach kamienicy Muzeum Historii Tarnowa i Regionu (Rynek 20) otwarta zostanie plenerowa wystawa Instytutu Pamięci Narodowej „Zagłada Żydów europejskich”. \nNa kilkunastu wielkoformatowych planszach przedstawiona została\, będąca bezprecedensowym wydarzeniem w historii\, zagłada Żydów w latach 30. i 40. XX wieku. Ofiarą Niemców padło wówczas prawie 6 milionów europejskich Żydów. \nWystawa powstała w Oddziałowym Biurze Edukacji Narodowej IPN w Łodzi. Autorem jest Magdalena Zapolska-Downar\, za projekt graficzny odpowiadała firma ARSA. Fotografie pochodzą ze zbiorów Archiwum IPN\, Archiwum Państwowego w Łodzi\, Bundesarchiv oraz domeny publicznej. \nDo wystawy przygotowane zostały materiały edukacyjne online (dostępne są na stronie www.muzeum.tarnow.pl) mające służyć nauczycielom do przeprowadzenia zajęć lekcyjnych. Ze względu na drastyczność tematu ekspozycja\, która prezentowana będzie w Tarnowie do końca lutego\, nie jest rekomendowana dla uczniów poniżej 14 roku życia.
URL:https://www.it.tarnow.pl/wydarzenie/zaglada-zydow-europejskich-wystawa-plenerowa/2026-02-28/
LOCATION:Rynek\, Tarnów\, małopolskie\, 33-100\, Polska
CATEGORIES:wystawy i wernisaże
ATTACH;FMTTYPE=image/jpeg:https://www.it.tarnow.pl/wp-content/uploads/2026/01/wystawa.jpg
GEO:50.0121011;20.9858407
END:VEVENT
BEGIN:VEVENT
DTSTART;TZID=Europe/Warsaw:20260228T090000
DTEND;TZID=Europe/Warsaw:20260228T150000
DTSTAMP:20260419T223233
CREATED:20251215T102348Z
LAST-MODIFIED:20251215T134026Z
UID:10041731-1772269200-1772290800@www.it.tarnow.pl
SUMMARY:Wystawa „Kwiaty i pejzaże” Marii Wójcickiej-Kaczmarek
DESCRIPTION:Od poniedziałku\, 8 grudnia w filii nr 8 Miejskiej Biblioteki Publicznej w Tarnowie przy ul. Traugutta 1 oglądać można wystawę malarstwa „Kwiaty i pejzaże” Marii Wójcickiej-Kaczmarek. \nJest ona rodowitą mościczanką o korzeniach kresowych. Ukończyła Liceum Sztuk Plastycznych w Tarnowie i pracowała jako dekoratorka wnętrz\, plastyk miejski\, florystka oraz pracownica rekwizytorni Teatru im. Ludwika Solskiego w Tarnowie. \nNajwiększą jej miłością jest przyroda i to ona stanowi największe wyzwanie malarskie artystki. Jak sama mówi: – Tak szczęście\, jak i piękno są tylko chwilą (…) Cud natury nie jest do opowiedzenia najlepszym słowem. \nIstnieje możliwość zakupu prezentowanych prac. Ekspozycja dostępna będzie do zwiedzania do 31 marca w godzinach pracy Biblioteki.
URL:https://www.it.tarnow.pl/wydarzenie/wystawa-kwiaty-i-pejzaze-marii-wojcickiej-kaczmarek-3-2/2026-02-28/
LOCATION:MBP\, Filia 8\, ul. Traugutta 1\, Tarnów\, małopolskie\, 33-100\, Polska
CATEGORIES:wystawy i wernisaże
ATTACH;FMTTYPE=image/jpeg:https://www.it.tarnow.pl/wp-content/uploads/2025/12/wojcicka.jpg
GEO:50.009833;20.92706
X-APPLE-STRUCTURED-LOCATION;VALUE=URI;X-ADDRESS=MBP Filia 8 ul. Traugutta 1 Tarnów małopolskie 33-100 Polska;X-APPLE-RADIUS=500;X-TITLE=ul. Traugutta 1:geo:20.92706,50.009833
END:VEVENT
BEGIN:VEVENT
DTSTART;TZID=Europe/Warsaw:20260228T090000
DTEND;TZID=Europe/Warsaw:20260228T150000
DTSTAMP:20260419T223233
CREATED:20260107T110305Z
LAST-MODIFIED:20260107T110305Z
UID:10041928-1772269200-1772290800@www.it.tarnow.pl
SUMMARY:Wystawa "Epifanie ciała" Agnieszki Lech-Bińczyckiej
DESCRIPTION:Wystawa „Epifanie ciała” Agnieszki Lech-Bińczyckiej otwiera przed widzem obszar pomiędzy widzialnym a odczuwanym. Prezentowane grafiki skupiają się na ciele pozbawionym narracyjnego kontekstu\, wydobywając z niego to\, co najprostsze i zarazem najbardziej znaczące – obecność\, napięcie\, ślad gestu.
URL:https://www.it.tarnow.pl/wydarzenie/wystawa-epifanie-ciala-agnieszki-lech-binczyckiej/2026-02-28/
LOCATION:Muzeum Diecezjalne\, Pl. Katedralny 6\, Tarnów\, małopolskie\, 33-100\, Polska
CATEGORIES:wystawy i wernisaże
ATTACH;FMTTYPE=image/jpeg:https://www.it.tarnow.pl/wp-content/uploads/2026/01/613131231_1220779613482146_6419633955148787640_n.jpg
GEO:50.0135975;20.9874165
X-APPLE-STRUCTURED-LOCATION;VALUE=URI;X-ADDRESS=Muzeum Diecezjalne Pl. Katedralny 6 Tarnów małopolskie 33-100 Polska;X-APPLE-RADIUS=500;X-TITLE=Pl. Katedralny 6:geo:20.9874165,50.0135975
END:VEVENT
BEGIN:VEVENT
DTSTART;TZID=Europe/Warsaw:20260228T090000
DTEND;TZID=Europe/Warsaw:20260228T150000
DTSTAMP:20260419T223233
CREATED:20260119T125012Z
LAST-MODIFIED:20260119T125012Z
UID:10042181-1772269200-1772290800@www.it.tarnow.pl
SUMMARY:„Cudowny czas zamknięty w kształcie i kolorze” - wystawa malarstwa Magdaleny Latawskiej-Honkisz
DESCRIPTION:Od poniedziałku 19 stycznia\, w filii nr 9 „Krzyż” Miejskiej Biblioteki Publicznej przy ul. Krzyskiej 116 oglądać można wystawę malarstwa Magdaleny Latawskiej-Honkisz „Cudowny czas zamknięty w kształcie i kolorze”. \nArtystka brała udział w licznych wystawach zbiorowych oraz indywidualnych m.in.: w Tarnowskim Centrum Kultury\, Galerii Zamkowej w Bielsku-Białej\, Galerii Hortar w Tarnowie i wielokrotnie w Miejskiej Bibliotece Publicznej w Tarnowie. Specjalizuje się w wielu technikach plastycznych: tkaninie artystycznej\, batiku\, malarstwie\, kolażu\, papieroplastyce. \nWystawę jej prac oglądać będzie można w krzyskiej filii MBP do soboty\, 28 lutego. \nGodziny otwarcia\nponiedziałek 9:00 – 15:00\nwtorek – piątek 9:00 – 18:00\nsobota 9:00 – 15:00
URL:https://www.it.tarnow.pl/wydarzenie/cudowny-czas-zamkniety-w-ksztalcie-i-kolorze-wystawa-malarstwa-magdaleny-latawskiej-honkisz/2026-02-28/
LOCATION:MBP\, Filia nr 9\, ul. Krzyska 116\, Tarnów\, małopolskie\, 33-100\, Polska
CATEGORIES:wystawy i wernisaże
ATTACH;FMTTYPE=image/jpeg:https://www.it.tarnow.pl/wp-content/uploads/2026/01/latawska.jpg
GEO:50.043661;20.9924189
X-APPLE-STRUCTURED-LOCATION;VALUE=URI;X-ADDRESS=MBP Filia nr 9 ul. Krzyska 116 Tarnów małopolskie 33-100 Polska;X-APPLE-RADIUS=500;X-TITLE=ul. Krzyska 116:geo:20.9924189,50.043661
END:VEVENT
BEGIN:VEVENT
DTSTART;TZID=Europe/Warsaw:20260228T090000
DTEND;TZID=Europe/Warsaw:20260228T210000
DTSTAMP:20260419T223233
CREATED:20260217T132743Z
LAST-MODIFIED:20260217T132743Z
UID:10042746-1772269200-1772312400@www.it.tarnow.pl
SUMMARY:"Galeria w Galerii" - prezentacja dzieł artystów STAP w Gemini Park Tarnów
DESCRIPTION:Na zaproszenie dyrekcji Gemini Park Tarnów\, galeria sztuki Stowarzyszenia Tarnowskich Artystów Plastyków Arteka przeniosła się na trzy tygodnie z Wałowej 16 do lokalu w galerii Gemini. \nEkspozycja\, którą oglądać można od pierwszej soboty lutego\, dostępna będzie do soboty\, 28 lutego. \n– Ten eksperyment w postaci zaprezentowania się tarnowskich artystów ze Stowarzyszenia w galerii handlowej ma z jednej strony pokazać\, że nie samym chlebem człowiek żyje i obecność kultury uszlachetnia nasze życie\, a dla artystów jest to możliwość zaprezentowania się większej liczbie odbiorców\, choćby przypadkowych\, przy okazji innych zakupów – czytamy na stronie Galerii STAP Arteka.
URL:https://www.it.tarnow.pl/wydarzenie/galeria-w-galerii-prezentacja-dziel-artystow-stap-w-gemini-park-tarnow/2026-02-28/
LOCATION:Gemini Park Tarnów\, ul. Nowodąbrowska 127\, Tarnów\, małopolskie\, 33-100\, Polska
CATEGORIES:wystawy i wernisaże
ATTACH;FMTTYPE=image/jpeg:https://www.it.tarnow.pl/wp-content/uploads/2026/02/PREZENTACJA-W-GEMINI-ZAPROSZENIE.jpg
GEO:50.0302506;21.0023811
X-APPLE-STRUCTURED-LOCATION;VALUE=URI;X-ADDRESS=Gemini Park Tarnów ul. Nowodąbrowska 127 Tarnów małopolskie 33-100 Polska;X-APPLE-RADIUS=500;X-TITLE=ul. Nowodąbrowska 127:geo:21.0023811,50.0302506
END:VEVENT
BEGIN:VEVENT
DTSTART;TZID=Europe/Warsaw:20260228T100000
DTEND;TZID=Europe/Warsaw:20260228T140000
DTSTAMP:20260419T223233
CREATED:20260217T151829Z
LAST-MODIFIED:20260217T151829Z
UID:10042747-1772272800-1772287200@www.it.tarnow.pl
SUMMARY:Sobota z niedźwiedziem polarnym w Miejskiej Bibliotece Publicznej
DESCRIPTION:Dział dla Dzieci i Młodzieży (ul. Staszica 6)\, zaprasza wszystkie chętne dzieci do lat 10 wraz z rodzicami\, 28 lutego 2026 r.\, na wspólną zabawę podczas Soboty z niedźwiedziem. Wydarzenie będzie miało miejsce w godz. 10:00-14:00 \nW programie: \n\n	polarne kręgle\n	rzuć piłką i zdobądź misiowy “strike”!\n	stwórz lapbooka\n	złóż\, przyklej\, narysuj – twoja własna arktyczna książeczka!\n	łowienie rybek dla misia\n	nakarm głodnego niedźwiadka – kto złowi najwięcej rybek?\n	misiowe origami\n	kolorowanie po cyferkach\n\nUdział w wydarzeniu jest bezpłatny.
URL:https://www.it.tarnow.pl/wydarzenie/sobota-z-niedzwiedziem-polarnym-w-miejskiej-bibliotece-publicznej/
LOCATION:MBP\, Dział Dzieci i Młodzieży\, ul. Staszica 6\, Tarnów\, małopolskie\, 33-100\, Polska
CATEGORIES:wydarzenia specjalne
ATTACH;FMTTYPE=image/jpeg:https://www.it.tarnow.pl/wp-content/uploads/2026/02/sobota-z-niedzwiedziem.jpg
GEO:50.0118655;20.9832931
X-APPLE-STRUCTURED-LOCATION;VALUE=URI;X-ADDRESS=MBP Dział Dzieci i Młodzieży ul. Staszica 6 Tarnów małopolskie 33-100 Polska;X-APPLE-RADIUS=500;X-TITLE=ul. Staszica 6:geo:20.9832931,50.0118655
END:VEVENT
BEGIN:VEVENT
DTSTART;TZID=Europe/Warsaw:20260228T100000
DTEND;TZID=Europe/Warsaw:20260228T170000
DTSTAMP:20260419T223233
CREATED:20260126T143331Z
LAST-MODIFIED:20260126T143331Z
UID:10042290-1772272800-1772298000@www.it.tarnow.pl
SUMMARY:"Nim zgaśnie słońce" - wystawa fotografii Małgorzaty Sikory
DESCRIPTION:W piątek 6 lutego 2026 r.\, wernisażem o godz. 18:00 rozpocznie się wystawa fotograficzna „Nim zgaśnie słońce”. Będzie można ją oglądać w Tarnowskim Centrum Kultury. Autorką zdjęć jest Małgorzata Sikora\, fotografka związana z Tarnowem.  \n„Nim zgaśnie Słońce” to wystawa fotograficzna poświęcona barwie\, światłu i ulotności chwili. Prezentowane fotografie\, dzięki zastosowaniu techniki ICM\, ukazują obraz odrywający się od dosłowności i zbliżający się do malarskiej abstrakcji. Autorka\, świadomie wykorzystując długie czasy naświetlania\, zmusza widza do zatrzymania się na dłużej\, do zwolnienia w codziennym biegu i wydłużenia chwili kontemplacji nieoczywistego kadru. Wbrew narzuconemu tempu współczesnego życia oraz pędowi ku doskonałości (również w fotografii!!)\, jest to świadome zaprzeczenie obowiązującym schematom i próba odnalezienia własnej ścieżki poprzez niedoskonałość. \nWernisaż: 6 lutego o godzinie 18:00 – spotkanie z Małgorzatą Sikorą poprowadzi Tomasz Sobczak\nMiejsce: Galeria TCK (Tarnów\, Rynek 5)\nTermin: 7 – 28 lutego 2026 r. \nGodziny otwarcia: Poniedziałek–piątek: 10:00–18:00\, Sobota: 10:00–17:00\nBilety: 7 zł (normalny) i 5 zł (ulgowy).
URL:https://www.it.tarnow.pl/wydarzenie/nim-zgasnie-slonce-wystawa-fotografii-malgorzaty-sikory/2026-02-28/
LOCATION:Galeria TCK\, Rynek 5\, Tarnów\, małopolskie\, 33-100\, Poland
CATEGORIES:wystawy i wernisaże
ATTACH;FMTTYPE=image/jpeg:https://www.it.tarnow.pl/wp-content/uploads/2026/01/nim-zgasnie-slonce.jpeg
END:VEVENT
BEGIN:VEVENT
DTSTART;TZID=Europe/Warsaw:20260228T110000
DTEND;TZID=Europe/Warsaw:20260228T180000
DTSTAMP:20260419T223233
CREATED:20260206T130050Z
LAST-MODIFIED:20260206T130050Z
UID:10042709-1772276400-1772301600@www.it.tarnow.pl
SUMMARY:Festiwal Dmuchańców
DESCRIPTION:Festiwal Dmuchańców to największa porcja dziecięcej radości tej zimy!\nZapraszamy wszystkie dzieci (i rodziców) na wyjątkowy Festiwal Dmuchańców w Tarnowie!\nPrzez dwa dni hala zamieni się w kolorowe królestwo zabawy\, ruchu i uśmiechu \nMiejsce: Tarnów Hala Sportowa imienia Shihana Wiesława Gwizda\nTermin: 28 lutego/1 marca 2026\nGodziny: 11:00–18:00 \nATRAKCJE:\n30-metrowy tor przeszkód\nEliminator\nGiga zjeżdżalnie\nMega place zabaw\nKącik malucha – bezpieczna zabawa dla najmłodszych \nCENNIK:\n1 godzina – 40 zł\n2 godziny – 50 zł\nBez limitu – 70 zł\nRodzice i opiekunowie – wstęp darmowy
URL:https://www.it.tarnow.pl/wydarzenie/festiwal-dmuchancow/2026-02-28/
LOCATION:Hala TOSiR – im. Shihana Wiesława Gwizda\, ul. Krupnicza 8A\, Tarnów\, małopolskie\, 33-100\, Polska
CATEGORIES:festiwale
ATTACH;FMTTYPE=image/jpeg:https://www.it.tarnow.pl/wp-content/uploads/2026/02/festiwal-dmuchancow.jpg
END:VEVENT
BEGIN:VEVENT
DTSTART;TZID=Europe/Warsaw:20260228T150000
DTEND;TZID=Europe/Warsaw:20260228T170000
DTSTAMP:20260419T223233
CREATED:20260227T085331Z
LAST-MODIFIED:20260227T085331Z
UID:10042839-1772290800-1772298000@www.it.tarnow.pl
SUMMARY:Narodowy Dzień Pamięci Żołnierzy Wyklętych
DESCRIPTION:Zbliża się Narodowy Dzień Pamięci Żołnierzy Wyklętych.\nZapraszam Państwa na uroczystości\, które odbędą się 28 lutego (sobota) na cmentarzu w Tarnowie-Krzyżu. Jak co roku\, wspólnie oddajmy cześć bohaterom antykomunistycznego podziemia. Pamięć o nich\, to nasz obowiązek.\nProgram uroczystości:\n15.00 — Uroczysta Msza Święta i koncert w hołdzie Żołnierzom Wyklętym w kaplicy na cmentarzu w Krzyżu\nOk. 16.20 — przemarsz na miejsce spoczynku Mieczysława Cielochy\, Stanisława Kiełbasy\, Antoniego Trzepli\, Jana Kmiecia\, Apel Pamięci\, złożenie wiązanek.
URL:https://www.it.tarnow.pl/wydarzenie/narodowy-dzien-pamieci-zolnierzy-wykletych/
LOCATION:Cmentarz Komunalny w Tarnowie-Krzyżu\, ul. Krzyska\, Tarnów\, małopolskie\, 33-100
CATEGORIES:uroczystości patriotyczne
GEO:50.0433359;20.9923009
X-APPLE-STRUCTURED-LOCATION;VALUE=URI;X-ADDRESS=Cmentarz Komunalny w Tarnowie-Krzyżu ul. Krzyska Tarnów małopolskie 33-100;X-APPLE-RADIUS=500;X-TITLE=ul. Krzyska:geo:20.9923009,50.0433359
END:VEVENT
BEGIN:VEVENT
DTSTART;TZID=Europe/Warsaw:20260228T200000
DTEND;TZID=Europe/Warsaw:20260228T233000
DTSTAMP:20260419T223233
CREATED:20260227T125709Z
LAST-MODIFIED:20260227T125709Z
UID:10042841-1772308800-1772321400@www.it.tarnow.pl
SUMMARY:Koncert zespołu Projekt LARMO w Maranto Vibe
DESCRIPTION:Projekt LARMO to formacja z Górnego Śląska grająca hip-hop na żywych instrumentach\, łącząca klasyczne brzmienie lat 80–00 z nowoczesną energią sceny. To połączenie surowego groove’u\, funkowego basu\, jazzu i rapu w autentycznej\, scenicznej formie.\n\n28/02/2026 SOBOTA\n[OTWARCIE: 19:00]\n[START: 20:00]\n\nBilety:\nhttps://ekobilet.pl/…/projekt-larmo-support-zazi…\nW dniu koncertu 50zł\nRezerwacja i kupno biletów telefonicznie 605 654 924\n\n\nSupporty:\n\n	ZAZI\n	Ciabarez i Spółka\n	Flavanoidy ( SlideBeatz\, Mauy82\, Joes )\n\nAfter Party poprowadzi Dj KOZAK i Dj BESHKEE
URL:https://www.it.tarnow.pl/wydarzenie/koncert-zespolu-projekt-larmo-w-maranto-vibe/
LOCATION:Maranto Vibe\, ul.Wałowa 26\, Tarnów\, Małopolskie\, 33-100\, Poland
CATEGORIES:koncert
ATTACH;FMTTYPE=image/jpeg:https://www.it.tarnow.pl/wp-content/uploads/2026/02/larmo.jpg
END:VEVENT
END:VCALENDAR