BEGIN:VCALENDAR
VERSION:2.0
PRODID:-//Tarnowskie Centrum Informacji - ECPv6.13.2.1//NONSGML v1.0//EN
CALSCALE:GREGORIAN
METHOD:PUBLISH
X-ORIGINAL-URL:https://www.it.tarnow.pl
X-WR-CALDESC:Wydarzenia z
REFRESH-INTERVAL;VALUE=DURATION:PT1H
X-Robots-Tag:noindex
X-PUBLISHED-TTL:PT1H
BEGIN:VTIMEZONE
TZID:Europe/Warsaw
BEGIN:DAYLIGHT
TZOFFSETFROM:+0100
TZOFFSETTO:+0200
TZNAME:CEST
DTSTART:20260329T010000
END:DAYLIGHT
BEGIN:STANDARD
TZOFFSETFROM:+0200
TZOFFSETTO:+0100
TZNAME:CET
DTSTART:20261025T010000
END:STANDARD
END:VTIMEZONE
BEGIN:VEVENT
DTSTART;VALUE=DATE:20260221
DTEND;VALUE=DATE:20260222
DTSTAMP:20260420T173140
CREATED:20260122T152044Z
LAST-MODIFIED:20260122T152044Z
UID:10042253-1771632000-1771718399@www.it.tarnow.pl
SUMMARY:"Zagłada Żydów europejskich" - wystawa plenerowa
DESCRIPTION:W poniedziałek\, 26 stycznia o godz. 10:00\, w podcieniach kamienicy Muzeum Historii Tarnowa i Regionu (Rynek 20) otwarta zostanie plenerowa wystawa Instytutu Pamięci Narodowej „Zagłada Żydów europejskich”. \nNa kilkunastu wielkoformatowych planszach przedstawiona została\, będąca bezprecedensowym wydarzeniem w historii\, zagłada Żydów w latach 30. i 40. XX wieku. Ofiarą Niemców padło wówczas prawie 6 milionów europejskich Żydów. \nWystawa powstała w Oddziałowym Biurze Edukacji Narodowej IPN w Łodzi. Autorem jest Magdalena Zapolska-Downar\, za projekt graficzny odpowiadała firma ARSA. Fotografie pochodzą ze zbiorów Archiwum IPN\, Archiwum Państwowego w Łodzi\, Bundesarchiv oraz domeny publicznej. \nDo wystawy przygotowane zostały materiały edukacyjne online (dostępne są na stronie www.muzeum.tarnow.pl) mające służyć nauczycielom do przeprowadzenia zajęć lekcyjnych. Ze względu na drastyczność tematu ekspozycja\, która prezentowana będzie w Tarnowie do końca lutego\, nie jest rekomendowana dla uczniów poniżej 14 roku życia.
URL:https://www.it.tarnow.pl/wydarzenie/zaglada-zydow-europejskich-wystawa-plenerowa/2026-02-21/
LOCATION:Rynek\, Tarnów\, małopolskie\, 33-100\, Polska
CATEGORIES:wystawy i wernisaże
ATTACH;FMTTYPE=image/jpeg:https://www.it.tarnow.pl/wp-content/uploads/2026/01/wystawa.jpg
GEO:50.0121011;20.9858407
END:VEVENT
BEGIN:VEVENT
DTSTART;TZID=Europe/Warsaw:20260221T090000
DTEND;TZID=Europe/Warsaw:20260221T150000
DTSTAMP:20260420T173140
CREATED:20251215T102348Z
LAST-MODIFIED:20251215T134026Z
UID:10041730-1771664400-1771686000@www.it.tarnow.pl
SUMMARY:Wystawa „Kwiaty i pejzaże” Marii Wójcickiej-Kaczmarek
DESCRIPTION:Od poniedziałku\, 8 grudnia w filii nr 8 Miejskiej Biblioteki Publicznej w Tarnowie przy ul. Traugutta 1 oglądać można wystawę malarstwa „Kwiaty i pejzaże” Marii Wójcickiej-Kaczmarek. \nJest ona rodowitą mościczanką o korzeniach kresowych. Ukończyła Liceum Sztuk Plastycznych w Tarnowie i pracowała jako dekoratorka wnętrz\, plastyk miejski\, florystka oraz pracownica rekwizytorni Teatru im. Ludwika Solskiego w Tarnowie. \nNajwiększą jej miłością jest przyroda i to ona stanowi największe wyzwanie malarskie artystki. Jak sama mówi: – Tak szczęście\, jak i piękno są tylko chwilą (…) Cud natury nie jest do opowiedzenia najlepszym słowem. \nIstnieje możliwość zakupu prezentowanych prac. Ekspozycja dostępna będzie do zwiedzania do 31 marca w godzinach pracy Biblioteki.
URL:https://www.it.tarnow.pl/wydarzenie/wystawa-kwiaty-i-pejzaze-marii-wojcickiej-kaczmarek-3-2/2026-02-21/
LOCATION:MBP\, Filia 8\, ul. Traugutta 1\, Tarnów\, małopolskie\, 33-100\, Polska
CATEGORIES:wystawy i wernisaże
ATTACH;FMTTYPE=image/jpeg:https://www.it.tarnow.pl/wp-content/uploads/2025/12/wojcicka.jpg
GEO:50.009833;20.92706
X-APPLE-STRUCTURED-LOCATION;VALUE=URI;X-ADDRESS=MBP Filia 8 ul. Traugutta 1 Tarnów małopolskie 33-100 Polska;X-APPLE-RADIUS=500;X-TITLE=ul. Traugutta 1:geo:20.92706,50.009833
END:VEVENT
BEGIN:VEVENT
DTSTART;TZID=Europe/Warsaw:20260221T090000
DTEND;TZID=Europe/Warsaw:20260221T150000
DTSTAMP:20260420T173140
CREATED:20260107T110305Z
LAST-MODIFIED:20260107T110305Z
UID:10041922-1771664400-1771686000@www.it.tarnow.pl
SUMMARY:Wystawa "Epifanie ciała" Agnieszki Lech-Bińczyckiej
DESCRIPTION:Wystawa „Epifanie ciała” Agnieszki Lech-Bińczyckiej otwiera przed widzem obszar pomiędzy widzialnym a odczuwanym. Prezentowane grafiki skupiają się na ciele pozbawionym narracyjnego kontekstu\, wydobywając z niego to\, co najprostsze i zarazem najbardziej znaczące – obecność\, napięcie\, ślad gestu.
URL:https://www.it.tarnow.pl/wydarzenie/wystawa-epifanie-ciala-agnieszki-lech-binczyckiej/2026-02-21/
LOCATION:Muzeum Diecezjalne\, Pl. Katedralny 6\, Tarnów\, małopolskie\, 33-100\, Polska
CATEGORIES:wystawy i wernisaże
ATTACH;FMTTYPE=image/jpeg:https://www.it.tarnow.pl/wp-content/uploads/2026/01/613131231_1220779613482146_6419633955148787640_n.jpg
GEO:50.0135975;20.9874165
X-APPLE-STRUCTURED-LOCATION;VALUE=URI;X-ADDRESS=Muzeum Diecezjalne Pl. Katedralny 6 Tarnów małopolskie 33-100 Polska;X-APPLE-RADIUS=500;X-TITLE=Pl. Katedralny 6:geo:20.9874165,50.0135975
END:VEVENT
BEGIN:VEVENT
DTSTART;TZID=Europe/Warsaw:20260221T090000
DTEND;TZID=Europe/Warsaw:20260221T150000
DTSTAMP:20260420T173140
CREATED:20260119T125012Z
LAST-MODIFIED:20260119T125012Z
UID:10042179-1771664400-1771686000@www.it.tarnow.pl
SUMMARY:„Cudowny czas zamknięty w kształcie i kolorze” - wystawa malarstwa Magdaleny Latawskiej-Honkisz
DESCRIPTION:Od poniedziałku 19 stycznia\, w filii nr 9 „Krzyż” Miejskiej Biblioteki Publicznej przy ul. Krzyskiej 116 oglądać można wystawę malarstwa Magdaleny Latawskiej-Honkisz „Cudowny czas zamknięty w kształcie i kolorze”. \nArtystka brała udział w licznych wystawach zbiorowych oraz indywidualnych m.in.: w Tarnowskim Centrum Kultury\, Galerii Zamkowej w Bielsku-Białej\, Galerii Hortar w Tarnowie i wielokrotnie w Miejskiej Bibliotece Publicznej w Tarnowie. Specjalizuje się w wielu technikach plastycznych: tkaninie artystycznej\, batiku\, malarstwie\, kolażu\, papieroplastyce. \nWystawę jej prac oglądać będzie można w krzyskiej filii MBP do soboty\, 28 lutego. \nGodziny otwarcia\nponiedziałek 9:00 – 15:00\nwtorek – piątek 9:00 – 18:00\nsobota 9:00 – 15:00
URL:https://www.it.tarnow.pl/wydarzenie/cudowny-czas-zamkniety-w-ksztalcie-i-kolorze-wystawa-malarstwa-magdaleny-latawskiej-honkisz/2026-02-21/
LOCATION:MBP\, Filia nr 9\, ul. Krzyska 116\, Tarnów\, małopolskie\, 33-100\, Polska
CATEGORIES:wystawy i wernisaże
ATTACH;FMTTYPE=image/jpeg:https://www.it.tarnow.pl/wp-content/uploads/2026/01/latawska.jpg
GEO:50.043661;20.9924189
X-APPLE-STRUCTURED-LOCATION;VALUE=URI;X-ADDRESS=MBP Filia nr 9 ul. Krzyska 116 Tarnów małopolskie 33-100 Polska;X-APPLE-RADIUS=500;X-TITLE=ul. Krzyska 116:geo:20.9924189,50.043661
END:VEVENT
BEGIN:VEVENT
DTSTART;TZID=Europe/Warsaw:20260221T090000
DTEND;TZID=Europe/Warsaw:20260221T210000
DTSTAMP:20260420T173140
CREATED:20260217T132743Z
LAST-MODIFIED:20260217T132743Z
UID:10042740-1771664400-1771707600@www.it.tarnow.pl
SUMMARY:"Galeria w Galerii" - prezentacja dzieł artystów STAP w Gemini Park Tarnów
DESCRIPTION:Na zaproszenie dyrekcji Gemini Park Tarnów\, galeria sztuki Stowarzyszenia Tarnowskich Artystów Plastyków Arteka przeniosła się na trzy tygodnie z Wałowej 16 do lokalu w galerii Gemini. \nEkspozycja\, którą oglądać można od pierwszej soboty lutego\, dostępna będzie do soboty\, 28 lutego. \n– Ten eksperyment w postaci zaprezentowania się tarnowskich artystów ze Stowarzyszenia w galerii handlowej ma z jednej strony pokazać\, że nie samym chlebem człowiek żyje i obecność kultury uszlachetnia nasze życie\, a dla artystów jest to możliwość zaprezentowania się większej liczbie odbiorców\, choćby przypadkowych\, przy okazji innych zakupów – czytamy na stronie Galerii STAP Arteka.
URL:https://www.it.tarnow.pl/wydarzenie/galeria-w-galerii-prezentacja-dziel-artystow-stap-w-gemini-park-tarnow/2026-02-21/
LOCATION:Gemini Park Tarnów\, ul. Nowodąbrowska 127\, Tarnów\, małopolskie\, 33-100\, Polska
CATEGORIES:wystawy i wernisaże
ATTACH;FMTTYPE=image/jpeg:https://www.it.tarnow.pl/wp-content/uploads/2026/02/PREZENTACJA-W-GEMINI-ZAPROSZENIE.jpg
GEO:50.0302506;21.0023811
X-APPLE-STRUCTURED-LOCATION;VALUE=URI;X-ADDRESS=Gemini Park Tarnów ul. Nowodąbrowska 127 Tarnów małopolskie 33-100 Polska;X-APPLE-RADIUS=500;X-TITLE=ul. Nowodąbrowska 127:geo:21.0023811,50.0302506
END:VEVENT
BEGIN:VEVENT
DTSTART;TZID=Europe/Warsaw:20260221T100000
DTEND;TZID=Europe/Warsaw:20260221T170000
DTSTAMP:20260420T173140
CREATED:20260126T143331Z
LAST-MODIFIED:20260126T143331Z
UID:10042284-1771668000-1771693200@www.it.tarnow.pl
SUMMARY:"Nim zgaśnie słońce" - wystawa fotografii Małgorzaty Sikory
DESCRIPTION:W piątek 6 lutego 2026 r.\, wernisażem o godz. 18:00 rozpocznie się wystawa fotograficzna „Nim zgaśnie słońce”. Będzie można ją oglądać w Tarnowskim Centrum Kultury. Autorką zdjęć jest Małgorzata Sikora\, fotografka związana z Tarnowem.  \n„Nim zgaśnie Słońce” to wystawa fotograficzna poświęcona barwie\, światłu i ulotności chwili. Prezentowane fotografie\, dzięki zastosowaniu techniki ICM\, ukazują obraz odrywający się od dosłowności i zbliżający się do malarskiej abstrakcji. Autorka\, świadomie wykorzystując długie czasy naświetlania\, zmusza widza do zatrzymania się na dłużej\, do zwolnienia w codziennym biegu i wydłużenia chwili kontemplacji nieoczywistego kadru. Wbrew narzuconemu tempu współczesnego życia oraz pędowi ku doskonałości (również w fotografii!!)\, jest to świadome zaprzeczenie obowiązującym schematom i próba odnalezienia własnej ścieżki poprzez niedoskonałość. \nWernisaż: 6 lutego o godzinie 18:00 – spotkanie z Małgorzatą Sikorą poprowadzi Tomasz Sobczak\nMiejsce: Galeria TCK (Tarnów\, Rynek 5)\nTermin: 7 – 28 lutego 2026 r. \nGodziny otwarcia: Poniedziałek–piątek: 10:00–18:00\, Sobota: 10:00–17:00\nBilety: 7 zł (normalny) i 5 zł (ulgowy).
URL:https://www.it.tarnow.pl/wydarzenie/nim-zgasnie-slonce-wystawa-fotografii-malgorzaty-sikory/2026-02-21/
LOCATION:Galeria TCK\, Rynek 5\, Tarnów\, małopolskie\, 33-100\, Poland
CATEGORIES:wystawy i wernisaże
ATTACH;FMTTYPE=image/jpeg:https://www.it.tarnow.pl/wp-content/uploads/2026/01/nim-zgasnie-slonce.jpeg
END:VEVENT
BEGIN:VEVENT
DTSTART;TZID=Europe/Warsaw:20260221T100000
DTEND;TZID=Europe/Warsaw:20260221T200000
DTSTAMP:20260420T173140
CREATED:20260220T094629Z
LAST-MODIFIED:20260220T094629Z
UID:10042777-1771668000-1771704000@www.it.tarnow.pl
SUMMARY:Kiermasz płyt winylowych i CD w Galerii Tarnovia
DESCRIPTION:Halo Tarnów! Ktoś tu chyba ma jeszcze trochę wolnego miejsca na regale? 20 i 21 lutego 2026 r.\, w Galerii Tarnovia odbędzie się kiermasz płyt winylowych i CD. W oba dni płyty będzie można nabyć w godzinach 10:00 – 20:00. \nSzykujcie wygodne buty do stania przy stoiskach i wpadajcie na wielkie muzyczne łowy. Winyle\, płyty CD i oldschoolowe kasety już na Was czekają – obiecaliśmy im\, że znajdą u Was dobre domy!
URL:https://www.it.tarnow.pl/wydarzenie/kiermasz-plyt-winylowych-i-cd-w-galerii-tarnovia/2026-02-21/
LOCATION:Galeria Tarnovia\, ul. Krakowska 149\, Tarnów\, małopolskie\, 33-100\, Polska
CATEGORIES:wydarzenia specjalne
ATTACH;FMTTYPE=image/png:https://www.it.tarnow.pl/wp-content/uploads/2026/02/winyle26_luty_kwadrat.png
GEO:50.0009919;20.957376
X-APPLE-STRUCTURED-LOCATION;VALUE=URI;X-ADDRESS=Galeria Tarnovia ul. Krakowska 149 Tarnów małopolskie 33-100 Polska;X-APPLE-RADIUS=500;X-TITLE=ul. Krakowska 149:geo:20.957376,50.0009919
END:VEVENT
BEGIN:VEVENT
DTSTART;TZID=Europe/Warsaw:20260221T120000
DTEND;TZID=Europe/Warsaw:20260221T133000
DTSTAMP:20260420T173140
CREATED:20260209T141742Z
LAST-MODIFIED:20260209T141742Z
UID:10042714-1771675200-1771680600@www.it.tarnow.pl
SUMMARY:Obchody 180. rocznicy wybuchu ogólnonarodowego zrywu niepodległościowego i rzezi galicyjskiej
DESCRIPTION:Razem z Prezydentem Tarnowa Jakubem Kwaśnym\, Starostą Tarnowskim Jackiem Hudymą i sygnatariuszami Obywatelskiego Komitetu Obchodów 180. rocznicy Powstania Narodowego z roku 1846\, w dniach 20-21 lutego br. zapraszamy na obchody 180. rocznicy wybuchu ogólnonarodowego zrywu niepodległościowego i rzezi galicyjskiej. Uroczystości poprzedzi w piątkowy wieczór (20 lutego o godz. 18:00) Msza Święta a następnie krótki montaż słowno- muzyczny i Droga Krzyżowa w Bazylice Katedralnej w Tarnowie\, z rozważaniami odwołującymi się do tragicznych wydarzeń sprzed 180 lat.21 lutego 2026 r. (sobota) o godz. 12 zapraszamy na główną uroczystość rocznicową w Kwaterze Zasłużonych Cmentarza Starego w Tarnowie\, przy największej w kraju Mogile Ofiar Rzezi Galicyjskiej (ponad 200 pochowanych ofiar).Patronat nad uroczystością objęli Wicepremier\, Minister Obrony Narodowej Władysław Kosiniak- Kamysz oraz marszałkowie Województwa Małopolskiego Łukasz Smółka i Województwa Podkarpackiego Władysław Ortyl.Program wydarzeń towarzyszących obchodom dodatkowym patronatem objął Wicemarszałek Województwa Małopolskiego Ryszard Pagacz.Przypominamy\, że w Tarnowie trwa „Rok Jana Tyssowskiego i uczestników niepodległościowego zrywu z roku 1846”. Lutowe obchody będą okazją do oficjalnej\, lokalnej inauguracji „Roku” a także startu całorocznej makroregionalnej kampanii społecznej „Bohaterowie rozpamiętani. 1846 – 2026”. Fundacja Pro Patria Semper jest inicjatorem obu tych przedsięwzięć. 
URL:https://www.it.tarnow.pl/wydarzenie/obchody-180-rocznicy-wybuchu-ogolnonarodowego-zrywu-niepodleglosciowego-i-rzezi-galicyjskiej/2026-02-21/
LOCATION:Bazylika Katedralna\, ul. Kapitulna 2\, Tarnów\, małopolskie\, 33-100\, Polska
CATEGORIES:uroczystości patriotyczne
ATTACH;FMTTYPE=image/jpeg:https://www.it.tarnow.pl/wp-content/uploads/2026/02/zapr2.jpg
ORGANIZER;CN="Fundacja Pro Patria Semper":MAILTO:fundacja@fpps.pl
GEO:50.013388;20.987599
X-APPLE-STRUCTURED-LOCATION;VALUE=URI;X-ADDRESS=Bazylika Katedralna ul. Kapitulna 2 Tarnów małopolskie 33-100 Polska;X-APPLE-RADIUS=500;X-TITLE=ul. Kapitulna 2:geo:20.987599,50.013388
END:VEVENT
BEGIN:VEVENT
DTSTART;TZID=Europe/Warsaw:20260221T180000
DTEND;TZID=Europe/Warsaw:20260221T193000
DTSTAMP:20260420T173140
CREATED:20260203T160720Z
LAST-MODIFIED:20260203T160720Z
UID:10042622-1771696800-1771702200@www.it.tarnow.pl
SUMMARY:Koncert Lwowskiego Sekstetu Fortepianowego
DESCRIPTION:W sobotę\, 21 lutego\, w przeddzień czwartej rocznicy rosyjskiej agresji na Ukrainę\, w sali koncertowej Zespołu Szkół Muzycznych przy ul. Lippóczy’ego 4 w Tarnowie odbędzie się koncert Lwowskiego Sekstetu Fortepianowego. Początek wydarzenia o godz. 18. Wstęp wolny. \nLwowski Sekstet Fortepianowy tworzą: Marta Semczyszyn – skrzypce\, Wiktoria Tytarenko – skrzypce\, Lubow Wojtowycz – altówka\, Olga Szutko – wiolonczela\, Iwan Lychowyd – kontrabas oraz Natalia Rewakowicz – fortepian. \nW programie koncertu znajdzie się muzyka polska i ukraińska: Sekstet fortepianowy „Wariacje” c-moll Wasyla Barwińskiego\, Kwintet fortepianowy h-moll Tadeusza Majerskiego\, Sekstet fortepianowy „Przygody Christi” Zoltana Almashiego oraz Suita Austriacka op. 51 Siergieja Bortkiewicza w opracowaniu na sekstet fortepianowy Iriny Blokhiny. Słowo wstępne wygłosi muzykolożka dr Oksana Korol.
URL:https://www.it.tarnow.pl/wydarzenie/koncert-lwowskiego-sekstetu-fortepianowego/
LOCATION:Sala Koncertowa Zespołu Szkół Muzycznych\, ul. Lippóczy’ego 4\, Tarnów\, 33-100
CATEGORIES:koncert
ATTACH;FMTTYPE=image/jpeg:https://www.it.tarnow.pl/wp-content/uploads/2026/02/koncert-lwowski.jpg
END:VEVENT
BEGIN:VEVENT
DTSTART;TZID=Europe/Warsaw:20260221T190000
DTEND;TZID=Europe/Warsaw:20260221T203000
DTSTAMP:20260420T173140
CREATED:20260128T111441Z
LAST-MODIFIED:20260128T111441Z
UID:10042345-1771700400-1771705800@www.it.tarnow.pl
SUMMARY:"Pół wieku poezji" - benefis Bartka Szułakiewicza
DESCRIPTION:Odbędzie się on w Piwnicach Tarnowskiego Centrum Kultury (Rynek 5)\, w sobotę\, 21 lutego. Początek o godz. 19:00. \nBartek Szułakiewicz to tarnowski muzyk: kompozytor i aranżer\, multiinstrumentalista\, pedagog\, czasem poeta. Współpracował niemal z całą lokalną sceną muzyczną\, ale także z artystami polskiej estrady. Jego aranżacje wykonują orkiestry dęte i big-bandy w całej Europie. Podczas benefisu na scenie pojawią się między innymi MONK\, Te Fajne Dziewczyny\, Con Affetto\, Paweł Mazur\, Piotr Kita\, Iza Ilcewicz i Kasia Kalita\, a całość dopełni znakomita sekcja instrumentalna – Bartek Rojek\, Grzegorz Nosek\, Stanisław Migała\, Michał Król\, Dominik Chrobak. \nBilety w cenie 40 złotych dostępne są online na stronie www.tck.pl oraz w Tarnowskim Centrum Kultury.
URL:https://www.it.tarnow.pl/wydarzenie/pol-wieku-poezji-benefis-bartka-szulakiewicza/
LOCATION:Tarnowskie Centrum Kultury\, Rynek 5\, Tarnów\, małopolskie\, 33-100\, Polska
CATEGORIES:koncert
ATTACH;FMTTYPE=image/jpeg:https://www.it.tarnow.pl/wp-content/uploads/2026/01/benefis.jpeg
GEO:50.0121759;20.98781
X-APPLE-STRUCTURED-LOCATION;VALUE=URI;X-ADDRESS=Tarnowskie Centrum Kultury Rynek 5 Tarnów małopolskie 33-100 Polska;X-APPLE-RADIUS=500;X-TITLE=Rynek 5:geo:20.98781,50.0121759
END:VEVENT
BEGIN:VEVENT
DTSTART;TZID=Europe/Warsaw:20260221T190000
DTEND;TZID=Europe/Warsaw:20260221T210000
DTSTAMP:20260420T173140
CREATED:20260220T124612Z
LAST-MODIFIED:20260220T124612Z
UID:10042778-1771700400-1771707600@www.it.tarnow.pl
SUMMARY:Koncert zespołu Virgo w Maranto Vibe
DESCRIPTION:VIRGO wyrusza w trasę koncertową promującą ich debiutancki album „Szukajmy innych planet”!\nJeśli szukasz koncertu\, który zostanie w Tobie na długo – VIRGO zabierze Cię w niezapomnianą\, muzyczną podróż!\n\nKiedy? 21 lutego 2025\, godz. 19:00\nGdzie? Tarnów\, Klub Muzyczny Maranto Vibe\, ul. Wałowa 26\nBilety: 65zł | dostępne w przedsprzedaży:\nhttps://biletyna.pl/koncert/Zespol-VIRGO/Tarnow\nRezerwacja miejsc/Info o biletach: 605 654 924
URL:https://www.it.tarnow.pl/wydarzenie/koncert-zespolu-virgo-w-maranto-vibe/
LOCATION:Maranto Vibe\, ul.Wałowa 26\, Tarnów\, Małopolskie\, 33-100\, Poland
CATEGORIES:koncert
ATTACH;FMTTYPE=image/jpeg:https://www.it.tarnow.pl/wp-content/uploads/2026/02/virgo-koncert.jpg
END:VEVENT
END:VCALENDAR