BEGIN:VCALENDAR
VERSION:2.0
PRODID:-//Tarnowskie Centrum Informacji - ECPv6.13.2.1//NONSGML v1.0//EN
CALSCALE:GREGORIAN
METHOD:PUBLISH
X-ORIGINAL-URL:https://www.it.tarnow.pl
X-WR-CALDESC:Wydarzenia z
REFRESH-INTERVAL;VALUE=DURATION:PT1H
X-Robots-Tag:noindex
X-PUBLISHED-TTL:PT1H
BEGIN:VTIMEZONE
TZID:Europe/Warsaw
BEGIN:DAYLIGHT
TZOFFSETFROM:+0100
TZOFFSETTO:+0200
TZNAME:CEST
DTSTART:20260329T010000
END:DAYLIGHT
BEGIN:STANDARD
TZOFFSETFROM:+0200
TZOFFSETTO:+0100
TZNAME:CET
DTSTART:20261025T010000
END:STANDARD
END:VTIMEZONE
BEGIN:VEVENT
DTSTART;VALUE=DATE:20260216
DTEND;VALUE=DATE:20260217
DTSTAMP:20260420T173121
CREATED:20260114T091931Z
LAST-MODIFIED:20260114T091931Z
UID:10042078-1771200000-1771286399@www.it.tarnow.pl
SUMMARY:„Walczyć\, ale czym?”- wystawa plenerowa
DESCRIPTION:„Walczyć\, ale czym?” to tytuł plenerowej wystawy\, prezentowanej na skwerze przy Regionalnym Centrum Edukacji o Pamięci im gen. bryg. Zdzisława Baszaka przy ul. Mościckiego 27A w Tarnowie. Opowiada ona o działaniach\, funkcjonującej w latach 1919-1921\, Polskiej Wojskowej Misji Zakupów w Paryżu. \nWystawa\, którą bezpłatnie oglądać można do czwartku\, 19 lutego została przygotowana przez Oddział Instytutu Pamięci Narodowej w Katowicach i Muzeum Miasta Jaworzna. Jej autorami są dr Piotr Uwijał z Polskiego Towarzystwa Historycznego w Katowicach oraz Adriana Rams z Muzeum Miasta Jaworzna i Instytutu Pamięci Narodowej. \n 
URL:https://www.it.tarnow.pl/wydarzenie/walczyc-ale-czym-wystawa-plenerowa/2026-02-16/
LOCATION:Regionalne Centrum Edukacji o Pamięci\, ul. Ignacego Mościckiego 29\, Tarnów\, 33-100
CATEGORIES:wystawy i wernisaże
ATTACH;FMTTYPE=image/jpeg:https://www.it.tarnow.pl/wp-content/uploads/2026/01/walczyc03.jpg
END:VEVENT
BEGIN:VEVENT
DTSTART;VALUE=DATE:20260216
DTEND;VALUE=DATE:20260217
DTSTAMP:20260420T173121
CREATED:20260122T152044Z
LAST-MODIFIED:20260122T152044Z
UID:10042248-1771200000-1771286399@www.it.tarnow.pl
SUMMARY:"Zagłada Żydów europejskich" - wystawa plenerowa
DESCRIPTION:W poniedziałek\, 26 stycznia o godz. 10:00\, w podcieniach kamienicy Muzeum Historii Tarnowa i Regionu (Rynek 20) otwarta zostanie plenerowa wystawa Instytutu Pamięci Narodowej „Zagłada Żydów europejskich”. \nNa kilkunastu wielkoformatowych planszach przedstawiona została\, będąca bezprecedensowym wydarzeniem w historii\, zagłada Żydów w latach 30. i 40. XX wieku. Ofiarą Niemców padło wówczas prawie 6 milionów europejskich Żydów. \nWystawa powstała w Oddziałowym Biurze Edukacji Narodowej IPN w Łodzi. Autorem jest Magdalena Zapolska-Downar\, za projekt graficzny odpowiadała firma ARSA. Fotografie pochodzą ze zbiorów Archiwum IPN\, Archiwum Państwowego w Łodzi\, Bundesarchiv oraz domeny publicznej. \nDo wystawy przygotowane zostały materiały edukacyjne online (dostępne są na stronie www.muzeum.tarnow.pl) mające służyć nauczycielom do przeprowadzenia zajęć lekcyjnych. Ze względu na drastyczność tematu ekspozycja\, która prezentowana będzie w Tarnowie do końca lutego\, nie jest rekomendowana dla uczniów poniżej 14 roku życia.
URL:https://www.it.tarnow.pl/wydarzenie/zaglada-zydow-europejskich-wystawa-plenerowa/2026-02-16/
LOCATION:Rynek\, Tarnów\, małopolskie\, 33-100\, Polska
CATEGORIES:wystawy i wernisaże
ATTACH;FMTTYPE=image/jpeg:https://www.it.tarnow.pl/wp-content/uploads/2026/01/wystawa.jpg
GEO:50.0121011;20.9858407
END:VEVENT
BEGIN:VEVENT
DTSTART;TZID=Europe/Warsaw:20260216T080000
DTEND;TZID=Europe/Warsaw:20260216T150000
DTSTAMP:20260420T173121
CREATED:20250918T093236Z
LAST-MODIFIED:20250918T094247Z
UID:10039407-1771228800-1771254000@www.it.tarnow.pl
SUMMARY:Stała wystawa fragmentów „Panoramy Siedmiogrodzkiej”
DESCRIPTION:W Galerii „Panorama” umiejscowionej w budynku tarnowskiego dworca kolejowego prezentowana jest wystawa stała poświęcona „Panoramie Siedmiogrodzkiej” autorstwa Jana Styki oraz zespołu malarzy pracujących pod jego kierownictwem. Obraz uwiecznia zdobycie Sybina przez Węgrów pod dowództwem generała Józefa Bema\, 11 marca 1849 roku. Został on stworzony w 1897 roku na zamówienie Węgrów\, w celu uczczenia zbliżającej się 50-tej rocznicy węgierskiego powstania przeciwko Austriakom w latach 1848-49. \n\n\nGodziny otwarcia\n\nPoniedziałek 8.00 – 15.00\nWtorek 8.00 – 15.00\nŚroda 8.00 – 15.00\nCzwarte k8.00 – 15.00\nPiątek 8.00 – 15.00\nSobota nieczynne\nNiedziela 10.00 – 14.00 (od 1 października do 30 kwietnia)\n\n  \n 
URL:https://www.it.tarnow.pl/wydarzenie/stala-wystawa-fragmentow-panoramy-siedmiogrodzkiej-2/2026-02-16/
LOCATION:Galeria „Panorama” – Oddział  Muzeum Ziemi Tarnowskiej\, Plac Dworcowy 4\, Tarnów\, małopolskie\, 33-156
CATEGORIES:wystawy i wernisaże
ATTACH;FMTTYPE=image/jpeg:https://www.it.tarnow.pl/wp-content/uploads/2025/03/baner2-650x288-1.jpg
GEO:50.0057629;20.9744639
X-APPLE-STRUCTURED-LOCATION;VALUE=URI;X-ADDRESS=Galeria „Panorama” – Oddział  Muzeum Ziemi Tarnowskiej Plac Dworcowy 4 Tarnów małopolskie 33-156;X-APPLE-RADIUS=500;X-TITLE=Plac Dworcowy 4:geo:20.9744639,50.0057629
END:VEVENT
BEGIN:VEVENT
DTSTART;TZID=Europe/Warsaw:20260216T080000
DTEND;TZID=Europe/Warsaw:20260216T160000
DTSTAMP:20260420T173121
CREATED:20260128T083629Z
LAST-MODIFIED:20260128T083629Z
UID:10042307-1771228800-1771257600@www.it.tarnow.pl
SUMMARY:"Impuls" - wystawa malarstwa\, rysunku i fotografii
DESCRIPTION:W piątek\, 30 stycznia w Galerii Bema20 będzie miał miejsce wernisaż wystawy malarstwa\, rysunku i fotografii „Impuls” Joanny Jędraszek i Andrzeja Maksymiliana Trybulskiego. Początek o godz. 19:00. Wstęp wolny. \n– To będzie niezwykłe wydarzenie łączące odmienne\, ale i uzupełniające się postawy twórcze. Prace artystów tworzą dialog pomiędzy różnymi mediami i sposobami przedstawiania rzeczywistości. Malarstwo olejne i rysunek spotykają się tu z fotografią tworząc spójne perspektywy artystyczne – czytamy na facebooku Fundacji Bema20. \nPierwsze doświadczenia malarskie Joanny Jędraszek sięgają roku 1996. Później życie zawodowe na długi czas odsunęło je na dalszy plan. W 2024 roku po intensywnych przeżyciach i silnych emocjach\, autorka powróciła do tworzenia traktując każdy obraz jako osobisty zapis uczuć\, sposób wyrażenia siebie i uwolnienia wewnętrznej energii. \nAndrzej Maksymilian Trybulski poprzez rysunek oraz fotografię poszukuje relacji obrazu\, światła i czasu. Emocjonalny zwrot w jego życiu spowodował przebudzenie\, potrzebę materializacji i współdzielenia uśpionej wrażliwości. W jego pracach widać zainteresowanie detalem\, fakturą oraz podkreślanie dynamiki otaczającego świata. \n– Wystawa zachęca odbiorców do uruchamiania własnych wizji oraz poszukiwania połączeń pomiędzy obrazem\, techniką i emocjami – mówią artyści zapraszając na wernisaż. \nWystawa czynna będzie do piątku\, 6 marca. Jej finisaż rozpocznie się tego dnia o godz. 18.
URL:https://www.it.tarnow.pl/wydarzenie/impuls-wystawa-malarstwa-rysunku-i-fotografii/2026-02-16/
LOCATION:Galeria  Bema20\, ul. Bema 20\, Tarnów\, małopolskie\, 33-100\, Polska
CATEGORIES:wystawy i wernisaże
ATTACH;FMTTYPE=image/png:https://www.it.tarnow.pl/wp-content/uploads/2026/01/IMPULS-PLAKAT.png
GEO:50.0096872;20.9840833
X-APPLE-STRUCTURED-LOCATION;VALUE=URI;X-ADDRESS=Galeria  Bema20 ul. Bema 20 Tarnów małopolskie 33-100 Polska;X-APPLE-RADIUS=500;X-TITLE=ul. Bema 20:geo:20.9840833,50.0096872
END:VEVENT
BEGIN:VEVENT
DTSTART;TZID=Europe/Warsaw:20260216T090000
DTEND;TZID=Europe/Warsaw:20260216T150000
DTSTAMP:20260420T173121
CREATED:20260119T125012Z
LAST-MODIFIED:20260119T125012Z
UID:10042178-1771232400-1771254000@www.it.tarnow.pl
SUMMARY:„Cudowny czas zamknięty w kształcie i kolorze” - wystawa malarstwa Magdaleny Latawskiej-Honkisz
DESCRIPTION:Od poniedziałku 19 stycznia\, w filii nr 9 „Krzyż” Miejskiej Biblioteki Publicznej przy ul. Krzyskiej 116 oglądać można wystawę malarstwa Magdaleny Latawskiej-Honkisz „Cudowny czas zamknięty w kształcie i kolorze”. \nArtystka brała udział w licznych wystawach zbiorowych oraz indywidualnych m.in.: w Tarnowskim Centrum Kultury\, Galerii Zamkowej w Bielsku-Białej\, Galerii Hortar w Tarnowie i wielokrotnie w Miejskiej Bibliotece Publicznej w Tarnowie. Specjalizuje się w wielu technikach plastycznych: tkaninie artystycznej\, batiku\, malarstwie\, kolażu\, papieroplastyce. \nWystawę jej prac oglądać będzie można w krzyskiej filii MBP do soboty\, 28 lutego. \nGodziny otwarcia\nponiedziałek 9:00 – 15:00\nwtorek – piątek 9:00 – 18:00\nsobota 9:00 – 15:00
URL:https://www.it.tarnow.pl/wydarzenie/cudowny-czas-zamkniety-w-ksztalcie-i-kolorze-wystawa-malarstwa-magdaleny-latawskiej-honkisz/2026-02-16/
LOCATION:MBP\, Filia nr 9\, ul. Krzyska 116\, Tarnów\, małopolskie\, 33-100\, Polska
CATEGORIES:wystawy i wernisaże
ATTACH;FMTTYPE=image/jpeg:https://www.it.tarnow.pl/wp-content/uploads/2026/01/latawska.jpg
GEO:50.043661;20.9924189
X-APPLE-STRUCTURED-LOCATION;VALUE=URI;X-ADDRESS=MBP Filia nr 9 ul. Krzyska 116 Tarnów małopolskie 33-100 Polska;X-APPLE-RADIUS=500;X-TITLE=ul. Krzyska 116:geo:20.9924189,50.043661
END:VEVENT
BEGIN:VEVENT
DTSTART;TZID=Europe/Warsaw:20260216T100000
DTEND;TZID=Europe/Warsaw:20260216T150000
DTSTAMP:20260420T173121
CREATED:20251208T131315Z
LAST-MODIFIED:20251208T131315Z
UID:10041653-1771236000-1771254000@www.it.tarnow.pl
SUMMARY:Wystawa „Kwiaty i pejzaże” Marii Wójcickiej-Kaczmarek
DESCRIPTION:Od poniedziałku\, 8 grudnia w filii nr 8 Miejskiej Biblioteki Publicznej w Tarnowie przy ul. Traugutta 1 oglądać będzie można wystawę malarstwa „Kwiaty i pejzaże” Marii Wójcickiej-Kaczmarek. \nJest ona rodowitą mościczanką o korzeniach kresowych. Ukończyła Liceum Sztuk Plastycznych w Tarnowie i pracowała jako dekoratorka wnętrz\, plastyk miejski\, florystka oraz pracownica rekwizytorni Teatru im. Ludwika Solskiego w Tarnowie. \nNajwiększą jej miłością jest przyroda i to ona stanowi największe wyzwanie malarskie artystki. Jak sama mówi: – Tak szczęście\, jak i piękno są tylko chwilą (…) Cud natury nie jest do opowiedzenia najlepszym słowem. \nIstnieje możliwość zakupu prezentowanych prac. Ekspozycja dostępna będzie do zwiedzania do 31 marca w godzinach pracy Biblioteki.
URL:https://www.it.tarnow.pl/wydarzenie/wystawa-kwiaty-i-pejzaze-marii-wojcickiej-kaczmarek/2026-02-16/
LOCATION:MBP\, Filia 8\, ul. Traugutta 1\, Tarnów\, małopolskie\, 33-100\, Polska
CATEGORIES:wystawy i wernisaże
ATTACH;FMTTYPE=image/jpeg:https://www.it.tarnow.pl/wp-content/uploads/2025/12/wojcicka.jpg
GEO:50.009833;20.92706
X-APPLE-STRUCTURED-LOCATION;VALUE=URI;X-ADDRESS=MBP Filia 8 ul. Traugutta 1 Tarnów małopolskie 33-100 Polska;X-APPLE-RADIUS=500;X-TITLE=ul. Traugutta 1:geo:20.92706,50.009833
END:VEVENT
BEGIN:VEVENT
DTSTART;TZID=Europe/Warsaw:20260216T100000
DTEND;TZID=Europe/Warsaw:20260216T170000
DTSTAMP:20260420T173121
CREATED:20260206T083834Z
LAST-MODIFIED:20260206T083834Z
UID:10042684-1771236000-1771261200@www.it.tarnow.pl
SUMMARY:'Między formą a materią" - wystawa Romana Dołżyckiego
DESCRIPTION:W Multimedialnym Centrum Artystycznym\, oddziale BWA\, znajdującym się przy ul. Wałowej 25  zobaczyć można wystawę Romana Dołżyckiego. \n– Na wystawie artysta zaprezentuje część szerokiego wachlarza swoich prac. Mamy więc szklane\, samodzielne obiekty; łączone z drewnem czy jutą szklane bole o pięknych kształtach\, dostosowanych do podstaw\, w których bezbarwna czystość i blask fantastycznie korelują z odmiennymi materiałami\, wspólnie tworząc rzeźbiarską\, nową i cudowną jakość. Są też kamienne rzeźby – klasyczne i nowoczesne – których uroda i niewymuszone piękno łączą materiał z wydobytymi z niego kształtami. Mamy wreszcie wspólnie wykonane przez artystę i naturę przestrzenne formy rzeźbiarskie z rosochatych\, kruchych drewnianych fragmentów\, którym artysta dodał kamienne podstawy i metalowe elementy\, by nagiąć naturę do widzianych oczyma wyobraźni postaci – mówi kuratorka wystawy\, dr Hanna Wajda-Lawera z Centrum Dziedzictwa Szkła w Krośnie. \nWystawa\, której partnerem jest Centrum Dziedzictwa Szkła w Krośnie\, będzie dostępna do zwiedzania do czwartku\, 19 marca.
URL:https://www.it.tarnow.pl/wydarzenie/miedzy-forma-a-materia-wystawa-romana-dolzyckiego/2026-02-16/
LOCATION:Multimedialne Centrum Artystyczne\, ul. Wałowa 25\, Tarnów
CATEGORIES:wystawy i wernisaże
ATTACH;FMTTYPE=image/jpeg:https://www.it.tarnow.pl/wp-content/uploads/2026/02/miedzy-forma.jpg
END:VEVENT
BEGIN:VEVENT
DTSTART;TZID=Europe/Warsaw:20260216T100000
DTEND;TZID=Europe/Warsaw:20260216T180000
DTSTAMP:20260420T173121
CREATED:20260126T143331Z
LAST-MODIFIED:20260126T143331Z
UID:10042279-1771236000-1771264800@www.it.tarnow.pl
SUMMARY:"Nim zgaśnie słońce" - wystawa fotografii Małgorzaty Sikory
DESCRIPTION:W piątek 6 lutego 2026 r.\, wernisażem o godz. 18:00 rozpocznie się wystawa fotograficzna „Nim zgaśnie słońce”. Będzie można ją oglądać w Tarnowskim Centrum Kultury. Autorką zdjęć jest Małgorzata Sikora\, fotografka związana z Tarnowem.  \n„Nim zgaśnie Słońce” to wystawa fotograficzna poświęcona barwie\, światłu i ulotności chwili. Prezentowane fotografie\, dzięki zastosowaniu techniki ICM\, ukazują obraz odrywający się od dosłowności i zbliżający się do malarskiej abstrakcji. Autorka\, świadomie wykorzystując długie czasy naświetlania\, zmusza widza do zatrzymania się na dłużej\, do zwolnienia w codziennym biegu i wydłużenia chwili kontemplacji nieoczywistego kadru. Wbrew narzuconemu tempu współczesnego życia oraz pędowi ku doskonałości (również w fotografii!!)\, jest to świadome zaprzeczenie obowiązującym schematom i próba odnalezienia własnej ścieżki poprzez niedoskonałość. \nWernisaż: 6 lutego o godzinie 18:00 – spotkanie z Małgorzatą Sikorą poprowadzi Tomasz Sobczak\nMiejsce: Galeria TCK (Tarnów\, Rynek 5)\nTermin: 7 – 28 lutego 2026 r. \nGodziny otwarcia: Poniedziałek–piątek: 10:00–18:00\, Sobota: 10:00–17:00\nBilety: 7 zł (normalny) i 5 zł (ulgowy).
URL:https://www.it.tarnow.pl/wydarzenie/nim-zgasnie-slonce-wystawa-fotografii-malgorzaty-sikory/2026-02-16/
LOCATION:Galeria TCK\, Rynek 5\, Tarnów\, małopolskie\, 33-100\, Poland
CATEGORIES:wystawy i wernisaże
ATTACH;FMTTYPE=image/jpeg:https://www.it.tarnow.pl/wp-content/uploads/2026/01/nim-zgasnie-slonce.jpeg
END:VEVENT
BEGIN:VEVENT
DTSTART;TZID=Europe/Warsaw:20260216T120000
DTEND;TZID=Europe/Warsaw:20260216T143000
DTSTAMP:20260420T173121
CREATED:20260204T143832Z
LAST-MODIFIED:20260204T143832Z
UID:10042629-1771243200-1771252200@www.it.tarnow.pl
SUMMARY:Obchody Narodowego Dnia Pamięci Żołnierzy Armii Krajowej
DESCRIPTION:Światowy Związek Żołnierzy Armii Krajowej Okręg Tarnów oraz Rada Osiedla nr 1 Starówka w Tarnowie zapraszają na obchody Narodowego Dnia Pamięci Żołnierzy Armii Krajowej. \nTarnowskie uroczystości odbędą się w poniedziałek\, 16 lutego. Zainauguruje je Msza św. w intencji żołnierzy Armii Krajowej\, która o godz. 12:00 odprawiona zostanie w Bazylice Katedralnej. Po jej zakończeniu nastąpi przemarsz z Placu Katedralnego przed Grób Nieznanego Żołnierza. Tam o godz. 13:15 rozpocznie się uroczystość patriotyczna\, podczas której odśpiewany zostanie hymn państwowy oraz złożone zostaną wieńce i wiązanki kwiatów. \nWydarzeniem towarzyszącym poniedziałkowym obchodom będzie bezpłatne zwiedzanie wystaw Regionalnego Centrum Edukacji o Pamięci im. gen. bryg. Zdzisława Baszaka przy ul. Mościckiego 29. \nPartnerami wydarzenia są: XVI Liceum Ogólnokształcące im. Armii Krajowej w Tarnowie\, Muzeum Ziemi Tarnowskiej\, Urząd Marszałkowski Województwa Małopolskiego oraz Tarnowskie Centrum Kultury. Projekt współfinansowany jest z budżetu miasta Tarnowa.
URL:https://www.it.tarnow.pl/wydarzenie/obchody-narodowego-dnia-pamieci-zolnierzy-armii-krajowej/
LOCATION:Tarnów\, Tarnów\, małopolskie\, 33-100\, Poland
CATEGORIES:uroczystości patriotyczne
ATTACH;FMTTYPE=image/jpeg:https://www.it.tarnow.pl/wp-content/uploads/2026/02/Plakat_ZWZ-AK_2026_b2_page-0001.jpg
END:VEVENT
BEGIN:VEVENT
DTSTART;TZID=Europe/Warsaw:20260216T154500
DTEND;TZID=Europe/Warsaw:20260216T220000
DTSTAMP:20260420T173121
CREATED:20260211T104806Z
LAST-MODIFIED:20260211T104806Z
UID:10042719-1771256700-1771279200@www.it.tarnow.pl
SUMMARY:Babski Poniedziałek w Kinie Millenium - "Dalej jazda 2"
DESCRIPTION:Zapraszamy na największe kobiece wydarzenie w regionie – Babski Poniedziałek! W programie wieczoru trzy seanse filmowe i wyjątkowy kiermasz! \nBądź gotowa na Babski Poniedziałek! \nProgram wieczoru: \n\n	od godz. 17:00 – kiermasz\n	godz. 15:45\, 18:00 i 20:15 – seanse filmu „Dalej jazda 2”\n\nBilety możliwe do nabycia w kasie Kina oraz poprzez stronę internetową.
URL:https://www.it.tarnow.pl/wydarzenie/babski-poniedzialek-w-kinie-millenium-dalej-jazda-2/
LOCATION:Kino Millennium\, ul Traugutta 1\, Tarnów\, małopolskie\, 33-100\, Polska
CATEGORIES:kino - wybrane projekcje,spotkania
ATTACH;FMTTYPE=image/jpeg:https://www.it.tarnow.pl/wp-content/uploads/2026/02/babski-poniedzialek-16-lutego-2026-internet-696f3aebc0f87-scaled.jpg
GEO:50.009833;20.92706
X-APPLE-STRUCTURED-LOCATION;VALUE=URI;X-ADDRESS=Kino Millennium ul Traugutta 1 Tarnów małopolskie 33-100 Polska;X-APPLE-RADIUS=500;X-TITLE=ul Traugutta 1:geo:20.92706,50.009833
END:VEVENT
BEGIN:VEVENT
DTSTART;TZID=Europe/Warsaw:20260216T180000
DTEND;TZID=Europe/Warsaw:20260216T190000
DTSTAMP:20260420T173121
CREATED:20260121T133918Z
LAST-MODIFIED:20260121T133918Z
UID:10042222-1771264800-1771268400@www.it.tarnow.pl
SUMMARY:Międzynarodowy Koncert Orkiestrowy Młodzieży
DESCRIPTION:W poniedziałek\, 16 lutego w sali koncertowej Zespołu Szkół Muzycznych przy ul. Lippóczy’ego w Tarnowie odbędzie się Międzynarodowy Koncert Orkiestrowy Młodzieży. Początek o godz. 18. \nNa scenie wystąpią Dublin Youth Orchestra pod batutą Gavina Maloney’a oraz Orkiestra tarnowskiego Zespołu Szkół Muzycznych prowadzona przez Pawła Szczepańskiego. Na finał planowane jest symboliczne spotkanie dwóch kultur\, czyli wspólne wykonanie utworów łączących tradycje irlandzkie i polskie. \nBezpłatne wejściówki na koncert odbierać będzie można w Zespole Szkół Muzycznych od jutra (czwartek\, 22 stycznia).
URL:https://www.it.tarnow.pl/wydarzenie/miedzynarodowy-koncert-orkiestrowy-mlodziezy/
LOCATION:Zespół Szkół Muzycznych\, ul. Lippóczy'ego 4\, Tarnów\, małopolskie\, 33-100\, Polska
CATEGORIES:koncert
ATTACH;FMTTYPE=image/jpeg:https://www.it.tarnow.pl/wp-content/uploads/2026/01/zsm_orkiestry.jpg
GEO:50.024104;20.984493
X-APPLE-STRUCTURED-LOCATION;VALUE=URI;X-ADDRESS=Zespół Szkół Muzycznych ul. Lippóczy'ego 4 Tarnów małopolskie 33-100 Polska;X-APPLE-RADIUS=500;X-TITLE=ul. Lippóczy'ego 4:geo:20.984493,50.024104
END:VEVENT
BEGIN:VEVENT
DTSTART;TZID=Europe/Warsaw:20260216T180000
DTEND;TZID=Europe/Warsaw:20260216T193000
DTSTAMP:20260420T173121
CREATED:20260205T093224Z
LAST-MODIFIED:20260205T093224Z
UID:10042631-1771264800-1771270200@www.it.tarnow.pl
SUMMARY:"Zofia Stryjeńska. Między wiarą a obrzędem" - wystawa czasowa
DESCRIPTION:Kolor\, rytm i ekspresja\, które na co dzień pozostają ukryte w muzealnych magazynach. Prace „księżniczki polskiej sztuki”\, bo tak nazywano Zofię Stryjeńską\, ze względu na swoją delikatność i wrażliwość na światło prezentowane są publicznie niezwykle rzadko. Wkrótce będzie można zobaczyć je w Siedzibie Muzeum Ziemi Tarnowskiej. \nWERNISAŻ: poniedziałek\, 16 lutego 2026 r.\, godz. 18:00\nMiejsce: Siedziba Muzeum Ziemi Tarnowskiej\, Rynek 3\nWystawa czynna: do 16 maja 2026 roku\nWstęp na wernisaż oraz zwiedzanie wystawy – BEZPŁATNY \nNa wystawie „Zofia Stryjeńska. Między wiarą a obrzędem” zaprezentowane będą wybrane obrazy i grafiki artystki\, pochodzące z unikatowej kolekcji zgromadzonej przez księdza prof. Alojzego Franciszka Nosala\, ofiarowanej Miastu Tarnów i zdeponowanej w Muzeum Ziemi Tarnowskiej. Zbiór ten obejmuje 33 prace Zofii Stryjeńskiej (1891-1976)\, powstałe głównie w latach 30. i 60. XX wieku i stanowi jeden z najcenniejszych depozytów w zbiorach muzeum. \nWystawa będzie koncentrować się na jednym z kluczowych wątków w twórczości Stryjeńskiej – ludowości\, rozumianej jako przestrzeń spotkania wiary\, obrzędu i codzienności. Ekspozycja została podzielona na cztery części tematyczne: stroje ludowe\, obrzędy i zwyczaje\, obrazy religijne oraz ludowe scenki rodzajowe.
URL:https://www.it.tarnow.pl/wydarzenie/zofia-stryjenska-miedzy-wiara-a-obrzedem-wystawa-czasowa/2026-02-16/
LOCATION:Siedziba Muzeum Ziemi Tarnowskiej\, Rynek 3\, Tarnów\, małopolskie\, 33-100
CATEGORIES:wystawy i wernisaże
ATTACH;FMTTYPE=image/png:https://www.it.tarnow.pl/wp-content/uploads/2026/02/stryjenska-plakat.png
GEO:50.01247;20.987686
X-APPLE-STRUCTURED-LOCATION;VALUE=URI;X-ADDRESS=Siedziba Muzeum Ziemi Tarnowskiej Rynek 3 Tarnów małopolskie 33-100;X-APPLE-RADIUS=500;X-TITLE=Rynek 3:geo:20.987686,50.01247
END:VEVENT
END:VCALENDAR