BEGIN:VCALENDAR
VERSION:2.0
PRODID:-//Tarnowskie Centrum Informacji - ECPv6.13.2.1//NONSGML v1.0//EN
CALSCALE:GREGORIAN
METHOD:PUBLISH
X-ORIGINAL-URL:https://www.it.tarnow.pl
X-WR-CALDESC:Wydarzenia z
REFRESH-INTERVAL;VALUE=DURATION:PT1H
X-Robots-Tag:noindex
X-PUBLISHED-TTL:PT1H
BEGIN:VTIMEZONE
TZID:Europe/Warsaw
BEGIN:DAYLIGHT
TZOFFSETFROM:+0100
TZOFFSETTO:+0200
TZNAME:CEST
DTSTART:20260329T010000
END:DAYLIGHT
BEGIN:STANDARD
TZOFFSETFROM:+0200
TZOFFSETTO:+0100
TZNAME:CET
DTSTART:20261025T010000
END:STANDARD
END:VTIMEZONE
BEGIN:VEVENT
DTSTART;VALUE=DATE:20260131
DTEND;VALUE=DATE:20260201
DTSTAMP:20260421T085303
CREATED:20260114T091931Z
LAST-MODIFIED:20260114T091931Z
UID:10042062-1769817600-1769903999@www.it.tarnow.pl
SUMMARY:„Walczyć\, ale czym?”- wystawa plenerowa
DESCRIPTION:„Walczyć\, ale czym?” to tytuł plenerowej wystawy\, prezentowanej na skwerze przy Regionalnym Centrum Edukacji o Pamięci im gen. bryg. Zdzisława Baszaka przy ul. Mościckiego 27A w Tarnowie. Opowiada ona o działaniach\, funkcjonującej w latach 1919-1921\, Polskiej Wojskowej Misji Zakupów w Paryżu. \nWystawa\, którą bezpłatnie oglądać można do czwartku\, 19 lutego została przygotowana przez Oddział Instytutu Pamięci Narodowej w Katowicach i Muzeum Miasta Jaworzna. Jej autorami są dr Piotr Uwijał z Polskiego Towarzystwa Historycznego w Katowicach oraz Adriana Rams z Muzeum Miasta Jaworzna i Instytutu Pamięci Narodowej. \n 
URL:https://www.it.tarnow.pl/wydarzenie/walczyc-ale-czym-wystawa-plenerowa/2026-01-31/
LOCATION:Regionalne Centrum Edukacji o Pamięci\, ul. Ignacego Mościckiego 29\, Tarnów\, 33-100
CATEGORIES:wystawy i wernisaże
ATTACH;FMTTYPE=image/jpeg:https://www.it.tarnow.pl/wp-content/uploads/2026/01/walczyc03.jpg
END:VEVENT
BEGIN:VEVENT
DTSTART;VALUE=DATE:20260131
DTEND;VALUE=DATE:20260201
DTSTAMP:20260421T085303
CREATED:20260122T152044Z
LAST-MODIFIED:20260122T152044Z
UID:10042232-1769817600-1769903999@www.it.tarnow.pl
SUMMARY:"Zagłada Żydów europejskich" - wystawa plenerowa
DESCRIPTION:W poniedziałek\, 26 stycznia o godz. 10:00\, w podcieniach kamienicy Muzeum Historii Tarnowa i Regionu (Rynek 20) otwarta zostanie plenerowa wystawa Instytutu Pamięci Narodowej „Zagłada Żydów europejskich”. \nNa kilkunastu wielkoformatowych planszach przedstawiona została\, będąca bezprecedensowym wydarzeniem w historii\, zagłada Żydów w latach 30. i 40. XX wieku. Ofiarą Niemców padło wówczas prawie 6 milionów europejskich Żydów. \nWystawa powstała w Oddziałowym Biurze Edukacji Narodowej IPN w Łodzi. Autorem jest Magdalena Zapolska-Downar\, za projekt graficzny odpowiadała firma ARSA. Fotografie pochodzą ze zbiorów Archiwum IPN\, Archiwum Państwowego w Łodzi\, Bundesarchiv oraz domeny publicznej. \nDo wystawy przygotowane zostały materiały edukacyjne online (dostępne są na stronie www.muzeum.tarnow.pl) mające służyć nauczycielom do przeprowadzenia zajęć lekcyjnych. Ze względu na drastyczność tematu ekspozycja\, która prezentowana będzie w Tarnowie do końca lutego\, nie jest rekomendowana dla uczniów poniżej 14 roku życia.
URL:https://www.it.tarnow.pl/wydarzenie/zaglada-zydow-europejskich-wystawa-plenerowa/2026-01-31/
LOCATION:Rynek\, Tarnów\, małopolskie\, 33-100\, Polska
CATEGORIES:wystawy i wernisaże
ATTACH;FMTTYPE=image/jpeg:https://www.it.tarnow.pl/wp-content/uploads/2026/01/wystawa.jpg
GEO:50.0121011;20.9858407
END:VEVENT
BEGIN:VEVENT
DTSTART;TZID=Europe/Warsaw:20260131T090000
DTEND;TZID=Europe/Warsaw:20260131T150000
DTSTAMP:20260421T085303
CREATED:20251215T102348Z
LAST-MODIFIED:20251215T134026Z
UID:10041727-1769850000-1769871600@www.it.tarnow.pl
SUMMARY:Wystawa „Kwiaty i pejzaże” Marii Wójcickiej-Kaczmarek
DESCRIPTION:Od poniedziałku\, 8 grudnia w filii nr 8 Miejskiej Biblioteki Publicznej w Tarnowie przy ul. Traugutta 1 oglądać można wystawę malarstwa „Kwiaty i pejzaże” Marii Wójcickiej-Kaczmarek. \nJest ona rodowitą mościczanką o korzeniach kresowych. Ukończyła Liceum Sztuk Plastycznych w Tarnowie i pracowała jako dekoratorka wnętrz\, plastyk miejski\, florystka oraz pracownica rekwizytorni Teatru im. Ludwika Solskiego w Tarnowie. \nNajwiększą jej miłością jest przyroda i to ona stanowi największe wyzwanie malarskie artystki. Jak sama mówi: – Tak szczęście\, jak i piękno są tylko chwilą (…) Cud natury nie jest do opowiedzenia najlepszym słowem. \nIstnieje możliwość zakupu prezentowanych prac. Ekspozycja dostępna będzie do zwiedzania do 31 marca w godzinach pracy Biblioteki.
URL:https://www.it.tarnow.pl/wydarzenie/wystawa-kwiaty-i-pejzaze-marii-wojcickiej-kaczmarek-3-2/2026-01-31/
LOCATION:MBP\, Filia 8\, ul. Traugutta 1\, Tarnów\, małopolskie\, 33-100\, Polska
CATEGORIES:wystawy i wernisaże
ATTACH;FMTTYPE=image/jpeg:https://www.it.tarnow.pl/wp-content/uploads/2025/12/wojcicka.jpg
GEO:50.009833;20.92706
X-APPLE-STRUCTURED-LOCATION;VALUE=URI;X-ADDRESS=MBP Filia 8 ul. Traugutta 1 Tarnów małopolskie 33-100 Polska;X-APPLE-RADIUS=500;X-TITLE=ul. Traugutta 1:geo:20.92706,50.009833
END:VEVENT
BEGIN:VEVENT
DTSTART;TZID=Europe/Warsaw:20260131T090000
DTEND;TZID=Europe/Warsaw:20260131T150000
DTSTAMP:20260421T085303
CREATED:20260107T110305Z
LAST-MODIFIED:20260107T110305Z
UID:10041904-1769850000-1769871600@www.it.tarnow.pl
SUMMARY:Wystawa "Epifanie ciała" Agnieszki Lech-Bińczyckiej
DESCRIPTION:Wystawa „Epifanie ciała” Agnieszki Lech-Bińczyckiej otwiera przed widzem obszar pomiędzy widzialnym a odczuwanym. Prezentowane grafiki skupiają się na ciele pozbawionym narracyjnego kontekstu\, wydobywając z niego to\, co najprostsze i zarazem najbardziej znaczące – obecność\, napięcie\, ślad gestu.
URL:https://www.it.tarnow.pl/wydarzenie/wystawa-epifanie-ciala-agnieszki-lech-binczyckiej/2026-01-31/
LOCATION:Muzeum Diecezjalne\, Pl. Katedralny 6\, Tarnów\, małopolskie\, 33-100\, Polska
CATEGORIES:wystawy i wernisaże
ATTACH;FMTTYPE=image/jpeg:https://www.it.tarnow.pl/wp-content/uploads/2026/01/613131231_1220779613482146_6419633955148787640_n.jpg
GEO:50.0135975;20.9874165
X-APPLE-STRUCTURED-LOCATION;VALUE=URI;X-ADDRESS=Muzeum Diecezjalne Pl. Katedralny 6 Tarnów małopolskie 33-100 Polska;X-APPLE-RADIUS=500;X-TITLE=Pl. Katedralny 6:geo:20.9874165,50.0135975
END:VEVENT
BEGIN:VEVENT
DTSTART;TZID=Europe/Warsaw:20260131T090000
DTEND;TZID=Europe/Warsaw:20260131T150000
DTSTAMP:20260421T085303
CREATED:20260119T125012Z
LAST-MODIFIED:20260119T125012Z
UID:10042173-1769850000-1769871600@www.it.tarnow.pl
SUMMARY:„Cudowny czas zamknięty w kształcie i kolorze” - wystawa malarstwa Magdaleny Latawskiej-Honkisz
DESCRIPTION:Od poniedziałku 19 stycznia\, w filii nr 9 „Krzyż” Miejskiej Biblioteki Publicznej przy ul. Krzyskiej 116 oglądać można wystawę malarstwa Magdaleny Latawskiej-Honkisz „Cudowny czas zamknięty w kształcie i kolorze”. \nArtystka brała udział w licznych wystawach zbiorowych oraz indywidualnych m.in.: w Tarnowskim Centrum Kultury\, Galerii Zamkowej w Bielsku-Białej\, Galerii Hortar w Tarnowie i wielokrotnie w Miejskiej Bibliotece Publicznej w Tarnowie. Specjalizuje się w wielu technikach plastycznych: tkaninie artystycznej\, batiku\, malarstwie\, kolażu\, papieroplastyce. \nWystawę jej prac oglądać będzie można w krzyskiej filii MBP do soboty\, 28 lutego. \nGodziny otwarcia\nponiedziałek 9:00 – 15:00\nwtorek – piątek 9:00 – 18:00\nsobota 9:00 – 15:00
URL:https://www.it.tarnow.pl/wydarzenie/cudowny-czas-zamkniety-w-ksztalcie-i-kolorze-wystawa-malarstwa-magdaleny-latawskiej-honkisz/2026-01-31/
LOCATION:MBP\, Filia nr 9\, ul. Krzyska 116\, Tarnów\, małopolskie\, 33-100\, Polska
CATEGORIES:wystawy i wernisaże
ATTACH;FMTTYPE=image/jpeg:https://www.it.tarnow.pl/wp-content/uploads/2026/01/latawska.jpg
GEO:50.043661;20.9924189
X-APPLE-STRUCTURED-LOCATION;VALUE=URI;X-ADDRESS=MBP Filia nr 9 ul. Krzyska 116 Tarnów małopolskie 33-100 Polska;X-APPLE-RADIUS=500;X-TITLE=ul. Krzyska 116:geo:20.9924189,50.043661
END:VEVENT
BEGIN:VEVENT
DTSTART;TZID=Europe/Warsaw:20260131T100000
DTEND;TZID=Europe/Warsaw:20260131T170000
DTSTAMP:20260421T085303
CREATED:20251222T140954Z
LAST-MODIFIED:20251222T140954Z
UID:10041876-1769853600-1769878800@www.it.tarnow.pl
SUMMARY:Transmutacja - wystawa
DESCRIPTION:Transmutacja to nowa wystawa\, którą od 9 stycznia można oglądać w galerii Tarnowskiego Centrum Kultury. Jej autorką jest Alicja Przybyszowska. \nW swojej twórczości artystka koncentruje się na obrazie ciała\, które kryje w sobie zapis indywidualnych historii i doświadczeń. Alicja Przybyszowska wykorzystuje fotografię jako narzędzie wizualizacji myśli i emocji\, odwołując się do intuicji odbiorcy i poszukiwania znaczeń wykraczających poza dosłowność przedstawień. Istotnym elementem jej praktyki artystycznej jest cyjanotypia – alternatywna technika fotograficzna. Artystka łączy tradycyjne techniki z nowoczesnymi narzędziami\, wykorzystując negatywy wykonywane aparatem cyfrowym. \nWernisaż odbył się 9 stycznia o godz. 18:00. Spotkanie z artystką poprowadził Tomasz Sobczak. Ekspozycję będzie można oglądać w galerii przy Rynku 5 do 31 stycznia.
URL:https://www.it.tarnow.pl/wydarzenie/transmutacja-wystawa/2026-01-31/
LOCATION:Tarnowskie Centrum Kultury\, Rynek 5\, Tarnów\, małopolskie\, 33-100\, Polska
CATEGORIES:wystawy i wernisaże
ATTACH;FMTTYPE=image/jpeg:https://www.it.tarnow.pl/wp-content/uploads/2025/12/85c9f17cad623f687c12a701676ee879.jpeg
GEO:50.0121759;20.98781
X-APPLE-STRUCTURED-LOCATION;VALUE=URI;X-ADDRESS=Tarnowskie Centrum Kultury Rynek 5 Tarnów małopolskie 33-100 Polska;X-APPLE-RADIUS=500;X-TITLE=Rynek 5:geo:20.98781,50.0121759
END:VEVENT
BEGIN:VEVENT
DTSTART;TZID=Europe/Warsaw:20260131T100000
DTEND;TZID=Europe/Warsaw:20260131T200000
DTSTAMP:20260421T085303
CREATED:20260113T075319Z
LAST-MODIFIED:20260113T075319Z
UID:10042035-1769853600-1769889600@www.it.tarnow.pl
SUMMARY:RED GALLERY - odsłona styczniowa
DESCRIPTION:RED Gallery jest otwartą galerią na działania w obszarze różnorodnych form artystycznych.\n \nWystawa czynna 05-31.01.2026\,  poniedziałek – piątek: 10:00-20:00\, sobota – niedziela: 15:00-20:00 \nRed Gallery można oglądać od zewnątrz przy głównym wejściu do CSM \n 
URL:https://www.it.tarnow.pl/wydarzenie/red-gallery-odslona-styczniowa/2026-01-31/
LOCATION:Centrum Sztuki Mościce
CATEGORIES:wystawy i wernisaże
ATTACH;FMTTYPE=image/jpeg:https://www.it.tarnow.pl/wp-content/uploads/2026/01/Wieza-snien-1-695e39f65d8b8.jpg
END:VEVENT
BEGIN:VEVENT
DTSTART;TZID=Europe/Warsaw:20260131T103000
DTEND;TZID=Europe/Warsaw:20260131T140000
DTSTAMP:20260421T085303
CREATED:20260116T083927Z
LAST-MODIFIED:20260116T083927Z
UID:10042130-1769855400-1769868000@www.it.tarnow.pl
SUMMARY:Karnawałowy bal w Bibliotece Pedagogicznej
DESCRIPTION:W ostatni dzień stycznia\, Biblioteka Pedagogiczna w Tarnowie zaprasza dzieci w wieku od lat 4 wraz z rodzicami lub opiekunami na Bal Karnawałowy „Kraina Przygód”. Sobotnie wydarzenie w budynku przy ul. Nowy Świat 30 rozpocznie się o godz. 10.30.
URL:https://www.it.tarnow.pl/wydarzenie/karnawalowy-bal-w-bibliotece-pedagogicznej/
LOCATION:Biblioteka Pedagogiczna Tarnów\, Nowy Świat 30\, Tarnów\, Małopolska\, 33-100
CATEGORIES:imprezy taneczne
ATTACH;FMTTYPE=image/jpeg:https://www.it.tarnow.pl/wp-content/uploads/2026/01/bal.jpg
END:VEVENT
BEGIN:VEVENT
DTSTART;TZID=Europe/Warsaw:20260131T120000
DTEND;TZID=Europe/Warsaw:20260131T230000
DTSTAMP:20260421T085303
CREATED:20251217T102214Z
LAST-MODIFIED:20251217T102359Z
UID:10041800-1769860800-1769900400@www.it.tarnow.pl
SUMMARY:Festiwal Górnolotni 2026 - Spotkania ludzi gór w Tarnowie
DESCRIPTION:Góry\, przygoda i inspiracja – wszystko to czeka na Ciebie podczas Festiwalu Górnolotni w Tarnowie! Spotkaj się z wyjątkowymi ludźmi gór – himalaistami\, alpinistami i podróżnikami\, którzy zabiorą Cię w niezapomnianą podróż od najwyższych szczytów świata po dzikie górskie doliny. \nProgram festiwalu:\n31 stycznia 2026 – sobota  \n\n	12:00 – warsztaty: Weronika Łukaszewska i Sławomir Sanocki „W Karpaty z plecakiem” (9-12 lat) Grupa: 30 osób Czas: ok. 1\,5 h \n	15:00 – Weronika Łukaszewska i Sławomir Sanocki – „Wielki Szlak Włoski – Sentiero Italia CAI (7000 km)”\n	16:30 – Ekipa duo:ENDURO i film „SAPANA – himalajska droga do marzeń” \n	18:00 – Michał Król – „Butterfly Effects – polska droga na Kyajo Ri.”\n	19:30 – Adam Bielecki – „Doświadczanie Annapurny\, czyli himalaizm w wydaniu sportowym” oraz promocja książki „Bez śladu”\n	21:00 – film: „Run Again”\n\n1 lutego 2026 – niedziela  \n\n	12:00 – bieg GÓRNOLOTNYCH (przełajowy 12 km – godz.11:00 oraz dla dzieci godz.10:00) \n	14:00 – film: „Climbing blind”\n	15:00 – Grzegorz Kłak – „Korona Gór Polski w ciemnościach” \n	16:30 – Beata Słama – „Betlejemka – jajecznica\, imagineskopia i wspinaczkowa hołota” oraz promocja książki „Planeta hala” \n	18:00 – Dariusz Załuski – „Pięć ośmiotysięczników i jedna kamera – moje 25 lat w Himalajach” \n	19:30 – Janusz Onyszkiewicz – „Pierwsze polskie wyprawy na Gasherbrumy i K2 w Himalajach” \n	21:00 – film: „Robson” \n\nCentrum Sztuki Mościce (sala widowiskowa)\nBilety: bilet na 1 dzień – 80 zł (normalny)\, 70 zł (ulgowy). Karnet na 2 dni – 150 zł (normalny)\, 130 zł (ulgowy).
URL:https://www.it.tarnow.pl/wydarzenie/festiwal-gornolotni-2026-spotkania-ludzi-gor-w-tarnowie/2026-01-31/
LOCATION:Centrum Sztuki Mościcie\, ul. Traugutta 1\, Tarnów\, małopolskie\, 33-100\, Polska
CATEGORIES:festiwale
ATTACH;FMTTYPE=image/jpeg:https://www.it.tarnow.pl/wp-content/uploads/2025/12/FB-baner-693fe8d1be96c.jpg.jpg
GEO:50.009833;20.92706
X-APPLE-STRUCTURED-LOCATION;VALUE=URI;X-ADDRESS=Centrum Sztuki Mościcie ul. Traugutta 1 Tarnów małopolskie 33-100 Polska;X-APPLE-RADIUS=500;X-TITLE=ul. Traugutta 1:geo:20.92706,50.009833
END:VEVENT
BEGIN:VEVENT
DTSTART;TZID=Europe/Warsaw:20260131T170000
DTEND;TZID=Europe/Warsaw:20260131T180000
DTSTAMP:20260421T085303
CREATED:20260116T091353Z
LAST-MODIFIED:20260129T105859Z
UID:10042132-1769878800-1769882400@www.it.tarnow.pl
SUMMARY:Śladami Stramerów po Tarnowie – Katarzyna Nalezińska i Witold Stachnik. Spotkanie autorskie
DESCRIPTION:Sala Lustrzana ul. Wałowa 10\, 31 stycznia (sobota) 2026 r.\, godz. 17:00 \ngoście: Mikołaj Łoziński – autor książek „Stramer” i „Stramerowie” oraz Dawid Mik i Najmniejsza Scena Świata \nŚLADAMI STRAMERÓW PO TARNOWIE to artystyczno-edukacyjny projekt literacko-historyczny inspirowany powieścią „Stramer” Mikołaja Łozińskiego – jedną z najważniejszych współczesnych narracji o żydowskim Tarnowie i losach jego mieszkańców w przededniu Zagłady. Książka łączy elementy literatury pięknej\, reportażu historycznego i przewodnika miejskiego\, tworząc wyjątkową opowieść o pamięci\, tożsamości i przemijaniu. Jej celem jest przybliżenie czytelnikom – zarówno tarnowianom\, jak i odbiorcom spoza regionu – miejsc\, historii i ludzi\, którzy współtworzyli niegdyś bogaty\, wielokulturowy krajobraz miasta.\nAutorzy prowadzą odbiorcę ulicami\, domami i placami wspomnianymi w powieści Łozińskiego\, zestawiając literackie obrazy z rzeczywistością – zarówno historyczną\, jak i współczesną. Publikacja ma charakter interdyscyplinarny – łączy literaturę z historią\, fotografią\, architekturą i edukacją regionalną. \n 
URL:https://www.it.tarnow.pl/wydarzenie/sladami-stramerow-po-tarnowie-katarzyna-nalezinska-i-witold-stachnik-spotkanie-autorskie/
LOCATION:Sala Lustrzana\, Wałowa 10\, Tarnów\, małopolskie\, 33-100\, Polska
CATEGORIES:spotkania
ATTACH;FMTTYPE=image/svg+xml:https://www.it.tarnow.pl/wp-content/uploads/2026/01/Stramer_625x625-px.svg
GEO:50.0132629;20.986047
X-APPLE-STRUCTURED-LOCATION;VALUE=URI;X-ADDRESS=Sala Lustrzana Wałowa 10 Tarnów małopolskie 33-100 Polska;X-APPLE-RADIUS=500;X-TITLE=Wałowa 10:geo:20.986047,50.0132629
END:VEVENT
BEGIN:VEVENT
DTSTART;TZID=Europe/Warsaw:20260131T190000
DTEND;TZID=Europe/Warsaw:20260131T203000
DTSTAMP:20260421T085303
CREATED:20260131T082039Z
LAST-MODIFIED:20260131T082039Z
UID:10042617-1769886000-1769891400@www.it.tarnow.pl
SUMMARY:Koncert jubileuszowy Scholi Sanktuaryjnej „Akatyst”
DESCRIPTION:W sobotę 31 stycznia 2026 r.\, w Bazylice Katedralnej w Tarnowie odbędzie się koncert jubileuszowy Scholi Sanktuaryjnej „Akatyst”. Początek o godz. 19:00. \nOprócz Scholi Sanktuaryjnej „Akatyst” wystąpią w nim: Katedralna Orkiestra Symfoniczna i Marcin Kucharzyk – organy\, fisharmonia (dyrygent – Sławomir Barszcz). \nW programie wydarzenia: Te Deum Charlesa Tournemire’a oraz Msza a-moll op. 197 Josefa Gabriela Rheinbergera. \nWstęp wolny.
URL:https://www.it.tarnow.pl/wydarzenie/koncert-jubileuszowy-scholi-sanktuaryjnej-akatyst/
LOCATION:Bazylika Katedralna\, ul. Kapitulna 2\, Tarnów\, małopolskie\, 33-100\, Polska
CATEGORIES:koncert
ATTACH;FMTTYPE=image/jpeg:https://www.it.tarnow.pl/wp-content/uploads/2026/01/akatyst.jpg
GEO:50.013388;20.987599
X-APPLE-STRUCTURED-LOCATION;VALUE=URI;X-ADDRESS=Bazylika Katedralna ul. Kapitulna 2 Tarnów małopolskie 33-100 Polska;X-APPLE-RADIUS=500;X-TITLE=ul. Kapitulna 2:geo:20.987599,50.013388
END:VEVENT
BEGIN:VEVENT
DTSTART;TZID=Europe/Warsaw:20260131T200000
DTEND;TZID=Europe/Warsaw:20260131T213000
DTSTAMP:20260421T085303
CREATED:20251222T102836Z
LAST-MODIFIED:20251222T102836Z
UID:10041855-1769889600-1769895000@www.it.tarnow.pl
SUMMARY:Koncert: Daria ze Śląska
DESCRIPTION:Daria ze Śląska wraca do koncertowania – tym razem z przedpremierowym materiałem z nadchodzącego\, trzeciego albumu! Już 31 stycznia 2026 roku artystka wystąpi w tarnowskim kinie Marzenie. \nPo niezwykle intensywnej jesiennej trasie i kolejnych sukcesach – w tym nagrodzie Fryderyka za Album Roku Pop Alternatywny na początku 2025 – Daria ze Śląska wraca na scenę\, by zaprezentować fanom zupełnie nowe utwory. Pierwsza część roku to dla niej czas przygotowań do wydania trzeciego solowego albumu\, którego premiera przewidziana jest na 2026\, ale zanim to nastąpi\, publiczność będzie mogła usłyszeć część materiału na żywo. \nData i godzina: 31.01.2026\, godz. 20.00\nMiejsce: Kino Marzenie\, ul. Staszica 4\nBilety: 90 zł — do nabycia online oraz w kasie kina Marzenie od 19 grudnia
URL:https://www.it.tarnow.pl/wydarzenie/koncert-daria-ze-slaska/
LOCATION:Tarnowskie Centrum Kultury\, Rynek 5\, Tarnów\, małopolskie\, 33-100\, Polska
CATEGORIES:koncert
ATTACH;FMTTYPE=image/jpeg:https://www.it.tarnow.pl/wp-content/uploads/2025/12/8805128439bf195de1c2cf4e0f6beeae-1536x864-1.jpg
GEO:50.0121759;20.98781
X-APPLE-STRUCTURED-LOCATION;VALUE=URI;X-ADDRESS=Tarnowskie Centrum Kultury Rynek 5 Tarnów małopolskie 33-100 Polska;X-APPLE-RADIUS=500;X-TITLE=Rynek 5:geo:20.98781,50.0121759
END:VEVENT
END:VCALENDAR