BEGIN:VCALENDAR
VERSION:2.0
PRODID:-//Tarnowskie Centrum Informacji - ECPv6.13.2.1//NONSGML v1.0//EN
CALSCALE:GREGORIAN
METHOD:PUBLISH
X-ORIGINAL-URL:https://www.it.tarnow.pl
X-WR-CALDESC:Wydarzenia z
REFRESH-INTERVAL;VALUE=DURATION:PT1H
X-Robots-Tag:noindex
X-PUBLISHED-TTL:PT1H
BEGIN:VTIMEZONE
TZID:Europe/Warsaw
BEGIN:DAYLIGHT
TZOFFSETFROM:+0100
TZOFFSETTO:+0200
TZNAME:CEST
DTSTART:20260329T010000
END:DAYLIGHT
BEGIN:STANDARD
TZOFFSETFROM:+0200
TZOFFSETTO:+0100
TZNAME:CET
DTSTART:20261025T010000
END:STANDARD
END:VTIMEZONE
BEGIN:VEVENT
DTSTART;VALUE=DATE:20260130
DTEND;VALUE=DATE:20260131
DTSTAMP:20260420T225800
CREATED:20260114T091931Z
LAST-MODIFIED:20260114T091931Z
UID:10042061-1769731200-1769817599@www.it.tarnow.pl
SUMMARY:„Walczyć\, ale czym?”- wystawa plenerowa
DESCRIPTION:„Walczyć\, ale czym?” to tytuł plenerowej wystawy\, prezentowanej na skwerze przy Regionalnym Centrum Edukacji o Pamięci im gen. bryg. Zdzisława Baszaka przy ul. Mościckiego 27A w Tarnowie. Opowiada ona o działaniach\, funkcjonującej w latach 1919-1921\, Polskiej Wojskowej Misji Zakupów w Paryżu. \nWystawa\, którą bezpłatnie oglądać można do czwartku\, 19 lutego została przygotowana przez Oddział Instytutu Pamięci Narodowej w Katowicach i Muzeum Miasta Jaworzna. Jej autorami są dr Piotr Uwijał z Polskiego Towarzystwa Historycznego w Katowicach oraz Adriana Rams z Muzeum Miasta Jaworzna i Instytutu Pamięci Narodowej. \n 
URL:https://www.it.tarnow.pl/wydarzenie/walczyc-ale-czym-wystawa-plenerowa/2026-01-30/
LOCATION:Regionalne Centrum Edukacji o Pamięci\, ul. Ignacego Mościckiego 29\, Tarnów\, 33-100
CATEGORIES:wystawy i wernisaże
ATTACH;FMTTYPE=image/jpeg:https://www.it.tarnow.pl/wp-content/uploads/2026/01/walczyc03.jpg
END:VEVENT
BEGIN:VEVENT
DTSTART;VALUE=DATE:20260130
DTEND;VALUE=DATE:20260131
DTSTAMP:20260420T225800
CREATED:20260122T152044Z
LAST-MODIFIED:20260122T152044Z
UID:10042231-1769731200-1769817599@www.it.tarnow.pl
SUMMARY:"Zagłada Żydów europejskich" - wystawa plenerowa
DESCRIPTION:W poniedziałek\, 26 stycznia o godz. 10:00\, w podcieniach kamienicy Muzeum Historii Tarnowa i Regionu (Rynek 20) otwarta zostanie plenerowa wystawa Instytutu Pamięci Narodowej „Zagłada Żydów europejskich”. \nNa kilkunastu wielkoformatowych planszach przedstawiona została\, będąca bezprecedensowym wydarzeniem w historii\, zagłada Żydów w latach 30. i 40. XX wieku. Ofiarą Niemców padło wówczas prawie 6 milionów europejskich Żydów. \nWystawa powstała w Oddziałowym Biurze Edukacji Narodowej IPN w Łodzi. Autorem jest Magdalena Zapolska-Downar\, za projekt graficzny odpowiadała firma ARSA. Fotografie pochodzą ze zbiorów Archiwum IPN\, Archiwum Państwowego w Łodzi\, Bundesarchiv oraz domeny publicznej. \nDo wystawy przygotowane zostały materiały edukacyjne online (dostępne są na stronie www.muzeum.tarnow.pl) mające służyć nauczycielom do przeprowadzenia zajęć lekcyjnych. Ze względu na drastyczność tematu ekspozycja\, która prezentowana będzie w Tarnowie do końca lutego\, nie jest rekomendowana dla uczniów poniżej 14 roku życia.
URL:https://www.it.tarnow.pl/wydarzenie/zaglada-zydow-europejskich-wystawa-plenerowa/2026-01-30/
LOCATION:Rynek\, Tarnów\, małopolskie\, 33-100\, Polska
CATEGORIES:wystawy i wernisaże
ATTACH;FMTTYPE=image/jpeg:https://www.it.tarnow.pl/wp-content/uploads/2026/01/wystawa.jpg
GEO:50.0121011;20.9858407
END:VEVENT
BEGIN:VEVENT
DTSTART;TZID=Europe/Warsaw:20260130T080000
DTEND;TZID=Europe/Warsaw:20260130T150000
DTSTAMP:20260420T225800
CREATED:20250918T093236Z
LAST-MODIFIED:20250918T094247Z
UID:10039393-1769760000-1769785200@www.it.tarnow.pl
SUMMARY:Stała wystawa fragmentów „Panoramy Siedmiogrodzkiej”
DESCRIPTION:W Galerii „Panorama” umiejscowionej w budynku tarnowskiego dworca kolejowego prezentowana jest wystawa stała poświęcona „Panoramie Siedmiogrodzkiej” autorstwa Jana Styki oraz zespołu malarzy pracujących pod jego kierownictwem. Obraz uwiecznia zdobycie Sybina przez Węgrów pod dowództwem generała Józefa Bema\, 11 marca 1849 roku. Został on stworzony w 1897 roku na zamówienie Węgrów\, w celu uczczenia zbliżającej się 50-tej rocznicy węgierskiego powstania przeciwko Austriakom w latach 1848-49. \n\n\nGodziny otwarcia\n\nPoniedziałek 8.00 – 15.00\nWtorek 8.00 – 15.00\nŚroda 8.00 – 15.00\nCzwarte k8.00 – 15.00\nPiątek 8.00 – 15.00\nSobota nieczynne\nNiedziela 10.00 – 14.00 (od 1 października do 30 kwietnia)\n\n  \n 
URL:https://www.it.tarnow.pl/wydarzenie/stala-wystawa-fragmentow-panoramy-siedmiogrodzkiej-2/2026-01-30/
LOCATION:Galeria „Panorama” – Oddział  Muzeum Ziemi Tarnowskiej\, Plac Dworcowy 4\, Tarnów\, małopolskie\, 33-156
CATEGORIES:wystawy i wernisaże
ATTACH;FMTTYPE=image/jpeg:https://www.it.tarnow.pl/wp-content/uploads/2025/03/baner2-650x288-1.jpg
GEO:50.0057629;20.9744639
X-APPLE-STRUCTURED-LOCATION;VALUE=URI;X-ADDRESS=Galeria „Panorama” – Oddział  Muzeum Ziemi Tarnowskiej Plac Dworcowy 4 Tarnów małopolskie 33-156;X-APPLE-RADIUS=500;X-TITLE=Plac Dworcowy 4:geo:20.9744639,50.0057629
END:VEVENT
BEGIN:VEVENT
DTSTART;TZID=Europe/Warsaw:20260130T090000
DTEND;TZID=Europe/Warsaw:20260130T150000
DTSTAMP:20260420T225800
CREATED:20250918T091617Z
LAST-MODIFIED:20250918T093452Z
UID:10038940-1769763600-1769785200@www.it.tarnow.pl
SUMMARY:„W kontuszu i przy szabli” – wystawa stała poświęcona polskiej kulturze szlacheckiej
DESCRIPTION:Zbrojownia sarmacka \nKolekcja polskich oraz orientalnych militariów z XVII\, XVIII oraz XIX w. \nEkspozycja porcelany i szkła \nEksponaty pochodzą z okresu od XVI do XIX w. i reprezentują czołowe ośrodki wytwórcze zachodniej Europy i Polski. Obok fajansów z Delft i wyrobów kamionkowych z wytwórni J. Wedgwooda na wystawie dominują zbiory pochodzące z najstarszej europejskiej manufaktury porcelany w Miśni\, wyróżniające się wysoką klasą artystyczną. \nSala Pospólstwa – Galeria Portretu Staropolskiego \nNazwa największego i reprezentacyjnego pomieszczenia ratusza\, pochodzi od funkcji jaką dawniej pełniła. Zgromadzeni w niej mieszczanie obradowali nad ważnymi sprawami miasta. Obecnie mieści Galerię Portretu Staropolskiego\, z okresu od XVI do XVIII w.\, określanego jako „portret Sarmacki”. \nW korytarzu przed salami ekspozycyjnymi prezentowane są litografie przedstawiające dobra należące do rodu Sanguszków takie jak: posiadłość w Korcu\, w Zasławiu\, w Sławucie\, Olesku\, czy wspaniały pałac w Podhorcach. \nGodziny otwarcia\n\nPoniedziałek- nieczynne\nWtorek9.00 – 15.00\nŚroda9.00 – 15.00\nCzwartek9.00 – 15.00\nPiątek9.00 – 17.00\nSobota: nieczynne (od 1 października do 30 kwietnia)\nNiedziela 10.00 – 14.00 (od 1 października do 30 kwietnia)
URL:https://www.it.tarnow.pl/wydarzenie/w-kontuszu-i-przy-szabli-wystawa-stala-poswiecona-polskiej-kulturze-szlacheckiej/2026-01-30/
LOCATION:Muzeum Ratusz – Galeria Sztuki Dawnej\, Rynek 1\, Tarnów\, małopolskie\, 33-100
CATEGORIES:wystawy i wernisaże
ATTACH;FMTTYPE=image/jpeg:https://www.it.tarnow.pl/wp-content/uploads/2025/09/ratusz_II_0.jpg
GEO:50.0124854;20.9877181
X-APPLE-STRUCTURED-LOCATION;VALUE=URI;X-ADDRESS=Muzeum Ratusz – Galeria Sztuki Dawnej Rynek 1 Tarnów małopolskie 33-100;X-APPLE-RADIUS=500;X-TITLE=Rynek 1:geo:20.9877181,50.0124854
END:VEVENT
BEGIN:VEVENT
DTSTART;TZID=Europe/Warsaw:20260130T090000
DTEND;TZID=Europe/Warsaw:20260130T150000
DTSTAMP:20260420T225800
CREATED:20250918T092232Z
LAST-MODIFIED:20250918T093733Z
UID:10039086-1769763600-1769785200@www.it.tarnow.pl
SUMMARY:Muzeum Historii Tarnowa i Regionu – ekspozycja stała
DESCRIPTION:Przygotowana w zabytkowych wnętrzach ekspozycja wprowadza zwiedzających w barwną i ciekawą historię miasta i regionu. Gospodarzem i przewodnikiem po dziejach Tarnowa jest kataryniarz\, wygrywający na swym instrumencie dawno niesłyszaną melodię. Podążając ścieżką\, wyznaczoną przez zawierającą liczne ciekawostki perforowaną taśmę katarynki\, można trafić do kolejnych pomieszczeń\, gdzie znalazły się najciekawsze i najcenniejsze obiekty ze zbiorów tarnowskiego Muzeum. \n\n\nGodziny otwarcia\n\nPoniedziałek nieczynne\nWtorek9.00 – 15.00\nŚroda9.00 – 15.00\nCzwartek9.00 – 15.00\nPiątek9.00 – 17.00\nSobota nieczynne (od 1 października do 30 kwietnia)\nNiedziela 10.00 – 14.00 (od 1 października do 30 kwietnia)
URL:https://www.it.tarnow.pl/wydarzenie/muzeum-historii-tarnowa-i-regionu-ekspozycja-stala/2026-01-30/
LOCATION:Muzeum Historii Tarnowa i Regionu\, Rynek 20-21\, Tarnów\, malopolskie\, 33-100
CATEGORIES:wystawy i wernisaże
ATTACH;FMTTYPE=image/jpeg:https://www.it.tarnow.pl/wp-content/uploads/2025/09/MHTiR_lipiec-2020-6_0_0.jpg
END:VEVENT
BEGIN:VEVENT
DTSTART;TZID=Europe/Warsaw:20260130T090000
DTEND;TZID=Europe/Warsaw:20260130T150000
DTSTAMP:20260420T225800
CREATED:20250918T092708Z
LAST-MODIFIED:20251218T072331Z
UID:10039232-1769763600-1769785200@www.it.tarnow.pl
SUMMARY:Romowie. Historia i Kultura - pierwsza na świecie stała wystawa
DESCRIPTION:Muzeum posiada bogate zbiory związane z życiem i kulturą Romów. W 1990 roku została tu otwarta pierwsza na świecie stała wystawa poświęcona tematyce romskiej. Na ekspozycji zaprezentowane zostały między innymi wytwory rzemiosła charakterystyczne dla poszczególnych grup romskich zamieszkujących Europę\, rekwizyty magiczne wykorzystywane podczas wróżenia\, a także prace współczesnych romskich artystów. \nW babcinej izbie – wystawa czasowa czynna do 31.12.2025 r. \nWystawa „W babcinej izbie” jest kontynuacją ekspozycji z 2024 roku\, odtwarza wnętrze wiejskiej chaty z początków XX wieku. Składa się z sieni\, izby oraz komory\, a całe jej wyposażenie pochodzi ze zbiorów własnych muzeum. To znakomite miejsce do prowadzenia zajęć edukacyjnych poświęconych zarówno ludowemu rokowi obrzędowemu\, jak i tradycyjnej kulturze materialnej wsi. Ekspozycja pozwala przenieść się w czasie i lepiej zrozumieć codzienne życie naszych przodków. \nZapraszamy na świąteczną oprawę wystawy – Podłażniczka\, pająki\, światy – świąteczne klimaty „W babcinej izbie”-  \nCiesząca się dużym zainteresowaniem wystawa „W babcinej izbie” prezentowana w Muzeum Etnograficznym w Tarnowie zyskała tradycyjny\, bożonarodzeniowy wystrój. \nW pomieszczeniach stylizowanych na wiejską chatę można zobaczyć wigilijny stół oraz tradycyjne ozdoby wykonane ze słomy\, bibuły i jedliny\, a także „podłaźniczkę” – dawną formę choinki. U sufitu zawisły charakterystyczne „pająki”\, ramy obrazów zostały świątecznie przystrojone\, w kątach ustawiono snopy zboża\, a na podłodze rozłożono słomę. \n  \n  \n\n\nGodziny otwarcia\n\nPoniedziałek nieczynne\nWtorek9.00 – 15.00\nŚroda9.00 – 15.00\nCzwartek9.00 – 15.00\nPiątek9.00 – 17.00\nSobota nieczynne (od 1 października do 30 kwietnia)\nNiedziela 10.00 – 14.00 (od 1 października do 30 kwietnia)
URL:https://www.it.tarnow.pl/wydarzenie/romowie-historia-i-kultura-pierwsza-na-swiecie-stala-wystawa/2026-01-30/
LOCATION:Muzeum Etnograficzne\, ul. Krakowska 10\, Tarnów\, małopolskie\, 33-100
CATEGORIES:wystawy i wernisaże
ATTACH;FMTTYPE=image/jpeg:https://www.it.tarnow.pl/wp-content/uploads/2025/09/muzeum_etnograficzne1000.jpg
GEO:50.010841;20.983289
X-APPLE-STRUCTURED-LOCATION;VALUE=URI;X-ADDRESS=Muzeum Etnograficzne ul. Krakowska 10 Tarnów małopolskie 33-100;X-APPLE-RADIUS=500;X-TITLE=ul. Krakowska 10:geo:20.983289,50.010841
END:VEVENT
BEGIN:VEVENT
DTSTART;TZID=Europe/Warsaw:20260130T090000
DTEND;TZID=Europe/Warsaw:20260130T150000
DTSTAMP:20260420T225800
CREATED:20260107T110305Z
LAST-MODIFIED:20260107T110305Z
UID:10041903-1769763600-1769785200@www.it.tarnow.pl
SUMMARY:Wystawa "Epifanie ciała" Agnieszki Lech-Bińczyckiej
DESCRIPTION:Wystawa „Epifanie ciała” Agnieszki Lech-Bińczyckiej otwiera przed widzem obszar pomiędzy widzialnym a odczuwanym. Prezentowane grafiki skupiają się na ciele pozbawionym narracyjnego kontekstu\, wydobywając z niego to\, co najprostsze i zarazem najbardziej znaczące – obecność\, napięcie\, ślad gestu.
URL:https://www.it.tarnow.pl/wydarzenie/wystawa-epifanie-ciala-agnieszki-lech-binczyckiej/2026-01-30/
LOCATION:Muzeum Diecezjalne\, Pl. Katedralny 6\, Tarnów\, małopolskie\, 33-100\, Polska
CATEGORIES:wystawy i wernisaże
ATTACH;FMTTYPE=image/jpeg:https://www.it.tarnow.pl/wp-content/uploads/2026/01/613131231_1220779613482146_6419633955148787640_n.jpg
GEO:50.0135975;20.9874165
X-APPLE-STRUCTURED-LOCATION;VALUE=URI;X-ADDRESS=Muzeum Diecezjalne Pl. Katedralny 6 Tarnów małopolskie 33-100 Polska;X-APPLE-RADIUS=500;X-TITLE=Pl. Katedralny 6:geo:20.9874165,50.0135975
END:VEVENT
BEGIN:VEVENT
DTSTART;TZID=Europe/Warsaw:20260130T090000
DTEND;TZID=Europe/Warsaw:20260130T180000
DTSTAMP:20260420T225800
CREATED:20260119T125402Z
LAST-MODIFIED:20260119T125402Z
UID:10042189-1769763600-1769796000@www.it.tarnow.pl
SUMMARY:„Cudowny czas zamknięty w kształcie i kolorze” – wystawa malarstwa Magdaleny Latawskiej-Honkisz
DESCRIPTION:Od poniedziałku 19 stycznia\, w filii nr 9 „Krzyż” Miejskiej Biblioteki Publicznej przy ul. Krzyskiej 116 oglądać można wystawę malarstwa Magdaleny Latawskiej-Honkisz „Cudowny czas zamknięty w kształcie i kolorze”. \nArtystka brała udział w licznych wystawach zbiorowych oraz indywidualnych m.in.: w Tarnowskim Centrum Kultury\, Galerii Zamkowej w Bielsku-Białej\, Galerii Hortar w Tarnowie i wielokrotnie w Miejskiej Bibliotece Publicznej w Tarnowie. Specjalizuje się w wielu technikach plastycznych: tkaninie artystycznej\, batiku\, malarstwie\, kolażu\, papieroplastyce. \nWystawę jej prac oglądać będzie można w krzyskiej filii MBP do soboty\, 28 lutego. \nGodziny otwarcia\nponiedziałek 9:00 – 15:00\nwtorek – piątek 9:00 – 18:00\nsobota 9:00 – 15:00
URL:https://www.it.tarnow.pl/wydarzenie/cudowny-czas-zamkniety-w-ksztalcie-i-kolorze-wystawa-malarstwa-magdaleny-latawskiej-honkisz-2/2026-01-30/
LOCATION:MBP\, Filia nr 9\, ul. Krzyska 116\, Tarnów\, małopolskie\, 33-100\, Polska
CATEGORIES:wystawy i wernisaże
ATTACH;FMTTYPE=image/jpeg:https://www.it.tarnow.pl/wp-content/uploads/2026/01/latawska.jpg
GEO:50.043661;20.9924189
X-APPLE-STRUCTURED-LOCATION;VALUE=URI;X-ADDRESS=MBP Filia nr 9 ul. Krzyska 116 Tarnów małopolskie 33-100 Polska;X-APPLE-RADIUS=500;X-TITLE=ul. Krzyska 116:geo:20.9924189,50.043661
END:VEVENT
BEGIN:VEVENT
DTSTART;TZID=Europe/Warsaw:20260130T100000
DTEND;TZID=Europe/Warsaw:20260130T170000
DTSTAMP:20260420T225800
CREATED:20251222T140954Z
LAST-MODIFIED:20251222T140954Z
UID:10041875-1769767200-1769792400@www.it.tarnow.pl
SUMMARY:Transmutacja - wystawa
DESCRIPTION:Transmutacja to nowa wystawa\, którą od 9 stycznia można oglądać w galerii Tarnowskiego Centrum Kultury. Jej autorką jest Alicja Przybyszowska. \nW swojej twórczości artystka koncentruje się na obrazie ciała\, które kryje w sobie zapis indywidualnych historii i doświadczeń. Alicja Przybyszowska wykorzystuje fotografię jako narzędzie wizualizacji myśli i emocji\, odwołując się do intuicji odbiorcy i poszukiwania znaczeń wykraczających poza dosłowność przedstawień. Istotnym elementem jej praktyki artystycznej jest cyjanotypia – alternatywna technika fotograficzna. Artystka łączy tradycyjne techniki z nowoczesnymi narzędziami\, wykorzystując negatywy wykonywane aparatem cyfrowym. \nWernisaż odbył się 9 stycznia o godz. 18:00. Spotkanie z artystką poprowadził Tomasz Sobczak. Ekspozycję będzie można oglądać w galerii przy Rynku 5 do 31 stycznia.
URL:https://www.it.tarnow.pl/wydarzenie/transmutacja-wystawa/2026-01-30/
LOCATION:Tarnowskie Centrum Kultury\, Rynek 5\, Tarnów\, małopolskie\, 33-100\, Polska
CATEGORIES:wystawy i wernisaże
ATTACH;FMTTYPE=image/jpeg:https://www.it.tarnow.pl/wp-content/uploads/2025/12/85c9f17cad623f687c12a701676ee879.jpeg
GEO:50.0121759;20.98781
X-APPLE-STRUCTURED-LOCATION;VALUE=URI;X-ADDRESS=Tarnowskie Centrum Kultury Rynek 5 Tarnów małopolskie 33-100 Polska;X-APPLE-RADIUS=500;X-TITLE=Rynek 5:geo:20.98781,50.0121759
END:VEVENT
BEGIN:VEVENT
DTSTART;TZID=Europe/Warsaw:20260130T100000
DTEND;TZID=Europe/Warsaw:20260130T180000
DTSTAMP:20260420T225800
CREATED:20251208T131831Z
LAST-MODIFIED:20251208T131831Z
UID:10041686-1769767200-1769796000@www.it.tarnow.pl
SUMMARY:Wystawa „Kwiaty i pejzaże” Marii Wójcickiej-Kaczmarek
DESCRIPTION:Od poniedziałku\, 8 grudnia w filii nr 8 Miejskiej Biblioteki Publicznej w Tarnowie przy ul. Traugutta 1 oglądać można wystawę malarstwa „Kwiaty i pejzaże” Marii Wójcickiej-Kaczmarek. \nJest ona rodowitą mościczanką o korzeniach kresowych. Ukończyła Liceum Sztuk Plastycznych w Tarnowie i pracowała jako dekoratorka wnętrz\, plastyk miejski\, florystka oraz pracownica rekwizytorni Teatru im. Ludwika Solskiego w Tarnowie. \nNajwiększą jej miłością jest przyroda i to ona stanowi największe wyzwanie malarskie artystki. Jak sama mówi: – Tak szczęście\, jak i piękno są tylko chwilą (…) Cud natury nie jest do opowiedzenia najlepszym słowem. \nIstnieje możliwość zakupu prezentowanych prac. Ekspozycja dostępna będzie do zwiedzania do 31 marca w godzinach pracy Biblioteki.
URL:https://www.it.tarnow.pl/wydarzenie/wystawa-kwiaty-i-pejzaze-marii-wojcickiej-kaczmarek-2/2026-01-30/
LOCATION:MBP\, Filia 8\, ul. Traugutta 1\, Tarnów\, małopolskie\, 33-100\, Polska
CATEGORIES:wystawy i wernisaże
ATTACH;FMTTYPE=image/jpeg:https://www.it.tarnow.pl/wp-content/uploads/2025/12/wojcicka.jpg
GEO:50.009833;20.92706
X-APPLE-STRUCTURED-LOCATION;VALUE=URI;X-ADDRESS=MBP Filia 8 ul. Traugutta 1 Tarnów małopolskie 33-100 Polska;X-APPLE-RADIUS=500;X-TITLE=ul. Traugutta 1:geo:20.92706,50.009833
END:VEVENT
BEGIN:VEVENT
DTSTART;TZID=Europe/Warsaw:20260130T100000
DTEND;TZID=Europe/Warsaw:20260130T200000
DTSTAMP:20260420T225800
CREATED:20260113T075319Z
LAST-MODIFIED:20260113T075319Z
UID:10042034-1769767200-1769803200@www.it.tarnow.pl
SUMMARY:RED GALLERY - odsłona styczniowa
DESCRIPTION:RED Gallery jest otwartą galerią na działania w obszarze różnorodnych form artystycznych.\n \nWystawa czynna 05-31.01.2026\,  poniedziałek – piątek: 10:00-20:00\, sobota – niedziela: 15:00-20:00 \nRed Gallery można oglądać od zewnątrz przy głównym wejściu do CSM \n 
URL:https://www.it.tarnow.pl/wydarzenie/red-gallery-odslona-styczniowa/2026-01-30/
LOCATION:Centrum Sztuki Mościce
CATEGORIES:wystawy i wernisaże
ATTACH;FMTTYPE=image/jpeg:https://www.it.tarnow.pl/wp-content/uploads/2026/01/Wieza-snien-1-695e39f65d8b8.jpg
END:VEVENT
BEGIN:VEVENT
DTSTART;TZID=Europe/Warsaw:20260130T110000
DTEND;TZID=Europe/Warsaw:20260130T180000
DTSTAMP:20260420T225800
CREATED:20251219T124155Z
LAST-MODIFIED:20260115T143105Z
UID:10043300-1769770800-1769796000@www.it.tarnow.pl
SUMMARY:Wystawa "Problemy z zegarem" Joanny Srebro
DESCRIPTION:Wystawa Joanny Srebro „Problemy z zegarem” to ostatnie wydarzenie w ramach 22. Festiwalu sztuki ArtFest. Oglądać ją można do 15.02.2026 r. w BWA w Pałacyku Strzeleckim w Tarnowie. Wstęp na wystawę jet bezpłatny. \nWystawa „Joanna Srebro. Problem z zegarem” to przekrojowa retrospektywa dorobku artystki. Ekspozycja przedstawia szeroki wachlarz twórczości: rozmaitość ekspresji\, technik i inspiracji w różnych okresach życia. Od wczesnych\, wyrazistych abstrakcji\, przez nieoczywistą figurację\, po tematykę eschatologiczną i cykle tematyczne: zapraszamy do doświadczenia świata\, jakim widziała go Joanna Srebro. \nJoanna Srebro (1932-2006) – jedna z najbardziej znanych i wyrazistych postaci tarnowskiego środowiska artystycznego. Urodziła się w Tarnowie\, studiowała malarstwo na Akademii Sztuk Pięknych w Krakowie (dyplom 1962)\, a następnie tworzyła w swoim rodzinnym mieście. Była czynną uczestniczką lokalnego życia artystycznego oraz brała udział w licznych wystawach w kraju i za granicą. \nFinisaż wystawy i oprowadzanie kuratorskie Marii Prokesz odbędzie się 15.02.2026 (niedziela) o g. 12:00\, wstęp wolny.
URL:https://www.it.tarnow.pl/wydarzenie/wystawa-problemy-z-zegarem-joanny-srebro/2026-01-30/
LOCATION:BWA Tarnów/Pałacyk Strzelecki\, Słowackiego 1\, Tarnów\, 33-100\, Polska
CATEGORIES:wystawy i wernisaże
ATTACH;FMTTYPE=image/jpeg:https://www.it.tarnow.pl/wp-content/uploads/2025/12/Joanna-Srebro_BWA-Tarnow_plakat-717x1024-1.jpg
END:VEVENT
BEGIN:VEVENT
DTSTART;TZID=Europe/Warsaw:20260130T160000
DTEND;TZID=Europe/Warsaw:20260130T170000
DTSTAMP:20260420T225800
CREATED:20260112T122243Z
LAST-MODIFIED:20260112T122243Z
UID:10041995-1769788800-1769792400@www.it.tarnow.pl
SUMMARY:Styczniowy program w Dom Kultury Westerplatte
DESCRIPTION:8 stycznia (czwartek)\, godz. 18:00 Kolęda! Śpiewająca akcja sąsiedzka śpiewająco\, wyruszamy nieść dobrą nowinę\n\n16 stycznia (piątek)\, godz. 9:00 Poczytanki rysowanki dla maluchów 3-4 lata\, spotkanie darmowe\, zapisy\n\n16 stycznia (piątek)\, godz. 19:00 Planszówki Młodzieżówki | Nocne spotkanie wstęp wolny\, mamy ponad 100 gier! \n\n18 stycznia (niedziela)\, godz. 17:00 Spektakl „Piekło-Niebo” – w wykonaniu grupy teatralno-muzycznej Dom.Ku wstęp wolny\n\n 21 stycznia (środa)\, godz. 10:00 Szur! Trzask! Plask! Zajęcia sensoplastyczne dla dzieci do lat 3. wstęp płatny: 40 zł\, zapisy\n\n 23 stycznia (piątek)\, godz. 17:00 Warsztaty z autorką wystawy „Miau\, co to za mina” Moniką Chrabąszcz | Otwarcie wystawy dla dzieci 3-6 lat\, wstęp wolny\, zapisy \n\n24 stycznia (sobota)\, godz. 10:00 oraz 14:00 Szyjemy legowiska dla kotów z Azylu | Wolontariat krawiecki obowiązują zapisy\, szyjemy w dwóch grupach\, max. 5 osób\n\n30 stycznia (piątek)\, 16:00 Mały Domek – miejsce spotkań dla młodzieży wstęp wolny\, przestrzeń społecznej kreacji!\n\n 2-6 lutego (poniedziałek-piątek)\, godz. 9:30-13:30 Kocie sprawki — ferie dla dzieci 7-11 lat
URL:https://www.it.tarnow.pl/wydarzenie/styczniowy-program-w-dom-kultury-westerplatte/2026-01-30/
LOCATION:Osiedlowy Dom Kultury ul. Westerplatte 8 a\, Tarnów\, małopolskie\, Polska
CATEGORIES:warsztaty
ATTACH;FMTTYPE=image/jpeg:https://www.it.tarnow.pl/wp-content/uploads/2026/01/605778528_877709965217650_6189943991893258275_n.jpg
GEO:50.0121011;20.9858407
END:VEVENT
BEGIN:VEVENT
DTSTART;TZID=Europe/Warsaw:20260130T180000
DTEND;TZID=Europe/Warsaw:20260130T193000
DTSTAMP:20260420T225800
CREATED:20260128T083629Z
LAST-MODIFIED:20260128T083629Z
UID:10042296-1769796000-1769801400@www.it.tarnow.pl
SUMMARY:"Impuls" - wystawa malarstwa\, rysunku i fotografii
DESCRIPTION:W piątek\, 30 stycznia w Galerii Bema20 będzie miał miejsce wernisaż wystawy malarstwa\, rysunku i fotografii „Impuls” Joanny Jędraszek i Andrzeja Maksymiliana Trybulskiego. Początek o godz. 19:00. Wstęp wolny. \n– To będzie niezwykłe wydarzenie łączące odmienne\, ale i uzupełniające się postawy twórcze. Prace artystów tworzą dialog pomiędzy różnymi mediami i sposobami przedstawiania rzeczywistości. Malarstwo olejne i rysunek spotykają się tu z fotografią tworząc spójne perspektywy artystyczne – czytamy na facebooku Fundacji Bema20. \nPierwsze doświadczenia malarskie Joanny Jędraszek sięgają roku 1996. Później życie zawodowe na długi czas odsunęło je na dalszy plan. W 2024 roku po intensywnych przeżyciach i silnych emocjach\, autorka powróciła do tworzenia traktując każdy obraz jako osobisty zapis uczuć\, sposób wyrażenia siebie i uwolnienia wewnętrznej energii. \nAndrzej Maksymilian Trybulski poprzez rysunek oraz fotografię poszukuje relacji obrazu\, światła i czasu. Emocjonalny zwrot w jego życiu spowodował przebudzenie\, potrzebę materializacji i współdzielenia uśpionej wrażliwości. W jego pracach widać zainteresowanie detalem\, fakturą oraz podkreślanie dynamiki otaczającego świata. \n– Wystawa zachęca odbiorców do uruchamiania własnych wizji oraz poszukiwania połączeń pomiędzy obrazem\, techniką i emocjami – mówią artyści zapraszając na wernisaż. \nWystawa czynna będzie do piątku\, 6 marca. Jej finisaż rozpocznie się tego dnia o godz. 18.
URL:https://www.it.tarnow.pl/wydarzenie/impuls-wystawa-malarstwa-rysunku-i-fotografii/2026-01-30/
LOCATION:Galeria  Bema20\, ul. Bema 20\, Tarnów\, małopolskie\, 33-100\, Polska
CATEGORIES:wystawy i wernisaże
ATTACH;FMTTYPE=image/png:https://www.it.tarnow.pl/wp-content/uploads/2026/01/IMPULS-PLAKAT.png
GEO:50.0096872;20.9840833
X-APPLE-STRUCTURED-LOCATION;VALUE=URI;X-ADDRESS=Galeria  Bema20 ul. Bema 20 Tarnów małopolskie 33-100 Polska;X-APPLE-RADIUS=500;X-TITLE=ul. Bema 20:geo:20.9840833,50.0096872
END:VEVENT
END:VCALENDAR