BEGIN:VCALENDAR
VERSION:2.0
PRODID:-//Tarnowskie Centrum Informacji - ECPv6.13.2.1//NONSGML v1.0//EN
CALSCALE:GREGORIAN
METHOD:PUBLISH
X-WR-CALNAME:Tarnowskie Centrum Informacji
X-ORIGINAL-URL:https://www.it.tarnow.pl
X-WR-CALDESC:Wydarzenia z
REFRESH-INTERVAL;VALUE=DURATION:PT1H
X-Robots-Tag:noindex
X-PUBLISHED-TTL:PT1H
BEGIN:VTIMEZONE
TZID:Europe/Warsaw
BEGIN:DAYLIGHT
TZOFFSETFROM:+0100
TZOFFSETTO:+0200
TZNAME:CEST
DTSTART:20260329T010000
END:DAYLIGHT
BEGIN:STANDARD
TZOFFSETFROM:+0200
TZOFFSETTO:+0100
TZNAME:CET
DTSTART:20261025T010000
END:STANDARD
END:VTIMEZONE
BEGIN:VEVENT
DTSTART;TZID=Europe/Warsaw:20260414T101000
DTEND;TZID=Europe/Warsaw:20260414T130000
DTSTAMP:20260421T163343
CREATED:20260409T144927Z
LAST-MODIFIED:20260409T150154Z
UID:10043482-1776161400-1776171600@www.it.tarnow.pl
SUMMARY:Konferencja popularnonaukowa z okazji 1060. rocznicy Chrztu Polski i 700 – lecia początków kościelnych Tarnowa
DESCRIPTION:Zapraszamy serdecznie Państwa Nauczycieli i Uczniów oraz wszystkich zainteresowanych\, do udziału w konferencji poświęconej obchodom 1060. rocznicy Chrztu Polski i 700 – lecia początków kościelnych Tarnowa. \nUczestnictwo w ciekawych wykładach pomoże zrozumieć\, jak ważną rolę w historii naszej Ojczyzny\, a także w historii naszego miasta odegrał Chrzest Polski i włączenie naszego narodu w rozwój cywilizacji europejskiej. \nProgram konferencji: \n\n	10:10 – otwarcie konferencji – Kazimierz Kurczab (dyrektor Muzeum Ziemi Tarnowskiej)\n	10:20 – Chrzest Księcia Mieszka I – z kalkulacji czy wiary? – ks. dr. Krzysztof Kamieński (dyrektor Archiwum Diecezjalnego w Tarnowie)\n	10:40 – Starsza od miasta – 700 lat parafii w Tarnowie – mgr Mieczysław Czosnyka (redaktor „Rocznika Tarnowskiego”)\n	11:00 – „Mąż wielkiej mocy\, pobożnością sławny”. O pierwszej konsekracji biskupa w Tarnowie – ks. dr Jacek Soprych (dyrektor Wyższego Seminarium Duchownego w Tarnowie)\n	11:20 – Madonna z Goździkiem – najstarszy wizerunek Maryi czczony w Tarnowie – ks. dr Piotr Pasek (dyrektor Muzeum Diecezjalnego w Tarnowie)\n	11:40 – zakończenie konferencji – mgr Marta Mikosińska (prezes Towarzystwa Literackiego im. Adama Mickiewicza oddział w Tarnowie)\n	12:00 – Msza Święta w Bazylice Katedralnej w Tarnowie\n\n  \nW celach organizacyjnych uprzejmie prosi się o potwierdzenie drogą elektroniczną na adres muzeum@diecezja.tarnow.pl lub telefonicznie na nr telefonu tel. (14) 621-99-93; 626-45-54 chęci udziału w konferencji oraz podanie liczby uczestników do 13 kwietnia do godz. 15.00.
URL:https://www.it.tarnow.pl/wydarzenie/konferencja-popularnonaukowa-z-okazji-1060-rocznicy-chrztu-polski-i-700-lecia-poczatkow-koscielnych-tarnowa/
LOCATION:Ratusz\, Rynek 1\, Tarnów\, małopolskie\, 33-100\, Polska
CATEGORIES:spotkania
ATTACH;FMTTYPE=image/jpeg:https://www.it.tarnow.pl/wp-content/uploads/2026/04/konferencja-z-okazji-uroczystosci-rocznicowych-chrztu-polski-i-poczatkow-koscielnych-tarnowa.jpg
ORGANIZER;CN="Muzeum Diecezjalne":MAILTO:muz-diec@wsd.tarnow.pl
GEO:50.012503;20.988426
X-APPLE-STRUCTURED-LOCATION;VALUE=URI;X-ADDRESS=Ratusz Rynek 1 Tarnów małopolskie 33-100 Polska;X-APPLE-RADIUS=500;X-TITLE=Rynek 1:geo:20.988426,50.012503
END:VEVENT
BEGIN:VEVENT
DTSTART;TZID=Europe/Warsaw:20260326T180000
DTEND;TZID=Europe/Warsaw:20260326T193000
DTSTAMP:20260421T163343
CREATED:20260323T120842Z
LAST-MODIFIED:20260326T101222Z
UID:10043313-1774548000-1774553400@www.it.tarnow.pl
SUMMARY:Wernisaż wystawy czasowej pt. „ECCE HOMO”
DESCRIPTION:W dniu 26 marca 2026 o godzinie 18:00 odbędzie się wernisaż wystawy czasowej pt ” ECCE HOMO” w Muzeum Diecezjalnym w Tarnowie.  \nWystawa prezentuje twórczość artystów związanych z Tarnowem: Tomasza Głowacza\, Rafała Nijaka\, Filipa Rutkiewicza\, Szymona Ruszla\, Juliusza Słomki\, Bożeny Wojtanowskiej-Głowacz\, Julii Wojtanowskiej\, Łukasza Wojtanowskiego oraz Szymona Wojtanowskiego. \nW okresie Wielkiego Postu niech obcowanie ze sztuką stanie się okazją do refleksji\, pogłębienia wiary oraz duchowego przygotowania do nadchodzących Świąt Zmartwychwstania Pańskiego. \nwięcej na: https://muzeum.diecezja.tarnow.pl/zapraszamy-na-wernisaz-wystawy-czasowej-pt-ecce-homo-w-dniu-26-marca-2026-roku-o-godzinie-1800/
URL:https://www.it.tarnow.pl/wydarzenie/wernisaz-wystawy-czasowej-pt-ecce-homo/
CATEGORIES:wystawy i wernisaże
ATTACH;FMTTYPE=image/jpeg:https://www.it.tarnow.pl/wp-content/uploads/2026/03/111plakat40cmx60cm-2web-400x500-1.jpg
ORGANIZER;CN="Muzeum Diecezjalne":MAILTO:muz-diec@wsd.tarnow.pl
END:VEVENT
END:VCALENDAR