BEGIN:VCALENDAR
VERSION:2.0
PRODID:-//Tarnowskie Centrum Informacji - ECPv6.13.2.1//NONSGML v1.0//EN
CALSCALE:GREGORIAN
METHOD:PUBLISH
X-WR-CALNAME:Tarnowskie Centrum Informacji
X-ORIGINAL-URL:https://www.it.tarnow.pl
X-WR-CALDESC:Wydarzenia z
REFRESH-INTERVAL;VALUE=DURATION:PT1H
X-Robots-Tag:noindex
X-PUBLISHED-TTL:PT1H
BEGIN:VTIMEZONE
TZID:Europe/Warsaw
BEGIN:DAYLIGHT
TZOFFSETFROM:+0100
TZOFFSETTO:+0200
TZNAME:CEST
DTSTART:20260329T010000
END:DAYLIGHT
BEGIN:STANDARD
TZOFFSETFROM:+0200
TZOFFSETTO:+0100
TZNAME:CET
DTSTART:20261025T010000
END:STANDARD
END:VTIMEZONE
BEGIN:VEVENT
DTSTART;TZID=Europe/Warsaw:20260501T100000
DTEND;TZID=Europe/Warsaw:20260501T190000
DTSTAMP:20260423T022127
CREATED:20260421T112622Z
LAST-MODIFIED:20260421T112622Z
UID:10043843-1777629600-1777662000@www.it.tarnow.pl
SUMMARY:Majowe Janowinnice
DESCRIPTION:Szukasz pomysłu na spokojną\, wyjątkową Majówkę? Zapraszamy do Janowic – miejsca\, gdzie natura\, widoki i atmosfera tworzą coś naprawdę niepowtarzalnego.\n\n\n 1–3 maja 2026\n 10:00–16:00 – zwiedzanie winnic: Winnica Gierowa\, Winnica Janowice\, Winnica Uroczysko (wstęp wolny)\n\n\nTo wydarzenie jest dla każdego – nie tylko dla osób zainteresowanych winem.\n\n\nCo na Was czeka?\n• piękne\, rozległe widoki – idealne na zdjęcia i chwilę odpoczynku\n• możliwość relaksu na leżakach w otoczeniu natury\n• spotkania z właścicielami winnic i rozmowy o historii miejsca oraz uprawie winorośli\n• swobodna\, przyjazna atmosfera\n\n\n Degustacje (dla osób pełnoletnich\, obowiązują bilety):\n\n\n1 maja (piątek)\, godz. 17:00 – Winnica Janowice\n4 wina + przekąski\,\nbilety w cenie 120 zł: rezerwacje.winnicajanowice.pl\n\n\n2 maja (sobota)\, godz. 17:00 – Winnica Gierowa\n4 wina + przekąski\,\nbilety w cenie 120 zł\, rezerwacje pod numerem telefonu: 608 850 475\n\n\n3 maja (niedziela)\, godz. 17:00 – Winnica Uroczysko\nDegustacja wspólna 3 winnic – 6 win + przekąski\nbilety w cenie 150 zł\, rezerwacje pod numerem telefonu: 516 495 359
URL:https://www.it.tarnow.pl/wydarzenie/majowe-janowinnice/2026-05-01/
LOCATION:Winnica Janowice\, Janowice\, małopolskie\, 33-115\, Polska
CATEGORIES:imprezy plenerowe
ATTACH;FMTTYPE=image/jpeg:https://www.it.tarnow.pl/wp-content/uploads/2026/04/668819952_1403492271579693_8138652704742264743_n.jpg
GEO:49.911732;20.8725617
END:VEVENT
BEGIN:VEVENT
DTSTART;TZID=Europe/Warsaw:20260502T100000
DTEND;TZID=Europe/Warsaw:20260502T190000
DTSTAMP:20260423T022127
CREATED:20260421T112622Z
LAST-MODIFIED:20260421T112622Z
UID:10043844-1777716000-1777748400@www.it.tarnow.pl
SUMMARY:Majowe Janowinnice
DESCRIPTION:Szukasz pomysłu na spokojną\, wyjątkową Majówkę? Zapraszamy do Janowic – miejsca\, gdzie natura\, widoki i atmosfera tworzą coś naprawdę niepowtarzalnego.\n\n\n 1–3 maja 2026\n 10:00–16:00 – zwiedzanie winnic: Winnica Gierowa\, Winnica Janowice\, Winnica Uroczysko (wstęp wolny)\n\n\nTo wydarzenie jest dla każdego – nie tylko dla osób zainteresowanych winem.\n\n\nCo na Was czeka?\n• piękne\, rozległe widoki – idealne na zdjęcia i chwilę odpoczynku\n• możliwość relaksu na leżakach w otoczeniu natury\n• spotkania z właścicielami winnic i rozmowy o historii miejsca oraz uprawie winorośli\n• swobodna\, przyjazna atmosfera\n\n\n Degustacje (dla osób pełnoletnich\, obowiązują bilety):\n\n\n1 maja (piątek)\, godz. 17:00 – Winnica Janowice\n4 wina + przekąski\,\nbilety w cenie 120 zł: rezerwacje.winnicajanowice.pl\n\n\n2 maja (sobota)\, godz. 17:00 – Winnica Gierowa\n4 wina + przekąski\,\nbilety w cenie 120 zł\, rezerwacje pod numerem telefonu: 608 850 475\n\n\n3 maja (niedziela)\, godz. 17:00 – Winnica Uroczysko\nDegustacja wspólna 3 winnic – 6 win + przekąski\nbilety w cenie 150 zł\, rezerwacje pod numerem telefonu: 516 495 359
URL:https://www.it.tarnow.pl/wydarzenie/majowe-janowinnice/2026-05-02/
LOCATION:Winnica Janowice\, Janowice\, małopolskie\, 33-115\, Polska
CATEGORIES:imprezy plenerowe
ATTACH;FMTTYPE=image/jpeg:https://www.it.tarnow.pl/wp-content/uploads/2026/04/668819952_1403492271579693_8138652704742264743_n.jpg
GEO:49.911732;20.8725617
END:VEVENT
BEGIN:VEVENT
DTSTART;TZID=Europe/Warsaw:20260503T100000
DTEND;TZID=Europe/Warsaw:20260503T190000
DTSTAMP:20260423T022127
CREATED:20260421T112622Z
LAST-MODIFIED:20260421T112622Z
UID:10043845-1777802400-1777834800@www.it.tarnow.pl
SUMMARY:Majowe Janowinnice
DESCRIPTION:Szukasz pomysłu na spokojną\, wyjątkową Majówkę? Zapraszamy do Janowic – miejsca\, gdzie natura\, widoki i atmosfera tworzą coś naprawdę niepowtarzalnego.\n\n\n 1–3 maja 2026\n 10:00–16:00 – zwiedzanie winnic: Winnica Gierowa\, Winnica Janowice\, Winnica Uroczysko (wstęp wolny)\n\n\nTo wydarzenie jest dla każdego – nie tylko dla osób zainteresowanych winem.\n\n\nCo na Was czeka?\n• piękne\, rozległe widoki – idealne na zdjęcia i chwilę odpoczynku\n• możliwość relaksu na leżakach w otoczeniu natury\n• spotkania z właścicielami winnic i rozmowy o historii miejsca oraz uprawie winorośli\n• swobodna\, przyjazna atmosfera\n\n\n Degustacje (dla osób pełnoletnich\, obowiązują bilety):\n\n\n1 maja (piątek)\, godz. 17:00 – Winnica Janowice\n4 wina + przekąski\,\nbilety w cenie 120 zł: rezerwacje.winnicajanowice.pl\n\n\n2 maja (sobota)\, godz. 17:00 – Winnica Gierowa\n4 wina + przekąski\,\nbilety w cenie 120 zł\, rezerwacje pod numerem telefonu: 608 850 475\n\n\n3 maja (niedziela)\, godz. 17:00 – Winnica Uroczysko\nDegustacja wspólna 3 winnic – 6 win + przekąski\nbilety w cenie 150 zł\, rezerwacje pod numerem telefonu: 516 495 359
URL:https://www.it.tarnow.pl/wydarzenie/majowe-janowinnice/2026-05-03/
LOCATION:Winnica Janowice\, Janowice\, małopolskie\, 33-115\, Polska
CATEGORIES:imprezy plenerowe
ATTACH;FMTTYPE=image/jpeg:https://www.it.tarnow.pl/wp-content/uploads/2026/04/668819952_1403492271579693_8138652704742264743_n.jpg
GEO:49.911732;20.8725617
END:VEVENT
END:VCALENDAR