BEGIN:VCALENDAR
VERSION:2.0
PRODID:-//Tarnowskie Centrum Informacji - ECPv6.13.2.1//NONSGML v1.0//EN
CALSCALE:GREGORIAN
METHOD:PUBLISH
X-ORIGINAL-URL:https://www.it.tarnow.pl
X-WR-CALDESC:Wydarzenia z
REFRESH-INTERVAL;VALUE=DURATION:PT1H
X-Robots-Tag:noindex
X-PUBLISHED-TTL:PT1H
BEGIN:VTIMEZONE
TZID:Europe/Warsaw
BEGIN:DAYLIGHT
TZOFFSETFROM:+0100
TZOFFSETTO:+0200
TZNAME:CEST
DTSTART:20260329T010000
END:DAYLIGHT
BEGIN:STANDARD
TZOFFSETFROM:+0200
TZOFFSETTO:+0100
TZNAME:CET
DTSTART:20261025T010000
END:STANDARD
END:VTIMEZONE
BEGIN:VEVENT
DTSTART;TZID=Europe/Warsaw:20260426T080000
DTEND;TZID=Europe/Warsaw:20260426T170000
DTSTAMP:20260424T085040
CREATED:20260423T111549Z
LAST-MODIFIED:20260423T111549Z
UID:10043957-1777190400-1777222800@www.it.tarnow.pl
SUMMARY:Wrak Race Tarnów
DESCRIPTION:Polskie Stowarzyszenie Sportowe w najbliższą niedzielę\, 26 kwietnia zaprasza zawodników i kibiców na Charytatywny Wrak Race Tarnów „Jedziemy dla seniora”. Zawody będą odbywać się na torze przy ul. Komunalnej. \nZapisy przyjmowane będą od godz. 8\, odprawa zawodników i pierwszy start przewidziane są natomiast na godz. 10. O godz. 12 będzie miała miejsce licytacja na rzecz Domu Pomocy Społecznej im. Świętego Brata Alberta w Tarnowie\, a zakończenie zawodów przewidziane jest około godz. 16-17.
URL:https://www.it.tarnow.pl/wydarzenie/wrak-race-tarnow/
LOCATION:Tarnów\, ul. Komunalna\, ul. Komunalna\, Tarnów\, małopolskie\, 33-100
CATEGORIES:imprezy plenerowe
ATTACH;FMTTYPE=image/jpeg:https://www.it.tarnow.pl/wp-content/uploads/2026/04/wrak.jpg
END:VEVENT
END:VCALENDAR