BEGIN:VCALENDAR
VERSION:2.0
PRODID:-//Tarnowskie Centrum Informacji - ECPv6.13.2.1//NONSGML v1.0//EN
CALSCALE:GREGORIAN
METHOD:PUBLISH
X-ORIGINAL-URL:https://www.it.tarnow.pl
X-WR-CALDESC:Wydarzenia z
REFRESH-INTERVAL;VALUE=DURATION:PT1H
X-Robots-Tag:noindex
X-PUBLISHED-TTL:PT1H
BEGIN:VTIMEZONE
TZID:Europe/Warsaw
BEGIN:DAYLIGHT
TZOFFSETFROM:+0100
TZOFFSETTO:+0200
TZNAME:CEST
DTSTART:20260329T010000
END:DAYLIGHT
BEGIN:STANDARD
TZOFFSETFROM:+0200
TZOFFSETTO:+0100
TZNAME:CET
DTSTART:20261025T010000
END:STANDARD
END:VTIMEZONE
BEGIN:VEVENT
DTSTART;TZID=Europe/Warsaw:20260515T180000
DTEND;TZID=Europe/Warsaw:20260515T190000
DTSTAMP:20260423T145447
CREATED:20260421T122420Z
LAST-MODIFIED:20260421T122420Z
UID:10043900-1778868000-1778871600@www.it.tarnow.pl
SUMMARY:Z kanapy na Kaukaz – spotkanie z Waldemarem Maliną
DESCRIPTION:Koło nr 6 „W góry z Tarnowa” Oddziału „Ziemi Tarnowskiej” Polskiego Towarzystwa Turystyczno-Krajoznawczego zaprasza na spotkanie z Waldemarem Maliną. W piątek\, 15 maja w sali klubowej PTTK przy ul. Żydowskiej 20 opowie on o swojej rowerowej wyprawie do Czeczenii. Początek o godz. 18. Wstęp wolny.
URL:https://www.it.tarnow.pl/wydarzenie/z-kanapy-na-kaukaz-spotkanie-z-waldemarem-malina/
LOCATION:Siedziba PTTK Tarnów\, Żydowska 20\, Tarnów\, małopolskie\, 33-100
CATEGORIES:spotkania
GEO:50.013034;20.990237
X-APPLE-STRUCTURED-LOCATION;VALUE=URI;X-ADDRESS=Siedziba PTTK Tarnów Żydowska 20 Tarnów małopolskie 33-100;X-APPLE-RADIUS=500;X-TITLE=Żydowska 20:geo:20.990237,50.013034
END:VEVENT
END:VCALENDAR