BEGIN:VCALENDAR
VERSION:2.0
PRODID:-//Tarnowskie Centrum Informacji - ECPv6.13.2.1//NONSGML v1.0//EN
CALSCALE:GREGORIAN
METHOD:PUBLISH
X-WR-CALNAME:Tarnowskie Centrum Informacji
X-ORIGINAL-URL:https://www.it.tarnow.pl
X-WR-CALDESC:Wydarzenia z
REFRESH-INTERVAL;VALUE=DURATION:PT1H
X-Robots-Tag:noindex
X-PUBLISHED-TTL:PT1H
BEGIN:VTIMEZONE
TZID:Europe/Warsaw
BEGIN:DAYLIGHT
TZOFFSETFROM:+0100
TZOFFSETTO:+0200
TZNAME:CEST
DTSTART:20260329T010000
END:DAYLIGHT
BEGIN:STANDARD
TZOFFSETFROM:+0200
TZOFFSETTO:+0100
TZNAME:CET
DTSTART:20261025T010000
END:STANDARD
END:VTIMEZONE
BEGIN:VEVENT
DTSTART;VALUE=DATE:20260329
DTEND;VALUE=DATE:20260331
DTSTAMP:20260421T193329
CREATED:20260304T072046Z
LAST-MODIFIED:20260330T061904Z
UID:10043376-1774742400-1774832399@www.it.tarnow.pl
SUMMARY:Tarnów Spartan Race
DESCRIPTION:W 2026 roku Spartan zawita do zupełnie nowej lokalizacji – do bieguna ciepła Polski\, czyli Tarnowa! Już 28 marca czeka na Was wyjątkowe wydarzenie\, które połączy w sobie miejskie klimaty\, naturę i historię. Na uczestników czeka dystans Super – 10 km i 25 przeszkód\, Sprint – 5 km i 20 przeszkód\, a także Spartan Kids dla najmłodszych wojowników. Tarnów to miasto o niezwykłym charakterze – ciepłe\, pełne słońca i energii\, a jednocześnie otoczone pagórkami i malowniczymi krajobrazami. Trasa poprowadzi Was przez urokliwe zakątki miasta\, wzniesienia\, a także w okolice starych ruin zamków\, które dodadzą biegowi niepowtarzalnego klimatu. Będzie pot\, błoto\, górki\, miasto i historia – wszystko to\, co sprawia\, że Spartan to coś więcej niż tylko bieg. Tarnów stanie się kolejną areną dla Spartan gotowych na każde wyzwanie. Przyjedź\, poczuj ducha Spartana i pokaż\, że jesteś gotowy na wszystko!
URL:https://www.it.tarnow.pl/wydarzenie/tarnow-spartan-race/2026-03-29/
LOCATION:Park Biegowy Marcinka\, Tarnów\, małopolskie\, 33-100\, Polska
CATEGORIES:sport
ATTACH;FMTTYPE=image/jpeg:https://www.it.tarnow.pl/wp-content/uploads/2026/03/645974778_1371183825052922_5713979756861554688_n.jpg
GEO:50.0121011;20.9858407
END:VEVENT
BEGIN:VEVENT
DTSTART;VALUE=DATE:20260328
DTEND;VALUE=DATE:20260329
DTSTAMP:20260421T193329
CREATED:20260304T072046Z
LAST-MODIFIED:20260330T061904Z
UID:10042890-1774656000-1774742399@www.it.tarnow.pl
SUMMARY:Tarnów Spartan Race
DESCRIPTION:W 2026 roku Spartan zawita do zupełnie nowej lokalizacji – do bieguna ciepła Polski\, czyli Tarnowa! Już 28 marca czeka na Was wyjątkowe wydarzenie\, które połączy w sobie miejskie klimaty\, naturę i historię. Na uczestników czeka dystans Super – 10 km i 25 przeszkód\, Sprint – 5 km i 20 przeszkód\, a także Spartan Kids dla najmłodszych wojowników. Tarnów to miasto o niezwykłym charakterze – ciepłe\, pełne słońca i energii\, a jednocześnie otoczone pagórkami i malowniczymi krajobrazami. Trasa poprowadzi Was przez urokliwe zakątki miasta\, wzniesienia\, a także w okolice starych ruin zamków\, które dodadzą biegowi niepowtarzalnego klimatu. Będzie pot\, błoto\, górki\, miasto i historia – wszystko to\, co sprawia\, że Spartan to coś więcej niż tylko bieg. Tarnów stanie się kolejną areną dla Spartan gotowych na każde wyzwanie. Przyjedź\, poczuj ducha Spartana i pokaż\, że jesteś gotowy na wszystko!
URL:https://www.it.tarnow.pl/wydarzenie/tarnow-spartan-race/2026-03-28/
LOCATION:Park Biegowy Marcinka\, Tarnów\, małopolskie\, 33-100\, Polska
CATEGORIES:sport
ATTACH;FMTTYPE=image/jpeg:https://www.it.tarnow.pl/wp-content/uploads/2026/03/645974778_1371183825052922_5713979756861554688_n.jpg
GEO:50.0121011;20.9858407
END:VEVENT
END:VCALENDAR