BEGIN:VCALENDAR
VERSION:2.0
PRODID:-//Tarnowskie Centrum Informacji - ECPv6.13.2.1//NONSGML v1.0//EN
CALSCALE:GREGORIAN
METHOD:PUBLISH
X-WR-CALNAME:Tarnowskie Centrum Informacji
X-ORIGINAL-URL:https://www.it.tarnow.pl
X-WR-CALDESC:Wydarzenia z
REFRESH-INTERVAL;VALUE=DURATION:PT1H
X-Robots-Tag:noindex
X-PUBLISHED-TTL:PT1H
BEGIN:VTIMEZONE
TZID:Europe/Warsaw
BEGIN:DAYLIGHT
TZOFFSETFROM:+0100
TZOFFSETTO:+0200
TZNAME:CEST
DTSTART:20260329T010000
END:DAYLIGHT
BEGIN:STANDARD
TZOFFSETFROM:+0200
TZOFFSETTO:+0100
TZNAME:CET
DTSTART:20261025T010000
END:STANDARD
END:VTIMEZONE
BEGIN:VEVENT
DTSTART;TZID=Europe/Warsaw:20260213T080000
DTEND;TZID=Europe/Warsaw:20260213T160000
DTSTAMP:20260424T174108
CREATED:20260115T083144Z
LAST-MODIFIED:20260115T083144Z
UID:10042114-1770969600-1770998400@www.it.tarnow.pl
SUMMARY:Ferie 2026 z Pałacem Młodzieży w Tarnowie
DESCRIPTION:To będzie Kosmiczny Tydzień!\nCzy ufoludki mogą być owocowe\, jak zbudować kosmicznego robota i czy planety zmieszczą się w słoiku – na te i inne pytania będzie można znaleźć odpowiedź podczas Kosmicznego Tygodnia (9.02 – 13.02.2026 r.) proponowanego przez naszą placówkę. Do udziału w warsztatach organizowanych w formie półkolonii zapraszamy dzieci z klas 1 – 6 szkół podstawowych.\nZapewniamy opiekę w godzinach 8.00 – 16.00\, drugie śniadanie\, obiad oraz bardzo ciekawą i zróżnicowaną formę spędzenia czasu. \nOdpłatność za tygodniowy turnus półkolonijny (od poniedziałku do piątku w godz. 8.00-16.00) wynosi:\n550 złotych dla dzieci zamieszkujących w mieście Tarnowie i/lub uczęszczających do tarnowskich szkół\n600 złotych dla pozostałych dzieci \nW ramach półkolonii dzieci mają zapewnione drugie śniadanie\, dwudaniowy obiad z deserem\, seans filmowy w kinie\, zwiedzanie ciekawych miejsc miasta\, warsztatowe zajęcia edukacyjne. Atrakcyjny program półkolonii obejmuje ponadto zajęcia rekreacyjne\, sportowe\, plastyczne\, wokalne\, taneczne\, ceramiczne prowadzone przez nauczycieli Pałacu Młodzieży\, którzy są specjalistami w swoich dziedzinach. \nZajęcia półkolonijne/warsztaty odbędą się w dniach od 9 do 13 lutego 2026 r.
URL:https://www.it.tarnow.pl/wydarzenie/ferie-2026-z-palacem-mlodziezy-w-tarnowie/2026-02-13/
LOCATION:Pałac Młodzieży\, ul.Piłsudskiego 24\, Tarnów\, małopolskie\, 33-100\, Polska
CATEGORIES:warsztaty
GEO:50.0172817;20.9854573
X-APPLE-STRUCTURED-LOCATION;VALUE=URI;X-ADDRESS=Pałac Młodzieży ul.Piłsudskiego 24 Tarnów małopolskie 33-100 Polska;X-APPLE-RADIUS=500;X-TITLE=ul.Piłsudskiego 24:geo:20.9854573,50.0172817
END:VEVENT
BEGIN:VEVENT
DTSTART;TZID=Europe/Warsaw:20260212T080000
DTEND;TZID=Europe/Warsaw:20260212T160000
DTSTAMP:20260424T174108
CREATED:20260115T083144Z
LAST-MODIFIED:20260115T083144Z
UID:10042113-1770883200-1770912000@www.it.tarnow.pl
SUMMARY:Ferie 2026 z Pałacem Młodzieży w Tarnowie
DESCRIPTION:To będzie Kosmiczny Tydzień!\nCzy ufoludki mogą być owocowe\, jak zbudować kosmicznego robota i czy planety zmieszczą się w słoiku – na te i inne pytania będzie można znaleźć odpowiedź podczas Kosmicznego Tygodnia (9.02 – 13.02.2026 r.) proponowanego przez naszą placówkę. Do udziału w warsztatach organizowanych w formie półkolonii zapraszamy dzieci z klas 1 – 6 szkół podstawowych.\nZapewniamy opiekę w godzinach 8.00 – 16.00\, drugie śniadanie\, obiad oraz bardzo ciekawą i zróżnicowaną formę spędzenia czasu. \nOdpłatność za tygodniowy turnus półkolonijny (od poniedziałku do piątku w godz. 8.00-16.00) wynosi:\n550 złotych dla dzieci zamieszkujących w mieście Tarnowie i/lub uczęszczających do tarnowskich szkół\n600 złotych dla pozostałych dzieci \nW ramach półkolonii dzieci mają zapewnione drugie śniadanie\, dwudaniowy obiad z deserem\, seans filmowy w kinie\, zwiedzanie ciekawych miejsc miasta\, warsztatowe zajęcia edukacyjne. Atrakcyjny program półkolonii obejmuje ponadto zajęcia rekreacyjne\, sportowe\, plastyczne\, wokalne\, taneczne\, ceramiczne prowadzone przez nauczycieli Pałacu Młodzieży\, którzy są specjalistami w swoich dziedzinach. \nZajęcia półkolonijne/warsztaty odbędą się w dniach od 9 do 13 lutego 2026 r.
URL:https://www.it.tarnow.pl/wydarzenie/ferie-2026-z-palacem-mlodziezy-w-tarnowie/2026-02-12/
LOCATION:Pałac Młodzieży\, ul.Piłsudskiego 24\, Tarnów\, małopolskie\, 33-100\, Polska
CATEGORIES:warsztaty
GEO:50.0172817;20.9854573
X-APPLE-STRUCTURED-LOCATION;VALUE=URI;X-ADDRESS=Pałac Młodzieży ul.Piłsudskiego 24 Tarnów małopolskie 33-100 Polska;X-APPLE-RADIUS=500;X-TITLE=ul.Piłsudskiego 24:geo:20.9854573,50.0172817
END:VEVENT
BEGIN:VEVENT
DTSTART;TZID=Europe/Warsaw:20260211T080000
DTEND;TZID=Europe/Warsaw:20260211T160000
DTSTAMP:20260424T174108
CREATED:20260115T083144Z
LAST-MODIFIED:20260115T083144Z
UID:10042112-1770796800-1770825600@www.it.tarnow.pl
SUMMARY:Ferie 2026 z Pałacem Młodzieży w Tarnowie
DESCRIPTION:To będzie Kosmiczny Tydzień!\nCzy ufoludki mogą być owocowe\, jak zbudować kosmicznego robota i czy planety zmieszczą się w słoiku – na te i inne pytania będzie można znaleźć odpowiedź podczas Kosmicznego Tygodnia (9.02 – 13.02.2026 r.) proponowanego przez naszą placówkę. Do udziału w warsztatach organizowanych w formie półkolonii zapraszamy dzieci z klas 1 – 6 szkół podstawowych.\nZapewniamy opiekę w godzinach 8.00 – 16.00\, drugie śniadanie\, obiad oraz bardzo ciekawą i zróżnicowaną formę spędzenia czasu. \nOdpłatność za tygodniowy turnus półkolonijny (od poniedziałku do piątku w godz. 8.00-16.00) wynosi:\n550 złotych dla dzieci zamieszkujących w mieście Tarnowie i/lub uczęszczających do tarnowskich szkół\n600 złotych dla pozostałych dzieci \nW ramach półkolonii dzieci mają zapewnione drugie śniadanie\, dwudaniowy obiad z deserem\, seans filmowy w kinie\, zwiedzanie ciekawych miejsc miasta\, warsztatowe zajęcia edukacyjne. Atrakcyjny program półkolonii obejmuje ponadto zajęcia rekreacyjne\, sportowe\, plastyczne\, wokalne\, taneczne\, ceramiczne prowadzone przez nauczycieli Pałacu Młodzieży\, którzy są specjalistami w swoich dziedzinach. \nZajęcia półkolonijne/warsztaty odbędą się w dniach od 9 do 13 lutego 2026 r.
URL:https://www.it.tarnow.pl/wydarzenie/ferie-2026-z-palacem-mlodziezy-w-tarnowie/2026-02-11/
LOCATION:Pałac Młodzieży\, ul.Piłsudskiego 24\, Tarnów\, małopolskie\, 33-100\, Polska
CATEGORIES:warsztaty
GEO:50.0172817;20.9854573
X-APPLE-STRUCTURED-LOCATION;VALUE=URI;X-ADDRESS=Pałac Młodzieży ul.Piłsudskiego 24 Tarnów małopolskie 33-100 Polska;X-APPLE-RADIUS=500;X-TITLE=ul.Piłsudskiego 24:geo:20.9854573,50.0172817
END:VEVENT
BEGIN:VEVENT
DTSTART;TZID=Europe/Warsaw:20260210T080000
DTEND;TZID=Europe/Warsaw:20260210T160000
DTSTAMP:20260424T174108
CREATED:20260115T083144Z
LAST-MODIFIED:20260115T083144Z
UID:10042111-1770710400-1770739200@www.it.tarnow.pl
SUMMARY:Ferie 2026 z Pałacem Młodzieży w Tarnowie
DESCRIPTION:To będzie Kosmiczny Tydzień!\nCzy ufoludki mogą być owocowe\, jak zbudować kosmicznego robota i czy planety zmieszczą się w słoiku – na te i inne pytania będzie można znaleźć odpowiedź podczas Kosmicznego Tygodnia (9.02 – 13.02.2026 r.) proponowanego przez naszą placówkę. Do udziału w warsztatach organizowanych w formie półkolonii zapraszamy dzieci z klas 1 – 6 szkół podstawowych.\nZapewniamy opiekę w godzinach 8.00 – 16.00\, drugie śniadanie\, obiad oraz bardzo ciekawą i zróżnicowaną formę spędzenia czasu. \nOdpłatność za tygodniowy turnus półkolonijny (od poniedziałku do piątku w godz. 8.00-16.00) wynosi:\n550 złotych dla dzieci zamieszkujących w mieście Tarnowie i/lub uczęszczających do tarnowskich szkół\n600 złotych dla pozostałych dzieci \nW ramach półkolonii dzieci mają zapewnione drugie śniadanie\, dwudaniowy obiad z deserem\, seans filmowy w kinie\, zwiedzanie ciekawych miejsc miasta\, warsztatowe zajęcia edukacyjne. Atrakcyjny program półkolonii obejmuje ponadto zajęcia rekreacyjne\, sportowe\, plastyczne\, wokalne\, taneczne\, ceramiczne prowadzone przez nauczycieli Pałacu Młodzieży\, którzy są specjalistami w swoich dziedzinach. \nZajęcia półkolonijne/warsztaty odbędą się w dniach od 9 do 13 lutego 2026 r.
URL:https://www.it.tarnow.pl/wydarzenie/ferie-2026-z-palacem-mlodziezy-w-tarnowie/2026-02-10/
LOCATION:Pałac Młodzieży\, ul.Piłsudskiego 24\, Tarnów\, małopolskie\, 33-100\, Polska
CATEGORIES:warsztaty
GEO:50.0172817;20.9854573
X-APPLE-STRUCTURED-LOCATION;VALUE=URI;X-ADDRESS=Pałac Młodzieży ul.Piłsudskiego 24 Tarnów małopolskie 33-100 Polska;X-APPLE-RADIUS=500;X-TITLE=ul.Piłsudskiego 24:geo:20.9854573,50.0172817
END:VEVENT
BEGIN:VEVENT
DTSTART;TZID=Europe/Warsaw:20260209T080000
DTEND;TZID=Europe/Warsaw:20260209T160000
DTSTAMP:20260424T174108
CREATED:20260115T083144Z
LAST-MODIFIED:20260115T083144Z
UID:10042110-1770624000-1770652800@www.it.tarnow.pl
SUMMARY:Ferie 2026 z Pałacem Młodzieży w Tarnowie
DESCRIPTION:To będzie Kosmiczny Tydzień!\nCzy ufoludki mogą być owocowe\, jak zbudować kosmicznego robota i czy planety zmieszczą się w słoiku – na te i inne pytania będzie można znaleźć odpowiedź podczas Kosmicznego Tygodnia (9.02 – 13.02.2026 r.) proponowanego przez naszą placówkę. Do udziału w warsztatach organizowanych w formie półkolonii zapraszamy dzieci z klas 1 – 6 szkół podstawowych.\nZapewniamy opiekę w godzinach 8.00 – 16.00\, drugie śniadanie\, obiad oraz bardzo ciekawą i zróżnicowaną formę spędzenia czasu. \nOdpłatność za tygodniowy turnus półkolonijny (od poniedziałku do piątku w godz. 8.00-16.00) wynosi:\n550 złotych dla dzieci zamieszkujących w mieście Tarnowie i/lub uczęszczających do tarnowskich szkół\n600 złotych dla pozostałych dzieci \nW ramach półkolonii dzieci mają zapewnione drugie śniadanie\, dwudaniowy obiad z deserem\, seans filmowy w kinie\, zwiedzanie ciekawych miejsc miasta\, warsztatowe zajęcia edukacyjne. Atrakcyjny program półkolonii obejmuje ponadto zajęcia rekreacyjne\, sportowe\, plastyczne\, wokalne\, taneczne\, ceramiczne prowadzone przez nauczycieli Pałacu Młodzieży\, którzy są specjalistami w swoich dziedzinach. \nZajęcia półkolonijne/warsztaty odbędą się w dniach od 9 do 13 lutego 2026 r.
URL:https://www.it.tarnow.pl/wydarzenie/ferie-2026-z-palacem-mlodziezy-w-tarnowie/2026-02-09/
LOCATION:Pałac Młodzieży\, ul.Piłsudskiego 24\, Tarnów\, małopolskie\, 33-100\, Polska
CATEGORIES:warsztaty
GEO:50.0172817;20.9854573
X-APPLE-STRUCTURED-LOCATION;VALUE=URI;X-ADDRESS=Pałac Młodzieży ul.Piłsudskiego 24 Tarnów małopolskie 33-100 Polska;X-APPLE-RADIUS=500;X-TITLE=ul.Piłsudskiego 24:geo:20.9854573,50.0172817
END:VEVENT
END:VCALENDAR