BEGIN:VCALENDAR
VERSION:2.0
PRODID:-//Tarnowskie Centrum Informacji - ECPv6.13.2.1//NONSGML v1.0//EN
CALSCALE:GREGORIAN
METHOD:PUBLISH
X-WR-CALNAME:Tarnowskie Centrum Informacji
X-ORIGINAL-URL:https://www.it.tarnow.pl
X-WR-CALDESC:Wydarzenia z
REFRESH-INTERVAL;VALUE=DURATION:PT1H
X-Robots-Tag:noindex
X-PUBLISHED-TTL:PT1H
BEGIN:VTIMEZONE
TZID:Europe/Warsaw
BEGIN:DAYLIGHT
TZOFFSETFROM:+0100
TZOFFSETTO:+0200
TZNAME:CEST
DTSTART:20260329T010000
END:DAYLIGHT
BEGIN:STANDARD
TZOFFSETFROM:+0200
TZOFFSETTO:+0100
TZNAME:CET
DTSTART:20261025T010000
END:STANDARD
END:VTIMEZONE
BEGIN:VEVENT
DTSTART;TZID=Europe/Warsaw:20260214T193000
DTEND;TZID=Europe/Warsaw:20260214T210000
DTSTAMP:20260420T023504
CREATED:20260121T111432Z
LAST-MODIFIED:20260121T111432Z
UID:10042220-1771097400-1771102800@www.it.tarnow.pl
SUMMARY:"Całujmy się" - walentynkowy koncert najmniejszej sceny świata
DESCRIPTION:Pod hasłem „Całujmy się” odbędzie się koncert najmniejszej sceny świata. Wydarzenie zaplanowano w Walentynki\, 14 lutego\, w kamienicy przy Rynku 9. \n„Zapraszamy Państwa na znane już zlepy literackie. Program koncertowy\, w różnych odsłonach\, w którym łączyny lubiane piosenki wybitnych polskich twórców” – zachęcają artyści. \nPubliczność będzie miała okazję wysłuchać kompozycje m.in. Agnieszki Osieckiej\, Wojciecha Młynarskiego czy Jeremiego Przybory.  Jak zapowiadają pomysłodawcy wydarzenia\, tym razem będzie to koncert w lekkiej i żartobliwej odsłonie „bez wstydu\, bez przesądów\, za to z humorem i swobodą”. to wieczór\, w którym klasyka flirtuje z humorem\, a sentymenty mieszają się z uśmiechem. \nWystąpią: Emilia Baczyńska\, Aleksandra Kurek\, Kacper Rokosz\, Dawid Mik i Filip Kot (piano). \nPoczątek o godz. 19:30 \nBilety do nabycia na stronie: https://tiny.pl/21bb0crcd
URL:https://www.it.tarnow.pl/wydarzenie/calujmy-sie-walentynkowy-koncert-najmniejszej-sceny-swiata-2/
LOCATION:Najmniejsza Scena Świata\, Rynek 9/5\, Tarnów
CATEGORIES:koncert
ATTACH;FMTTYPE=image/jpeg:https://www.it.tarnow.pl/wp-content/uploads/2026/01/calujmy-sie-koncert-1.jpg
END:VEVENT
BEGIN:VEVENT
DTSTART;TZID=Europe/Warsaw:20260214T170000
DTEND;TZID=Europe/Warsaw:20260214T183000
DTSTAMP:20260420T023504
CREATED:20260121T110737Z
LAST-MODIFIED:20260121T110737Z
UID:10042219-1771088400-1771093800@www.it.tarnow.pl
SUMMARY:"Całujmy się" - walentynkowy koncert najmniejszej sceny świata
DESCRIPTION:Pod hasłem „Całujmy się” odbędzie się koncert najmniejszej sceny świata. Wydarzenie zaplanowano w Walentynki\, 14 lutego\, w kamienicy przy Rynku 9. \n„Zapraszamy Państwa na znane już zlepy literackie. Program koncertowy\, w różnych odsłonach\, w którym łączyny lubiane piosenki wybitnych polskich twórców” – zachęcają artyści. \nPubliczność będzie miała okazję wysłuchać kompozycje m.in. Agnieszki Osieckiej\, Wojciecha Młynarskiego czy Jeremiego Przybory.  Jak zapowiadają pomysłodawcy wydarzenia\, tym razem będzie to koncert w lekkiej i żartobliwej odsłonie „bez wstydu\, bez przesądów\, za to z humorem i swobodą”. to wieczór\, w którym klasyka flirtuje z humorem\, a sentymenty mieszają się z uśmiechem. \nWystąpią: Emilia Baczyńska\, Aleksandra Kurek\, Kacper Rokosz\, Dawid Mik i Filip Kot (piano). \nPoczątek o godz. 17:00 \nBilety do nabycia na stronie: https://tiny.pl/p4wgn8082
URL:https://www.it.tarnow.pl/wydarzenie/calujmy-sie-walentynkowy-koncert-najmniejszej-sceny-swiata/
LOCATION:Najmniejsza Scena Świata\, Rynek 9/5\, Tarnów
CATEGORIES:koncert
ATTACH;FMTTYPE=image/jpeg:https://www.it.tarnow.pl/wp-content/uploads/2026/01/calujmy-sie-koncert.jpg
END:VEVENT
BEGIN:VEVENT
DTSTART;TZID=Europe/Warsaw:20260124T160000
DTEND;TZID=Europe/Warsaw:20260124T170000
DTSTAMP:20260420T023504
CREATED:20260123T081938Z
LAST-MODIFIED:20260123T081938Z
UID:10042264-1769270400-1769274000@www.it.tarnow.pl
SUMMARY:„Okruchy po kolędzie" - koncert najmniejszej sceny świata
DESCRIPTION:Drodzy przyjaciele\, nie piszemy o tym koncercie za wiele\, bo co tu pisać. przyjdźcie do nas pokolędować i spędzić wieczór przy piosenkach zimowych\, świątecznych i kolędach! \n\n\nKupujecie bilecik na własną odpowiedzialność. i pamiętajcie\, kolędy są po to\, żeby śpiewać je razem\, więc obiecujemy\, że co najmniej 1/3 repertuaru będzie wykonana z “chórem przyjaciół” siedzącym na widowni. dla jasności – z Wami.24 stycznia 2026 r. | 16.00 i 18.30\nnajmniejsza scena świata | Rynek 9/5 w Tarnowie (parter)\n\nbilety: 60 zł – normalny\, 45 zł – bilet ulgowy (dla uczniów i studentów) do nabycia przez stronę: https://app.evenea.pl/organizator/fundacja-najmniejszej-sceny-swiata-299515  lub telefonicznie pod numerem 731 443 970 \n60 zł – bilet normalny\n45 zł – bilet ulgowy (dla uczniów i studentów)\npamiętajcie\, że jesteśmy najmniejszą sceną i mamy bardzo mało wolnych miejsc!
URL:https://www.it.tarnow.pl/wydarzenie/okruchy-po-koledzie-koncert-najmniejszej-sceny-swiata/
LOCATION:Najmniejsza Scena Świata\, Rynek 9/5\, Tarnów
CATEGORIES:koncert
ATTACH;FMTTYPE=image/jpeg:https://www.it.tarnow.pl/wp-content/uploads/2026/01/618312996_24638295812513128_5250683520060616928_n.jpg
END:VEVENT
END:VCALENDAR