BEGIN:VCALENDAR
VERSION:2.0
PRODID:-//Tarnowskie Centrum Informacji - ECPv6.13.2.1//NONSGML v1.0//EN
CALSCALE:GREGORIAN
METHOD:PUBLISH
X-ORIGINAL-URL:https://www.it.tarnow.pl
X-WR-CALDESC:Wydarzenia z
REFRESH-INTERVAL;VALUE=DURATION:PT1H
X-Robots-Tag:noindex
X-PUBLISHED-TTL:PT1H
BEGIN:VTIMEZONE
TZID:Europe/Warsaw
BEGIN:DAYLIGHT
TZOFFSETFROM:+0100
TZOFFSETTO:+0200
TZNAME:CEST
DTSTART:20260329T010000
END:DAYLIGHT
BEGIN:STANDARD
TZOFFSETFROM:+0200
TZOFFSETTO:+0100
TZNAME:CET
DTSTART:20261025T010000
END:STANDARD
END:VTIMEZONE
BEGIN:VEVENT
DTSTART;TZID=Europe/Warsaw:20260318T090000
DTEND;TZID=Europe/Warsaw:20260318T150000
DTSTAMP:20260420T091231
CREATED:20260221T140320Z
LAST-MODIFIED:20260221T140320Z
UID:10042789-1773824400-1773846000@www.it.tarnow.pl
SUMMARY:„Genius Loci – Tarnowskie Reminescencje” - wystawa malarstwa i rysunku Aleksandry Dagnan
DESCRIPTION:W Galerii Niebieskiej Miejskiej Biblioteki Publicznej przy ul. Krakowskiej 4 (pierwsze piętro) w Tarnowie już niedługo oglądać będzie można wystawę malarstwa i rysunku Aleksandry Dagnan „Genius Loci – Tarnowskie Reminescencje”. Jej wernisaż odbędzie się w środę\, 4 marca o godz. 17:00. \nW swojej twórczości artystka skupia się na emocjach oraz świetle. Głównym tematem jej dzieł są portrety. Jak przeczytać możemy na stronie Miejskiej Biblioteki Publicznej w Tarnowie\, wystawa prac rysunkowych i malarskich poświęcona Tarnowowi jest próbą artystycznego dialogu z rodzinnym miastem\, łączącą warsztat wyniesiony z krakowskiej uczelni z lokalną tożsamością. \nWystawa czynna będzie do wtorku\, 31 marca.
URL:https://www.it.tarnow.pl/wydarzenie/genius-loci-tarnowskie-reminescencje-wystawa-malarstwa-i-rysunku-aleksandry-dagnan/2026-03-18/
LOCATION:MBP\, Galeria Niebieska\, ul. Krakowska 4\, Tarnów\, małopolskie\, 33-100\, Polska
CATEGORIES:wystawy i wernisaże
ATTACH;FMTTYPE=image/jpeg:https://www.it.tarnow.pl/wp-content/uploads/2026/02/dagnan.jpg
GEO:50.0114517;20.9842414
X-APPLE-STRUCTURED-LOCATION;VALUE=URI;X-ADDRESS=MBP Galeria Niebieska ul. Krakowska 4 Tarnów małopolskie 33-100 Polska;X-APPLE-RADIUS=500;X-TITLE=ul. Krakowska 4:geo:20.9842414,50.0114517
END:VEVENT
BEGIN:VEVENT
DTSTART;TZID=Europe/Warsaw:20260317T090000
DTEND;TZID=Europe/Warsaw:20260317T150000
DTSTAMP:20260420T091231
CREATED:20260221T140320Z
LAST-MODIFIED:20260221T140320Z
UID:10042788-1773738000-1773759600@www.it.tarnow.pl
SUMMARY:„Genius Loci – Tarnowskie Reminescencje” - wystawa malarstwa i rysunku Aleksandry Dagnan
DESCRIPTION:W Galerii Niebieskiej Miejskiej Biblioteki Publicznej przy ul. Krakowskiej 4 (pierwsze piętro) w Tarnowie już niedługo oglądać będzie można wystawę malarstwa i rysunku Aleksandry Dagnan „Genius Loci – Tarnowskie Reminescencje”. Jej wernisaż odbędzie się w środę\, 4 marca o godz. 17:00. \nW swojej twórczości artystka skupia się na emocjach oraz świetle. Głównym tematem jej dzieł są portrety. Jak przeczytać możemy na stronie Miejskiej Biblioteki Publicznej w Tarnowie\, wystawa prac rysunkowych i malarskich poświęcona Tarnowowi jest próbą artystycznego dialogu z rodzinnym miastem\, łączącą warsztat wyniesiony z krakowskiej uczelni z lokalną tożsamością. \nWystawa czynna będzie do wtorku\, 31 marca.
URL:https://www.it.tarnow.pl/wydarzenie/genius-loci-tarnowskie-reminescencje-wystawa-malarstwa-i-rysunku-aleksandry-dagnan/2026-03-17/
LOCATION:MBP\, Galeria Niebieska\, ul. Krakowska 4\, Tarnów\, małopolskie\, 33-100\, Polska
CATEGORIES:wystawy i wernisaże
ATTACH;FMTTYPE=image/jpeg:https://www.it.tarnow.pl/wp-content/uploads/2026/02/dagnan.jpg
GEO:50.0114517;20.9842414
X-APPLE-STRUCTURED-LOCATION;VALUE=URI;X-ADDRESS=MBP Galeria Niebieska ul. Krakowska 4 Tarnów małopolskie 33-100 Polska;X-APPLE-RADIUS=500;X-TITLE=ul. Krakowska 4:geo:20.9842414,50.0114517
END:VEVENT
BEGIN:VEVENT
DTSTART;TZID=Europe/Warsaw:20260316T090000
DTEND;TZID=Europe/Warsaw:20260316T150000
DTSTAMP:20260420T091231
CREATED:20260221T140320Z
LAST-MODIFIED:20260221T140320Z
UID:10042787-1773651600-1773673200@www.it.tarnow.pl
SUMMARY:„Genius Loci – Tarnowskie Reminescencje” - wystawa malarstwa i rysunku Aleksandry Dagnan
DESCRIPTION:W Galerii Niebieskiej Miejskiej Biblioteki Publicznej przy ul. Krakowskiej 4 (pierwsze piętro) w Tarnowie już niedługo oglądać będzie można wystawę malarstwa i rysunku Aleksandry Dagnan „Genius Loci – Tarnowskie Reminescencje”. Jej wernisaż odbędzie się w środę\, 4 marca o godz. 17:00. \nW swojej twórczości artystka skupia się na emocjach oraz świetle. Głównym tematem jej dzieł są portrety. Jak przeczytać możemy na stronie Miejskiej Biblioteki Publicznej w Tarnowie\, wystawa prac rysunkowych i malarskich poświęcona Tarnowowi jest próbą artystycznego dialogu z rodzinnym miastem\, łączącą warsztat wyniesiony z krakowskiej uczelni z lokalną tożsamością. \nWystawa czynna będzie do wtorku\, 31 marca.
URL:https://www.it.tarnow.pl/wydarzenie/genius-loci-tarnowskie-reminescencje-wystawa-malarstwa-i-rysunku-aleksandry-dagnan/2026-03-16/
LOCATION:MBP\, Galeria Niebieska\, ul. Krakowska 4\, Tarnów\, małopolskie\, 33-100\, Polska
CATEGORIES:wystawy i wernisaże
ATTACH;FMTTYPE=image/jpeg:https://www.it.tarnow.pl/wp-content/uploads/2026/02/dagnan.jpg
GEO:50.0114517;20.9842414
X-APPLE-STRUCTURED-LOCATION;VALUE=URI;X-ADDRESS=MBP Galeria Niebieska ul. Krakowska 4 Tarnów małopolskie 33-100 Polska;X-APPLE-RADIUS=500;X-TITLE=ul. Krakowska 4:geo:20.9842414,50.0114517
END:VEVENT
BEGIN:VEVENT
DTSTART;TZID=Europe/Warsaw:20260313T090000
DTEND;TZID=Europe/Warsaw:20260313T150000
DTSTAMP:20260420T091231
CREATED:20260221T140320Z
LAST-MODIFIED:20260221T140320Z
UID:10042786-1773392400-1773414000@www.it.tarnow.pl
SUMMARY:„Genius Loci – Tarnowskie Reminescencje” - wystawa malarstwa i rysunku Aleksandry Dagnan
DESCRIPTION:W Galerii Niebieskiej Miejskiej Biblioteki Publicznej przy ul. Krakowskiej 4 (pierwsze piętro) w Tarnowie już niedługo oglądać będzie można wystawę malarstwa i rysunku Aleksandry Dagnan „Genius Loci – Tarnowskie Reminescencje”. Jej wernisaż odbędzie się w środę\, 4 marca o godz. 17:00. \nW swojej twórczości artystka skupia się na emocjach oraz świetle. Głównym tematem jej dzieł są portrety. Jak przeczytać możemy na stronie Miejskiej Biblioteki Publicznej w Tarnowie\, wystawa prac rysunkowych i malarskich poświęcona Tarnowowi jest próbą artystycznego dialogu z rodzinnym miastem\, łączącą warsztat wyniesiony z krakowskiej uczelni z lokalną tożsamością. \nWystawa czynna będzie do wtorku\, 31 marca.
URL:https://www.it.tarnow.pl/wydarzenie/genius-loci-tarnowskie-reminescencje-wystawa-malarstwa-i-rysunku-aleksandry-dagnan/2026-03-13/
LOCATION:MBP\, Galeria Niebieska\, ul. Krakowska 4\, Tarnów\, małopolskie\, 33-100\, Polska
CATEGORIES:wystawy i wernisaże
ATTACH;FMTTYPE=image/jpeg:https://www.it.tarnow.pl/wp-content/uploads/2026/02/dagnan.jpg
GEO:50.0114517;20.9842414
X-APPLE-STRUCTURED-LOCATION;VALUE=URI;X-ADDRESS=MBP Galeria Niebieska ul. Krakowska 4 Tarnów małopolskie 33-100 Polska;X-APPLE-RADIUS=500;X-TITLE=ul. Krakowska 4:geo:20.9842414,50.0114517
END:VEVENT
BEGIN:VEVENT
DTSTART;TZID=Europe/Warsaw:20260312T090000
DTEND;TZID=Europe/Warsaw:20260312T150000
DTSTAMP:20260420T091231
CREATED:20260221T140320Z
LAST-MODIFIED:20260221T140320Z
UID:10042785-1773306000-1773327600@www.it.tarnow.pl
SUMMARY:„Genius Loci – Tarnowskie Reminescencje” - wystawa malarstwa i rysunku Aleksandry Dagnan
DESCRIPTION:W Galerii Niebieskiej Miejskiej Biblioteki Publicznej przy ul. Krakowskiej 4 (pierwsze piętro) w Tarnowie już niedługo oglądać będzie można wystawę malarstwa i rysunku Aleksandry Dagnan „Genius Loci – Tarnowskie Reminescencje”. Jej wernisaż odbędzie się w środę\, 4 marca o godz. 17:00. \nW swojej twórczości artystka skupia się na emocjach oraz świetle. Głównym tematem jej dzieł są portrety. Jak przeczytać możemy na stronie Miejskiej Biblioteki Publicznej w Tarnowie\, wystawa prac rysunkowych i malarskich poświęcona Tarnowowi jest próbą artystycznego dialogu z rodzinnym miastem\, łączącą warsztat wyniesiony z krakowskiej uczelni z lokalną tożsamością. \nWystawa czynna będzie do wtorku\, 31 marca.
URL:https://www.it.tarnow.pl/wydarzenie/genius-loci-tarnowskie-reminescencje-wystawa-malarstwa-i-rysunku-aleksandry-dagnan/2026-03-12/
LOCATION:MBP\, Galeria Niebieska\, ul. Krakowska 4\, Tarnów\, małopolskie\, 33-100\, Polska
CATEGORIES:wystawy i wernisaże
ATTACH;FMTTYPE=image/jpeg:https://www.it.tarnow.pl/wp-content/uploads/2026/02/dagnan.jpg
GEO:50.0114517;20.9842414
X-APPLE-STRUCTURED-LOCATION;VALUE=URI;X-ADDRESS=MBP Galeria Niebieska ul. Krakowska 4 Tarnów małopolskie 33-100 Polska;X-APPLE-RADIUS=500;X-TITLE=ul. Krakowska 4:geo:20.9842414,50.0114517
END:VEVENT
BEGIN:VEVENT
DTSTART;TZID=Europe/Warsaw:20260311T090000
DTEND;TZID=Europe/Warsaw:20260311T150000
DTSTAMP:20260420T091231
CREATED:20260221T140320Z
LAST-MODIFIED:20260221T140320Z
UID:10042784-1773219600-1773241200@www.it.tarnow.pl
SUMMARY:„Genius Loci – Tarnowskie Reminescencje” - wystawa malarstwa i rysunku Aleksandry Dagnan
DESCRIPTION:W Galerii Niebieskiej Miejskiej Biblioteki Publicznej przy ul. Krakowskiej 4 (pierwsze piętro) w Tarnowie już niedługo oglądać będzie można wystawę malarstwa i rysunku Aleksandry Dagnan „Genius Loci – Tarnowskie Reminescencje”. Jej wernisaż odbędzie się w środę\, 4 marca o godz. 17:00. \nW swojej twórczości artystka skupia się na emocjach oraz świetle. Głównym tematem jej dzieł są portrety. Jak przeczytać możemy na stronie Miejskiej Biblioteki Publicznej w Tarnowie\, wystawa prac rysunkowych i malarskich poświęcona Tarnowowi jest próbą artystycznego dialogu z rodzinnym miastem\, łączącą warsztat wyniesiony z krakowskiej uczelni z lokalną tożsamością. \nWystawa czynna będzie do wtorku\, 31 marca.
URL:https://www.it.tarnow.pl/wydarzenie/genius-loci-tarnowskie-reminescencje-wystawa-malarstwa-i-rysunku-aleksandry-dagnan/2026-03-11/
LOCATION:MBP\, Galeria Niebieska\, ul. Krakowska 4\, Tarnów\, małopolskie\, 33-100\, Polska
CATEGORIES:wystawy i wernisaże
ATTACH;FMTTYPE=image/jpeg:https://www.it.tarnow.pl/wp-content/uploads/2026/02/dagnan.jpg
GEO:50.0114517;20.9842414
X-APPLE-STRUCTURED-LOCATION;VALUE=URI;X-ADDRESS=MBP Galeria Niebieska ul. Krakowska 4 Tarnów małopolskie 33-100 Polska;X-APPLE-RADIUS=500;X-TITLE=ul. Krakowska 4:geo:20.9842414,50.0114517
END:VEVENT
BEGIN:VEVENT
DTSTART;TZID=Europe/Warsaw:20260310T090000
DTEND;TZID=Europe/Warsaw:20260310T150000
DTSTAMP:20260420T091231
CREATED:20260221T140320Z
LAST-MODIFIED:20260221T140320Z
UID:10042783-1773133200-1773154800@www.it.tarnow.pl
SUMMARY:„Genius Loci – Tarnowskie Reminescencje” - wystawa malarstwa i rysunku Aleksandry Dagnan
DESCRIPTION:W Galerii Niebieskiej Miejskiej Biblioteki Publicznej przy ul. Krakowskiej 4 (pierwsze piętro) w Tarnowie już niedługo oglądać będzie można wystawę malarstwa i rysunku Aleksandry Dagnan „Genius Loci – Tarnowskie Reminescencje”. Jej wernisaż odbędzie się w środę\, 4 marca o godz. 17:00. \nW swojej twórczości artystka skupia się na emocjach oraz świetle. Głównym tematem jej dzieł są portrety. Jak przeczytać możemy na stronie Miejskiej Biblioteki Publicznej w Tarnowie\, wystawa prac rysunkowych i malarskich poświęcona Tarnowowi jest próbą artystycznego dialogu z rodzinnym miastem\, łączącą warsztat wyniesiony z krakowskiej uczelni z lokalną tożsamością. \nWystawa czynna będzie do wtorku\, 31 marca.
URL:https://www.it.tarnow.pl/wydarzenie/genius-loci-tarnowskie-reminescencje-wystawa-malarstwa-i-rysunku-aleksandry-dagnan/2026-03-10/
LOCATION:MBP\, Galeria Niebieska\, ul. Krakowska 4\, Tarnów\, małopolskie\, 33-100\, Polska
CATEGORIES:wystawy i wernisaże
ATTACH;FMTTYPE=image/jpeg:https://www.it.tarnow.pl/wp-content/uploads/2026/02/dagnan.jpg
GEO:50.0114517;20.9842414
X-APPLE-STRUCTURED-LOCATION;VALUE=URI;X-ADDRESS=MBP Galeria Niebieska ul. Krakowska 4 Tarnów małopolskie 33-100 Polska;X-APPLE-RADIUS=500;X-TITLE=ul. Krakowska 4:geo:20.9842414,50.0114517
END:VEVENT
BEGIN:VEVENT
DTSTART;TZID=Europe/Warsaw:20260309T090000
DTEND;TZID=Europe/Warsaw:20260309T150000
DTSTAMP:20260420T091231
CREATED:20260221T140320Z
LAST-MODIFIED:20260221T140320Z
UID:10042782-1773046800-1773068400@www.it.tarnow.pl
SUMMARY:„Genius Loci – Tarnowskie Reminescencje” - wystawa malarstwa i rysunku Aleksandry Dagnan
DESCRIPTION:W Galerii Niebieskiej Miejskiej Biblioteki Publicznej przy ul. Krakowskiej 4 (pierwsze piętro) w Tarnowie już niedługo oglądać będzie można wystawę malarstwa i rysunku Aleksandry Dagnan „Genius Loci – Tarnowskie Reminescencje”. Jej wernisaż odbędzie się w środę\, 4 marca o godz. 17:00. \nW swojej twórczości artystka skupia się na emocjach oraz świetle. Głównym tematem jej dzieł są portrety. Jak przeczytać możemy na stronie Miejskiej Biblioteki Publicznej w Tarnowie\, wystawa prac rysunkowych i malarskich poświęcona Tarnowowi jest próbą artystycznego dialogu z rodzinnym miastem\, łączącą warsztat wyniesiony z krakowskiej uczelni z lokalną tożsamością. \nWystawa czynna będzie do wtorku\, 31 marca.
URL:https://www.it.tarnow.pl/wydarzenie/genius-loci-tarnowskie-reminescencje-wystawa-malarstwa-i-rysunku-aleksandry-dagnan/2026-03-09/
LOCATION:MBP\, Galeria Niebieska\, ul. Krakowska 4\, Tarnów\, małopolskie\, 33-100\, Polska
CATEGORIES:wystawy i wernisaże
ATTACH;FMTTYPE=image/jpeg:https://www.it.tarnow.pl/wp-content/uploads/2026/02/dagnan.jpg
GEO:50.0114517;20.9842414
X-APPLE-STRUCTURED-LOCATION;VALUE=URI;X-ADDRESS=MBP Galeria Niebieska ul. Krakowska 4 Tarnów małopolskie 33-100 Polska;X-APPLE-RADIUS=500;X-TITLE=ul. Krakowska 4:geo:20.9842414,50.0114517
END:VEVENT
BEGIN:VEVENT
DTSTART;TZID=Europe/Warsaw:20260306T090000
DTEND;TZID=Europe/Warsaw:20260306T150000
DTSTAMP:20260420T091231
CREATED:20260221T140320Z
LAST-MODIFIED:20260221T140320Z
UID:10042781-1772787600-1772809200@www.it.tarnow.pl
SUMMARY:„Genius Loci – Tarnowskie Reminescencje” - wystawa malarstwa i rysunku Aleksandry Dagnan
DESCRIPTION:W Galerii Niebieskiej Miejskiej Biblioteki Publicznej przy ul. Krakowskiej 4 (pierwsze piętro) w Tarnowie już niedługo oglądać będzie można wystawę malarstwa i rysunku Aleksandry Dagnan „Genius Loci – Tarnowskie Reminescencje”. Jej wernisaż odbędzie się w środę\, 4 marca o godz. 17:00. \nW swojej twórczości artystka skupia się na emocjach oraz świetle. Głównym tematem jej dzieł są portrety. Jak przeczytać możemy na stronie Miejskiej Biblioteki Publicznej w Tarnowie\, wystawa prac rysunkowych i malarskich poświęcona Tarnowowi jest próbą artystycznego dialogu z rodzinnym miastem\, łączącą warsztat wyniesiony z krakowskiej uczelni z lokalną tożsamością. \nWystawa czynna będzie do wtorku\, 31 marca.
URL:https://www.it.tarnow.pl/wydarzenie/genius-loci-tarnowskie-reminescencje-wystawa-malarstwa-i-rysunku-aleksandry-dagnan/2026-03-06/
LOCATION:MBP\, Galeria Niebieska\, ul. Krakowska 4\, Tarnów\, małopolskie\, 33-100\, Polska
CATEGORIES:wystawy i wernisaże
ATTACH;FMTTYPE=image/jpeg:https://www.it.tarnow.pl/wp-content/uploads/2026/02/dagnan.jpg
GEO:50.0114517;20.9842414
X-APPLE-STRUCTURED-LOCATION;VALUE=URI;X-ADDRESS=MBP Galeria Niebieska ul. Krakowska 4 Tarnów małopolskie 33-100 Polska;X-APPLE-RADIUS=500;X-TITLE=ul. Krakowska 4:geo:20.9842414,50.0114517
END:VEVENT
BEGIN:VEVENT
DTSTART;TZID=Europe/Warsaw:20260305T090000
DTEND;TZID=Europe/Warsaw:20260305T150000
DTSTAMP:20260420T091231
CREATED:20260221T140320Z
LAST-MODIFIED:20260221T140320Z
UID:10042780-1772701200-1772722800@www.it.tarnow.pl
SUMMARY:„Genius Loci – Tarnowskie Reminescencje” - wystawa malarstwa i rysunku Aleksandry Dagnan
DESCRIPTION:W Galerii Niebieskiej Miejskiej Biblioteki Publicznej przy ul. Krakowskiej 4 (pierwsze piętro) w Tarnowie już niedługo oglądać będzie można wystawę malarstwa i rysunku Aleksandry Dagnan „Genius Loci – Tarnowskie Reminescencje”. Jej wernisaż odbędzie się w środę\, 4 marca o godz. 17:00. \nW swojej twórczości artystka skupia się na emocjach oraz świetle. Głównym tematem jej dzieł są portrety. Jak przeczytać możemy na stronie Miejskiej Biblioteki Publicznej w Tarnowie\, wystawa prac rysunkowych i malarskich poświęcona Tarnowowi jest próbą artystycznego dialogu z rodzinnym miastem\, łączącą warsztat wyniesiony z krakowskiej uczelni z lokalną tożsamością. \nWystawa czynna będzie do wtorku\, 31 marca.
URL:https://www.it.tarnow.pl/wydarzenie/genius-loci-tarnowskie-reminescencje-wystawa-malarstwa-i-rysunku-aleksandry-dagnan/2026-03-05/
LOCATION:MBP\, Galeria Niebieska\, ul. Krakowska 4\, Tarnów\, małopolskie\, 33-100\, Polska
CATEGORIES:wystawy i wernisaże
ATTACH;FMTTYPE=image/jpeg:https://www.it.tarnow.pl/wp-content/uploads/2026/02/dagnan.jpg
GEO:50.0114517;20.9842414
X-APPLE-STRUCTURED-LOCATION;VALUE=URI;X-ADDRESS=MBP Galeria Niebieska ul. Krakowska 4 Tarnów małopolskie 33-100 Polska;X-APPLE-RADIUS=500;X-TITLE=ul. Krakowska 4:geo:20.9842414,50.0114517
END:VEVENT
BEGIN:VEVENT
DTSTART;TZID=Europe/Warsaw:20260304T170000
DTEND;TZID=Europe/Warsaw:20260304T180000
DTSTAMP:20260420T091231
CREATED:20260221T140320Z
LAST-MODIFIED:20260221T140320Z
UID:10042779-1772643600-1772647200@www.it.tarnow.pl
SUMMARY:„Genius Loci – Tarnowskie Reminescencje” - wystawa malarstwa i rysunku Aleksandry Dagnan
DESCRIPTION:W Galerii Niebieskiej Miejskiej Biblioteki Publicznej przy ul. Krakowskiej 4 (pierwsze piętro) w Tarnowie już niedługo oglądać będzie można wystawę malarstwa i rysunku Aleksandry Dagnan „Genius Loci – Tarnowskie Reminescencje”. Jej wernisaż odbędzie się w środę\, 4 marca o godz. 17:00. \nW swojej twórczości artystka skupia się na emocjach oraz świetle. Głównym tematem jej dzieł są portrety. Jak przeczytać możemy na stronie Miejskiej Biblioteki Publicznej w Tarnowie\, wystawa prac rysunkowych i malarskich poświęcona Tarnowowi jest próbą artystycznego dialogu z rodzinnym miastem\, łączącą warsztat wyniesiony z krakowskiej uczelni z lokalną tożsamością. \nWystawa czynna będzie do wtorku\, 31 marca.
URL:https://www.it.tarnow.pl/wydarzenie/genius-loci-tarnowskie-reminescencje-wystawa-malarstwa-i-rysunku-aleksandry-dagnan/2026-03-04/
LOCATION:MBP\, Galeria Niebieska\, ul. Krakowska 4\, Tarnów\, małopolskie\, 33-100\, Polska
CATEGORIES:wystawy i wernisaże
ATTACH;FMTTYPE=image/jpeg:https://www.it.tarnow.pl/wp-content/uploads/2026/02/dagnan.jpg
GEO:50.0114517;20.9842414
X-APPLE-STRUCTURED-LOCATION;VALUE=URI;X-ADDRESS=MBP Galeria Niebieska ul. Krakowska 4 Tarnów małopolskie 33-100 Polska;X-APPLE-RADIUS=500;X-TITLE=ul. Krakowska 4:geo:20.9842414,50.0114517
END:VEVENT
END:VCALENDAR