BEGIN:VCALENDAR
VERSION:2.0
PRODID:-//Tarnowskie Centrum Informacji - ECPv6.13.2.1//NONSGML v1.0//EN
CALSCALE:GREGORIAN
METHOD:PUBLISH
X-ORIGINAL-URL:https://www.it.tarnow.pl
X-WR-CALDESC:Wydarzenia z
REFRESH-INTERVAL;VALUE=DURATION:PT1H
X-Robots-Tag:noindex
X-PUBLISHED-TTL:PT1H
BEGIN:VTIMEZONE
TZID:Europe/Warsaw
BEGIN:DAYLIGHT
TZOFFSETFROM:+0100
TZOFFSETTO:+0200
TZNAME:CEST
DTSTART:20260329T010000
END:DAYLIGHT
BEGIN:STANDARD
TZOFFSETFROM:+0200
TZOFFSETTO:+0100
TZNAME:CET
DTSTART:20261025T010000
END:STANDARD
END:VTIMEZONE
BEGIN:VEVENT
DTSTART;TZID=Europe/Warsaw:20260121T100000
DTEND;TZID=Europe/Warsaw:20260121T180000
DTSTAMP:20260421T035732
CREATED:20251208T131831Z
LAST-MODIFIED:20251208T131831Z
UID:10041680-1768989600-1769018400@www.it.tarnow.pl
SUMMARY:Wystawa „Kwiaty i pejzaże” Marii Wójcickiej-Kaczmarek
DESCRIPTION:Od poniedziałku\, 8 grudnia w filii nr 8 Miejskiej Biblioteki Publicznej w Tarnowie przy ul. Traugutta 1 oglądać można wystawę malarstwa „Kwiaty i pejzaże” Marii Wójcickiej-Kaczmarek. \nJest ona rodowitą mościczanką o korzeniach kresowych. Ukończyła Liceum Sztuk Plastycznych w Tarnowie i pracowała jako dekoratorka wnętrz\, plastyk miejski\, florystka oraz pracownica rekwizytorni Teatru im. Ludwika Solskiego w Tarnowie. \nNajwiększą jej miłością jest przyroda i to ona stanowi największe wyzwanie malarskie artystki. Jak sama mówi: – Tak szczęście\, jak i piękno są tylko chwilą (…) Cud natury nie jest do opowiedzenia najlepszym słowem. \nIstnieje możliwość zakupu prezentowanych prac. Ekspozycja dostępna będzie do zwiedzania do 31 marca w godzinach pracy Biblioteki.
URL:https://www.it.tarnow.pl/wydarzenie/wystawa-kwiaty-i-pejzaze-marii-wojcickiej-kaczmarek-2/2026-01-21/
LOCATION:MBP\, Filia 8\, ul. Traugutta 1\, Tarnów\, małopolskie\, 33-100\, Polska
CATEGORIES:wystawy i wernisaże
ATTACH;FMTTYPE=image/jpeg:https://www.it.tarnow.pl/wp-content/uploads/2025/12/wojcicka.jpg
GEO:50.009833;20.92706
X-APPLE-STRUCTURED-LOCATION;VALUE=URI;X-ADDRESS=MBP Filia 8 ul. Traugutta 1 Tarnów małopolskie 33-100 Polska;X-APPLE-RADIUS=500;X-TITLE=ul. Traugutta 1:geo:20.92706,50.009833
END:VEVENT
END:VCALENDAR