BEGIN:VCALENDAR
VERSION:2.0
PRODID:-//Tarnowskie Centrum Informacji - ECPv6.13.2.1//NONSGML v1.0//EN
CALSCALE:GREGORIAN
METHOD:PUBLISH
X-ORIGINAL-URL:https://www.it.tarnow.pl
X-WR-CALDESC:Wydarzenia z
REFRESH-INTERVAL;VALUE=DURATION:PT1H
X-Robots-Tag:noindex
X-PUBLISHED-TTL:PT1H
BEGIN:VTIMEZONE
TZID:Europe/Warsaw
BEGIN:DAYLIGHT
TZOFFSETFROM:+0100
TZOFFSETTO:+0200
TZNAME:CEST
DTSTART:20260329T010000
END:DAYLIGHT
BEGIN:STANDARD
TZOFFSETFROM:+0200
TZOFFSETTO:+0100
TZNAME:CET
DTSTART:20261025T010000
END:STANDARD
END:VTIMEZONE
BEGIN:VEVENT
DTSTART;TZID=Europe/Warsaw:20260213T090000
DTEND;TZID=Europe/Warsaw:20260213T150000
DTSTAMP:20260423T172224
CREATED:20260119T083131Z
LAST-MODIFIED:20260203T162655Z
UID:10042143-1770973200-1770994800@www.it.tarnow.pl
SUMMARY:Ferie zimowe z TOSIR-em
DESCRIPTION:
URL:https://www.it.tarnow.pl/wydarzenie/ferie-zimowe-z-tosir-em/2026-02-13/
LOCATION:Lodowisko\, ul. Wojska Polskiego 14\, Tarnów\, małopolskie\, 33-100\, Polska
CATEGORIES:sport
ATTACH;FMTTYPE=image/jpeg:https://www.it.tarnow.pl/wp-content/uploads/2026/01/plakat-1_ferie-zimowe-2026-730x1024-1.jpg
GEO:50.0221313;21.0018033
X-APPLE-STRUCTURED-LOCATION;VALUE=URI;X-ADDRESS=Lodowisko ul. Wojska Polskiego 14 Tarnów małopolskie 33-100 Polska;X-APPLE-RADIUS=500;X-TITLE=ul. Wojska Polskiego 14:geo:21.0018033,50.0221313
END:VEVENT
BEGIN:VEVENT
DTSTART;TZID=Europe/Warsaw:20260212T090000
DTEND;TZID=Europe/Warsaw:20260212T150000
DTSTAMP:20260423T172224
CREATED:20260119T083131Z
LAST-MODIFIED:20260203T162655Z
UID:10042142-1770886800-1770908400@www.it.tarnow.pl
SUMMARY:Ferie zimowe z TOSIR-em
DESCRIPTION:
URL:https://www.it.tarnow.pl/wydarzenie/ferie-zimowe-z-tosir-em/2026-02-12/
LOCATION:Lodowisko\, ul. Wojska Polskiego 14\, Tarnów\, małopolskie\, 33-100\, Polska
CATEGORIES:sport
ATTACH;FMTTYPE=image/jpeg:https://www.it.tarnow.pl/wp-content/uploads/2026/01/plakat-1_ferie-zimowe-2026-730x1024-1.jpg
GEO:50.0221313;21.0018033
X-APPLE-STRUCTURED-LOCATION;VALUE=URI;X-ADDRESS=Lodowisko ul. Wojska Polskiego 14 Tarnów małopolskie 33-100 Polska;X-APPLE-RADIUS=500;X-TITLE=ul. Wojska Polskiego 14:geo:21.0018033,50.0221313
END:VEVENT
BEGIN:VEVENT
DTSTART;TZID=Europe/Warsaw:20260211T090000
DTEND;TZID=Europe/Warsaw:20260211T150000
DTSTAMP:20260423T172224
CREATED:20260119T083131Z
LAST-MODIFIED:20260203T162655Z
UID:10042141-1770800400-1770822000@www.it.tarnow.pl
SUMMARY:Ferie zimowe z TOSIR-em
DESCRIPTION:
URL:https://www.it.tarnow.pl/wydarzenie/ferie-zimowe-z-tosir-em/2026-02-11/
LOCATION:Lodowisko\, ul. Wojska Polskiego 14\, Tarnów\, małopolskie\, 33-100\, Polska
CATEGORIES:sport
ATTACH;FMTTYPE=image/jpeg:https://www.it.tarnow.pl/wp-content/uploads/2026/01/plakat-1_ferie-zimowe-2026-730x1024-1.jpg
GEO:50.0221313;21.0018033
X-APPLE-STRUCTURED-LOCATION;VALUE=URI;X-ADDRESS=Lodowisko ul. Wojska Polskiego 14 Tarnów małopolskie 33-100 Polska;X-APPLE-RADIUS=500;X-TITLE=ul. Wojska Polskiego 14:geo:21.0018033,50.0221313
END:VEVENT
BEGIN:VEVENT
DTSTART;TZID=Europe/Warsaw:20260210T090000
DTEND;TZID=Europe/Warsaw:20260210T150000
DTSTAMP:20260423T172224
CREATED:20260119T083131Z
LAST-MODIFIED:20260203T162655Z
UID:10042140-1770714000-1770735600@www.it.tarnow.pl
SUMMARY:Ferie zimowe z TOSIR-em
DESCRIPTION:
URL:https://www.it.tarnow.pl/wydarzenie/ferie-zimowe-z-tosir-em/2026-02-10/
LOCATION:Lodowisko\, ul. Wojska Polskiego 14\, Tarnów\, małopolskie\, 33-100\, Polska
CATEGORIES:sport
ATTACH;FMTTYPE=image/jpeg:https://www.it.tarnow.pl/wp-content/uploads/2026/01/plakat-1_ferie-zimowe-2026-730x1024-1.jpg
GEO:50.0221313;21.0018033
X-APPLE-STRUCTURED-LOCATION;VALUE=URI;X-ADDRESS=Lodowisko ul. Wojska Polskiego 14 Tarnów małopolskie 33-100 Polska;X-APPLE-RADIUS=500;X-TITLE=ul. Wojska Polskiego 14:geo:21.0018033,50.0221313
END:VEVENT
BEGIN:VEVENT
DTSTART;TZID=Europe/Warsaw:20260209T090000
DTEND;TZID=Europe/Warsaw:20260209T150000
DTSTAMP:20260423T172224
CREATED:20260119T083131Z
LAST-MODIFIED:20260203T162655Z
UID:10042139-1770627600-1770649200@www.it.tarnow.pl
SUMMARY:Ferie zimowe z TOSIR-em
DESCRIPTION:
URL:https://www.it.tarnow.pl/wydarzenie/ferie-zimowe-z-tosir-em/2026-02-09/
LOCATION:Lodowisko\, ul. Wojska Polskiego 14\, Tarnów\, małopolskie\, 33-100\, Polska
CATEGORIES:sport
ATTACH;FMTTYPE=image/jpeg:https://www.it.tarnow.pl/wp-content/uploads/2026/01/plakat-1_ferie-zimowe-2026-730x1024-1.jpg
GEO:50.0221313;21.0018033
X-APPLE-STRUCTURED-LOCATION;VALUE=URI;X-ADDRESS=Lodowisko ul. Wojska Polskiego 14 Tarnów małopolskie 33-100 Polska;X-APPLE-RADIUS=500;X-TITLE=ul. Wojska Polskiego 14:geo:21.0018033,50.0221313
END:VEVENT
BEGIN:VEVENT
DTSTART;TZID=Europe/Warsaw:20260206T090000
DTEND;TZID=Europe/Warsaw:20260206T150000
DTSTAMP:20260423T172224
CREATED:20260119T083131Z
LAST-MODIFIED:20260203T162655Z
UID:10042138-1770368400-1770390000@www.it.tarnow.pl
SUMMARY:Ferie zimowe z TOSIR-em
DESCRIPTION:
URL:https://www.it.tarnow.pl/wydarzenie/ferie-zimowe-z-tosir-em/2026-02-06/
LOCATION:Lodowisko\, ul. Wojska Polskiego 14\, Tarnów\, małopolskie\, 33-100\, Polska
CATEGORIES:sport
ATTACH;FMTTYPE=image/jpeg:https://www.it.tarnow.pl/wp-content/uploads/2026/01/plakat-1_ferie-zimowe-2026-730x1024-1.jpg
GEO:50.0221313;21.0018033
X-APPLE-STRUCTURED-LOCATION;VALUE=URI;X-ADDRESS=Lodowisko ul. Wojska Polskiego 14 Tarnów małopolskie 33-100 Polska;X-APPLE-RADIUS=500;X-TITLE=ul. Wojska Polskiego 14:geo:21.0018033,50.0221313
END:VEVENT
BEGIN:VEVENT
DTSTART;TZID=Europe/Warsaw:20260205T090000
DTEND;TZID=Europe/Warsaw:20260205T150000
DTSTAMP:20260423T172224
CREATED:20260119T083131Z
LAST-MODIFIED:20260203T162655Z
UID:10042137-1770282000-1770303600@www.it.tarnow.pl
SUMMARY:Ferie zimowe z TOSIR-em
DESCRIPTION:
URL:https://www.it.tarnow.pl/wydarzenie/ferie-zimowe-z-tosir-em/2026-02-05/
LOCATION:Lodowisko\, ul. Wojska Polskiego 14\, Tarnów\, małopolskie\, 33-100\, Polska
CATEGORIES:sport
ATTACH;FMTTYPE=image/jpeg:https://www.it.tarnow.pl/wp-content/uploads/2026/01/plakat-1_ferie-zimowe-2026-730x1024-1.jpg
GEO:50.0221313;21.0018033
X-APPLE-STRUCTURED-LOCATION;VALUE=URI;X-ADDRESS=Lodowisko ul. Wojska Polskiego 14 Tarnów małopolskie 33-100 Polska;X-APPLE-RADIUS=500;X-TITLE=ul. Wojska Polskiego 14:geo:21.0018033,50.0221313
END:VEVENT
BEGIN:VEVENT
DTSTART;TZID=Europe/Warsaw:20260204T090000
DTEND;TZID=Europe/Warsaw:20260204T150000
DTSTAMP:20260423T172224
CREATED:20260119T083131Z
LAST-MODIFIED:20260203T162655Z
UID:10042136-1770195600-1770217200@www.it.tarnow.pl
SUMMARY:Ferie zimowe z TOSIR-em
DESCRIPTION:
URL:https://www.it.tarnow.pl/wydarzenie/ferie-zimowe-z-tosir-em/2026-02-04/
LOCATION:Lodowisko\, ul. Wojska Polskiego 14\, Tarnów\, małopolskie\, 33-100\, Polska
CATEGORIES:sport
ATTACH;FMTTYPE=image/jpeg:https://www.it.tarnow.pl/wp-content/uploads/2026/01/plakat-1_ferie-zimowe-2026-730x1024-1.jpg
GEO:50.0221313;21.0018033
X-APPLE-STRUCTURED-LOCATION;VALUE=URI;X-ADDRESS=Lodowisko ul. Wojska Polskiego 14 Tarnów małopolskie 33-100 Polska;X-APPLE-RADIUS=500;X-TITLE=ul. Wojska Polskiego 14:geo:21.0018033,50.0221313
END:VEVENT
BEGIN:VEVENT
DTSTART;TZID=Europe/Warsaw:20260203T090000
DTEND;TZID=Europe/Warsaw:20260203T150000
DTSTAMP:20260423T172224
CREATED:20260119T083131Z
LAST-MODIFIED:20260203T162655Z
UID:10042135-1770109200-1770130800@www.it.tarnow.pl
SUMMARY:Ferie zimowe z TOSIR-em
DESCRIPTION:
URL:https://www.it.tarnow.pl/wydarzenie/ferie-zimowe-z-tosir-em/2026-02-03/
LOCATION:Lodowisko\, ul. Wojska Polskiego 14\, Tarnów\, małopolskie\, 33-100\, Polska
CATEGORIES:sport
ATTACH;FMTTYPE=image/jpeg:https://www.it.tarnow.pl/wp-content/uploads/2026/01/plakat-1_ferie-zimowe-2026-730x1024-1.jpg
GEO:50.0221313;21.0018033
X-APPLE-STRUCTURED-LOCATION;VALUE=URI;X-ADDRESS=Lodowisko ul. Wojska Polskiego 14 Tarnów małopolskie 33-100 Polska;X-APPLE-RADIUS=500;X-TITLE=ul. Wojska Polskiego 14:geo:21.0018033,50.0221313
END:VEVENT
BEGIN:VEVENT
DTSTART;TZID=Europe/Warsaw:20260202T090000
DTEND;TZID=Europe/Warsaw:20260202T150000
DTSTAMP:20260423T172224
CREATED:20260119T083131Z
LAST-MODIFIED:20260203T162655Z
UID:10042134-1770022800-1770044400@www.it.tarnow.pl
SUMMARY:Ferie zimowe z TOSIR-em
DESCRIPTION:
URL:https://www.it.tarnow.pl/wydarzenie/ferie-zimowe-z-tosir-em/2026-02-02/
LOCATION:Lodowisko\, ul. Wojska Polskiego 14\, Tarnów\, małopolskie\, 33-100\, Polska
CATEGORIES:sport
ATTACH;FMTTYPE=image/jpeg:https://www.it.tarnow.pl/wp-content/uploads/2026/01/plakat-1_ferie-zimowe-2026-730x1024-1.jpg
GEO:50.0221313;21.0018033
X-APPLE-STRUCTURED-LOCATION;VALUE=URI;X-ADDRESS=Lodowisko ul. Wojska Polskiego 14 Tarnów małopolskie 33-100 Polska;X-APPLE-RADIUS=500;X-TITLE=ul. Wojska Polskiego 14:geo:21.0018033,50.0221313
END:VEVENT
END:VCALENDAR