BEGIN:VCALENDAR
VERSION:2.0
PRODID:-//Tarnowskie Centrum Informacji - ECPv6.13.2.1//NONSGML v1.0//EN
CALSCALE:GREGORIAN
METHOD:PUBLISH
X-WR-CALNAME:Tarnowskie Centrum Informacji
X-ORIGINAL-URL:https://www.it.tarnow.pl
X-WR-CALDESC:Wydarzenia z
REFRESH-INTERVAL;VALUE=DURATION:PT1H
X-Robots-Tag:noindex
X-PUBLISHED-TTL:PT1H
BEGIN:VTIMEZONE
TZID:Europe/Warsaw
BEGIN:DAYLIGHT
TZOFFSETFROM:+0100
TZOFFSETTO:+0200
TZNAME:CEST
DTSTART:20260329T010000
END:DAYLIGHT
BEGIN:STANDARD
TZOFFSETFROM:+0200
TZOFFSETTO:+0100
TZNAME:CET
DTSTART:20261025T010000
END:STANDARD
END:VTIMEZONE
BEGIN:VEVENT
DTSTART;TZID=Europe/Warsaw:20260426T180000
DTEND;TZID=Europe/Warsaw:20260426T190000
DTSTAMP:20260424T200239
CREATED:20260422T081511Z
LAST-MODIFIED:20260422T081511Z
UID:10043955-1777226400-1777230000@www.it.tarnow.pl
SUMMARY:Koncert Wielkanocny Gos.pl
DESCRIPTION:Koncert Wielkanocny odbędzie się 26 kwietnia (niedziela) o godz. 18:00 w kościele pw. Błogosławionej Karoliny w Tarnowie (dolny kościół).\nBędzie on podsumowaniem Tarnowskie Warsztaty Gospel – projektu finansowanego z Budżetu Miasta Tarnowa.
URL:https://www.it.tarnow.pl/wydarzenie/koncert-wielkanocny-gos-pl/
LOCATION:Kościoł bł. Karoliny\,  Pl. Ojca Świętego Jana Pawła II 1\, Tarnów\, małopolskie\, 33-100\, Polska
CATEGORIES:koncert
ATTACH;FMTTYPE=image/webp:https://www.it.tarnow.pl/wp-content/uploads/2026/04/678210633_1541299698004438_4408401598255195156_n.webp
GEO:50.0250335;21.0182124
X-APPLE-STRUCTURED-LOCATION;VALUE=URI;X-ADDRESS=Kościoł bł. Karoliny  Pl. Ojca Świętego Jana Pawła II 1 Tarnów małopolskie 33-100 Polska;X-APPLE-RADIUS=500;X-TITLE=Pl. Ojca Świętego Jana Pawła II 1:geo:21.0182124,50.0250335
END:VEVENT
END:VCALENDAR