BEGIN:VCALENDAR
VERSION:2.0
PRODID:-//Tarnowskie Centrum Informacji - ECPv6.13.2.1//NONSGML v1.0//EN
CALSCALE:GREGORIAN
METHOD:PUBLISH
X-WR-CALNAME:Tarnowskie Centrum Informacji
X-ORIGINAL-URL:https://www.it.tarnow.pl
X-WR-CALDESC:Wydarzenia z
REFRESH-INTERVAL;VALUE=DURATION:PT1H
X-Robots-Tag:noindex
X-PUBLISHED-TTL:PT1H
BEGIN:VTIMEZONE
TZID:Europe/Warsaw
BEGIN:DAYLIGHT
TZOFFSETFROM:+0100
TZOFFSETTO:+0200
TZNAME:CEST
DTSTART:20260329T010000
END:DAYLIGHT
BEGIN:STANDARD
TZOFFSETFROM:+0200
TZOFFSETTO:+0100
TZNAME:CET
DTSTART:20261025T010000
END:STANDARD
END:VTIMEZONE
BEGIN:VEVENT
DTSTART;TZID=Europe/Warsaw:20260215T100000
DTEND;TZID=Europe/Warsaw:20260215T150000
DTSTAMP:20260422T040608
CREATED:20260211T110333Z
LAST-MODIFIED:20260211T110333Z
UID:10042720-1771149600-1771167600@www.it.tarnow.pl
SUMMARY:Wystawa Broni na hali sportowej TOSiR
DESCRIPTION:15 lutego Tarnów stanie się miejscem spotkania pasjonatów strzelectwa\, nowoczesnych rozwiązań militarnych i sportowej precyzji. Wystawa Broni to wydarzenie dla tych\, którzy nie szukają atrakcji z katalogu\, ale realnych doświadczeń\, wiedzy i inspiracji.\nNa miejscu zobaczysz:\n– ekspozycję broni i wyposażenia strzeleckiego\n– prezentacje nowoczesnych rozwiązań i technologii\n– pokazy i strefy tematyczne związane ze strzelectwem sportowym i taktycznym\n– ludzi z doświadczeniem: zawodników\, instruktorów\, pasjonatów\n– Zajęcia strzeleckie dla dzieci: strzelnicę IPSC Action Air\nTo wydarzenie łączy sport\, pasję i profesjonalizm. Bez przypadkowości. Bez kompromisów.\nJeśli interesuje Cię strzelectwo\, technika\, rywalizacja i klimat prawdziwego zaplecza sportowo-taktycznego — to miejsce dla Ciebie.\nCzas: 15 lutego\, godz 10:00 – 15:00\nMiejsce: hala sportowa TOSiR\, ul Krupnicza 8a\nWstęp: Darmowy
URL:https://www.it.tarnow.pl/wydarzenie/wystawa-broni-na-hali-sportowej-tosir/
LOCATION:Hala TOSiR – ul. Krupnicza\, ul. Krupnicza 8a\, Tarnów\, małopolskie\, 33-100\, Polska
CATEGORIES:wydarzenia specjalne
ATTACH;FMTTYPE=image/jpeg:https://www.it.tarnow.pl/wp-content/uploads/2026/02/wystawa-broni-tosir.jpg
GEO:50.01587;20.9976518
X-APPLE-STRUCTURED-LOCATION;VALUE=URI;X-ADDRESS=Hala TOSiR – ul. Krupnicza ul. Krupnicza 8a Tarnów małopolskie 33-100 Polska;X-APPLE-RADIUS=500;X-TITLE=ul. Krupnicza 8a:geo:20.9976518,50.01587
END:VEVENT
BEGIN:VEVENT
DTSTART;TZID=Europe/Warsaw:20260201T110000
DTEND;TZID=Europe/Warsaw:20260201T160000
DTSTAMP:20260422T040608
CREATED:20260121T143043Z
LAST-MODIFIED:20260121T143043Z
UID:10042224-1769943600-1769961600@www.it.tarnow.pl
SUMMARY:EXOTICARIUM - Targi Terrarystyczne
DESCRIPTION:Już 1 lutego na Hali Sportowej TOSiR-u\, w godzinach 11:00 – 16:00 będą miały miejsce Targi Terrarystyczne! \nTargi Exoticarium to przede wszystkim: \nSetki gatunków zwierząt od najlepszych polskich i europejskich hodowców\, w tym unikatowe okazy z całego świata\, na co dzień trudno dostępne w Europie! Kompleksowe wyposażenie terrarium w atrakcyjnych cenach! Porady ekspertów – hodowcy z wieloletnim doświadczeniem podpowiedzą Ci we wszystkim\, czego potrzebujesz! \nBilety do nabycia na stronie: https://tiny.pl/kb6yk8qjx
URL:https://www.it.tarnow.pl/wydarzenie/exoticarium-targi-terrarystyczne/
LOCATION:Hala TOSiR – ul. Krupnicza\, ul. Krupnicza 8a\, Tarnów\, małopolskie\, 33-100\, Polska
CATEGORIES:festiwale
ATTACH;FMTTYPE=image/jpeg:https://www.it.tarnow.pl/wp-content/uploads/2026/01/targi-terrarystyczne.jpg
GEO:50.01587;20.9976518
X-APPLE-STRUCTURED-LOCATION;VALUE=URI;X-ADDRESS=Hala TOSiR – ul. Krupnicza ul. Krupnicza 8a Tarnów małopolskie 33-100 Polska;X-APPLE-RADIUS=500;X-TITLE=ul. Krupnicza 8a:geo:20.9976518,50.01587
END:VEVENT
END:VCALENDAR