BEGIN:VCALENDAR
VERSION:2.0
PRODID:-//Tarnowskie Centrum Informacji - ECPv6.13.2.1//NONSGML v1.0//EN
CALSCALE:GREGORIAN
METHOD:PUBLISH
X-ORIGINAL-URL:https://www.it.tarnow.pl
X-WR-CALDESC:Wydarzenia z
REFRESH-INTERVAL;VALUE=DURATION:PT1H
X-Robots-Tag:noindex
X-PUBLISHED-TTL:PT1H
BEGIN:VTIMEZONE
TZID:Europe/Warsaw
BEGIN:DAYLIGHT
TZOFFSETFROM:+0100
TZOFFSETTO:+0200
TZNAME:CEST
DTSTART:20260329T010000
END:DAYLIGHT
BEGIN:STANDARD
TZOFFSETFROM:+0200
TZOFFSETTO:+0100
TZNAME:CET
DTSTART:20261025T010000
END:STANDARD
END:VTIMEZONE
BEGIN:VEVENT
DTSTART;TZID=Europe/Warsaw:20260429T180000
DTEND;TZID=Europe/Warsaw:20260429T190000
DTSTAMP:20260425T191758
CREATED:20260424T094429Z
LAST-MODIFIED:20260424T094429Z
UID:10043960-1777485600-1777489200@www.it.tarnow.pl
SUMMARY:Tarnowska Liga Mistrzów
DESCRIPTION:Sebastian Curyło \nCzytelnia Czasopism. ul. Krakowska 4 (wejście od ulicy)\, 29 kwietnia (środa) 2026 r.\, godz. 18:00 \nW najbliższej „Tarnowskiej Lidze Mistrzów” będziemy „dzielili włos na czworo”. Prawie dosłownie\, bo naszym Gościem będzie jeden z najlepszych fryzjerów świata Sebastian Curyło. Sztuka fryzjerska jest dla niego nie tylko zawodem\, ale nade wszystko pasją. I ta pasja zaprowadziła go na szczyty umiejętności w swojej branży. Dowody? Statuetki i wyróżnienia zdobywane na najbardziej prestiżowych konkursach fryzjerskich\, szkolenia prowadzone niemal na całym świecie\, własna Akademia. I nade wszystko tytaniczna praca\, prowadząca do sukcesu.
URL:https://www.it.tarnow.pl/wydarzenie/tarnowska-liga-mistrzow/
LOCATION:Czytelnia Czasopism\, ul. Krakowska 4 (wejście od ulicy)
CATEGORIES:spotkania
ATTACH;FMTTYPE=image/svg+xml:https://www.it.tarnow.pl/wp-content/uploads/2026/04/curylo_komunikat.svg
END:VEVENT
END:VCALENDAR